Workbook
Name _: #N/A
Name ___CDT2: #REF!
Name ___CDT2: #REF!
Name ___CON135: #REF!
Name ___CON135: #REF!
Name ___CON210: #REF!
Name ___CON210: #REF!
Name ___CON240: #REF!
Name ___CON240: #REF!
Name ___ELL1: #REF!
Name ___ELL1: #REF!
Name ___ELL2: #REF!
Name ___ELL2: #REF!
Name ___HPP1: #REF!
Name ___HPP1: #REF!
Name ___HSH1: #REF!
Name ___HSH1: #REF!
Name ___HSH2: #REF!
Name ___HSH2: #REF!
Name ___IV69350: #REF!
Name ___IV69350: #REF!
Name ___IV70230: #REF!
Name ___IV70230: #REF!
Name ___IV90230: #REF!
Name ___IV90230: #REF!
Name ___iz1: #REF!
Name ___iz1: #REF!
Name ___JOI13: #REF!
Name ___JOI13: #REF!
Name ___jz1: #REF!
Name ___jz1: #REF!
Name ___kz1: #REF!
Name ___kz1: #REF!
Name ___Lg1: #REF!
Name ___Lg1: #REF!
Name ___Lg2: #REF!
Name ___Lg2: #REF!
Name ___LP1: #REF!
Name ___LP1: #REF!
Name ___LP2: #REF!
Name ___LP2: #REF!
Name ___Lw1: #REF!
Name ___Lw1: #REF!
Name ___Lw2: #REF!
Name ___Lw2: #REF!
Name ___mz1: #REF!
Name ___mz1: #REF!
Name ___NP1: #REF!
Name ___NP1: #REF!
Name ___NP2: #REF!
Name ___NP2: #REF!
Name ___NSH1: #REF!
Name ___NSH1: #REF!
Name ___NSH2: #REF!
Name ___NSH2: #REF!
Name ___nz1: #REF!
Name ___nz1: #REF!
Name ___PG1: #REF!
Name ___PG1: #REF!
Name ___PG2: #REF!

Sheet 예산서표지
A1: 사 장 | C1: 본부장 | E1: 팀 장 | F1: 김봉실 | G1: 설계자 | H1: 김봉실 | I1: 설계일 | J1: 2017년 1월
A3: 2017년도
A4: 예 산 서
A5: 거북선(통제영, 전라좌수영) 상가수리
B7: □ 공사개요
B9: ○ 공사명 : 거북선(통제영, 전라좌수영) 상가수리
B10: ○ 소재지 : 통영시 통영해안로 328 일원
B11: ○ 공사내용 : 통제영 및 전라좌수영거북선 상가수리
B15: □ 총 공 사 비 : 금62,821,000원(금육천이백팔십이만일천원)

Sheet 원가계산서 
A1: 원 가 계 산 서
A2: 공사명 : 군선(통제영, 전라좌수영) 상가수리
A3: 항 목 | D3: 금 액(원) | E3: 산 출 내 역 | F3: 비 고
A4: 순공사비 | B4: 재료비 | C4: 직접재료비 | D4: =공사비내역서!F28 -> 12108120
C5: 간접재료비
C6: ① 소계 | D6: =SUM(D4:D5) -> 12108120
B7: 노무비 | C7: 직접노무비 | D7: =공사비내역서!H28 -> 19125156
C8: 간접노무비 | D8: =INT(D7*9%) -> 1721264 | E8: 직접노무비의*9%
C9: ② 소계 | D9: =SUM(D7:D8) -> 20846420
B10: 경비 | C10: 산재보험료 | D10: =INT(D9*2.5%) -> 521160 | E10: 노무비*2.5%
C11: 고용보험료 | D11: =INT(D9*0.87%) -> 181363 | E11: 노무비*0.87%
C12: 안전관리비 | D12: =INT((D6+D9)*2.93%) -> 965568 | E12: (재료비+노무비)*2.93%
C13: 기계경비 | D13: =공사비내역서!J28 -> 14706320
C14: ③ 소계 | D14: =SUM(D10:D13) -> 16374411
A15: ④ 계 | D15: =(D6+D9+D14) -> 49328951
A16: ⑤ 일반관리비 | D16: =INT(D6+D9+D14)*6% -> 2959737.1 | E16: (① + ② + ③) X 6%
A17: ⑥ 이 윤 | D17: =TRUNC((D9+D14+D16)*0.12)-356 -> 4821312 | E17: (② + ③ + ⑤) X 12% -356 | F17: 단위조정 백단위 절사 (356원)
A18: ⑦ 합 계 | D18: =D15+D16+D17 -> 57110000
A19: ⑧ 부 가 세 | D19: =TRUNC(D18*10%) -> 5711000
A20: ⑨ 총 원 가 | D20: =D18+D19 -> 62821000

Sheet 공사비집계표
A1: 공사비집계표
A2: ='원가계산서 '!A2 -> 공사명 : 군선(통제영, 전라좌수영) 상가수리
A3: 품 명 | B3: 규 격 | C3: 단위 | D3: 수량 | E3: 재 료 비 | G3: 노 무 비 | I3: 경 비 | K3: 합 계
E4: 단 가 | F4: 금 액 | G4: 단 가 | H4: 금 액 | I4: 단 가 | J4: 금 액 | K4: 단 가 | L4: 금 액
A5: 거북선(FRP, 목재) | B5: 157 ton | C5: 척 | D5: 2 | F5: =공사비내역서!F28 -> 12108120 | H5: =공사비내역서!H28 -> 19125156 | J5: =공사비내역서!J28 -> 14706320 | L5: =공사비내역서!L28 -> 45939596
A17: 계 | F17: =F5 -> 12108120 | H17: =H5 -> 19125156 | J17: =J5 -> 14706320 | L17: =L5 -> 45939596

Sheet 공사비내역서
A1: 공사비내역서
A2: ='원가계산서 '!A2 -> 공사명 : 군선(통제영, 전라좌수영) 상가수리
A3: 품 명 | B3: 규 격 | C3: 단위 | D3: 수량 | E3: 재 료 비 | G3: 노 무 비 | I3: 경 비 | K3: 합 계
E4: 단 가 | F4: 금 액 | G4: 단 가 | H4: 금 액 | I4: 단 가 | J4: 금 액 | K4: 단 가 | L4: 금 액
A5: 선박 상,하가료 | B5: 157톤 | C5: 식 | D5: 2 | I5: 7217000 | J5: =INT(D5*I5) -> 14434000 | L5: =F5+H5+J5 -> 14434000
A6: 선저 세척 | B6: 습식 | C6: M2 | D6: =수량산출서!E6+수량산출서!E28 -> 441.24 | E6: =일위대가표!F9 -> 169 | F6: =INT(D6*E6) -> 74569 | G6: =일위대가표!H9 -> 5642 | H6: =INT(D6*G6) -> 2489476 | L6: =F6+H6+J6 -> 2564045
A7: AF 페인트 | B7: " | C7: L | D7: =(수량산출서!E7+수량산출서!E29)*0.5 -> 110.31 | E7: =자재단가표!J5 -> 30400 | F7: =INT(D7*E7) -> 3353424 | L7: =F7+H7+J7 -> 3353424
A8: 신너 | B8: " | C8: L | D8: =(수량산출서!E8+수량산출서!E30)*0.19 -> 15.928764 | E8: =자재단가표!J6 -> 3600 | F8: =INT(D8*E8) -> 57343 | L8: =F8+H8+J8 -> 57343
A9: AF 도장 | B9: 중방식 | C9: M2 | D9: =수량산출서!E9+수량산출서!E31 -> 441.24 | E9: =일위대가표!F14 -> 90 | F9: =INT(D9*E9) -> 39711 | G9: =일위대가표!H14 -> 9065 | H9: =INT(D9*G9) -> 3999840 | L9: =F9+H9+J9 -> 4039551
A10: 오일스테인 | B10: 2회 | C10: L | D10: =수량산출서!E10+수량산출서!E32 -> 114.354 | E10: =자재단가표!J7 -> 6766 | F10: =INT(D10*E10) -> 773719 | L10: =F10+H10+J10 -> 773719
A11: 선측 외판도색 | B11: 2회 기준 | C11: M2 | D11: =수량산출서!E11+수량산출서!E33 -> 773.16 | E11: =일위대가표!F22 -> 48 | F11: =INT(D11*E11) -> 37111 | G11: =일위대가표!H22 -> 6773 | H11: =INT(D11*G11) -> 5236612 | L11: =F11+H11+J11 -> 5273723
A12: 실리콘 | B12: 300ml | C12: ea | D12: =수량산출서!E12+수량산출서!E34 -> 70 | E12: =자재단가표!J8 -> 5000 | F12: =INT(D12*E12) -> 350000 | L12: =F12+H12+J12 -> 350000
A13: 수밀코킹 | B13: 실리콘 | C13: M | D13: =수량산출서!E13+수량산출서!E35 -> 210.8 | G13: =일위대가표!H25 -> 4038 | H13: =INT(D13*G13) -> 851210 | L13: =F13+H13+J13 -> 851210
A14: 방수층 보호재 깔기 | B14: PE 필름 | C14: M2 | D14: =수량산출서!E14+수량산출서!E36 -> 2 | E14: =자재단가표!J9 -> 37100 | F14: =INT(D14*E14) -> 74200 | G14: =일위대가표!H29 -> 2235 | H14: =INT(D14*G14) -> 4470 | L14: =F14+H14+J14 -> 78670
A15: 바탕처리 | B15: 면정리 | C15: M2 | D15: =(수량산출서!E16+수량산출서!E38)/3 -> 46.666667 | E15: =일위대가표!F34 -> 242 | F15: =INT(D15*E15) -> 11293 | G15: =일위대가표!H34 -> 8097 | H15: =INT(D15*G15) -> 377860 | L15: =F15+H15+J15 -> 389153
A16: FRP 프라이머 | B16: 선박용 | C16: KG | D16: =수량산출서!E15+수량산출서!E37 -> 32 | E16: =자재단가표!J10 -> 4100 | F16: =INT(D16*E16) -> 131200 | L16: =F16+H16+J16 -> 131200
A17: 프라이머 바름 | B17: 1회기준 | C17: M2 | D17: =수량산출서!E16+수량산출서!E38 -> 140 | G17: =일위대가표!H38 -> 2235 | H17: =INT(D17*G17) -> 312900 | L17: =F17+H17+J17 -> 312900
A18: FRP 유리섬유 도포 | B18: 방수용 | C18: M2 | D18: =D17 -> 140 | E18: =일위대가표!F44 -> 19613 | F18: =INT(D18*E18) -> 2745820 | G18: =일위대가표!H44 -> 13777 | H18: =INT(D18*G18) -> 1928780 | L18: =F18+H18+J18 -> 4674600
A19: 용두 페인트 | B19: 적색 | C19: L | D19: =수량산출서!E17+수량산출서!E39 -> 8 | E19: =일위대가표!F51 -> 489 | F19: =INT(D19*E19) -> 3912 | G19: =일위대가표!H51 -> 3894 | H19: =INT(D19*G19) -> 31152 | L19: =F19+H19+J19 -> 35064
A20: " | B20: 갈색 | C20: L | D20: =수량산출서!E18+수량산출서!E40 -> 14 | E20: =일위대가표!F51 -> 489 | F20: =INT(D20*E20) -> 6846 | G20: =일위대가표!H51 -> 3894 | H20: =INT(D20*G20) -> 54516 | L20: =F20+H20+J20 -> 61362
A21: " | B21: 흑색 | C21: L | D21: =수량산출서!E19+수량산출서!E41 -> 8 | E21: =일위대가표!F51 -> 489 | F21: =INT(D21*E21) -> 3912 | G21: =일위대가표!H51 -> 3894 | H21: =INT(D21*G21) -> 31152 | L21: =F21+H21+J21 -> 35064
A22: 붓 | B22: 각종 | C22: ea | D22: =수량산출서!E20+수량산출서!E42 -> 20 | E22: =자재단가표!J16 -> 1300 | F22: =INT(D22*E22) -> 26000 | L22: =F22+H22+J22 -> 26000
A23: 조합용 신너 | B23: 2종 | C23: L | D23: =수량산출서!E21+수량산출서!E43 -> 2.4 | E23: =자재단가표!J15 -> 3583 | F23: =INT(D23*E23) -> 8599 | L23: =F23+H23+J23 -> 8599
A24: 용두 도색 | B24: 문양 | C24: M2 | D24: =수량산출서!E22+수량산출서!E44 -> 36 | E24: =일위대가표!F58 -> 3579 | F24: =INT(D24*E24) -> 128844 | G24: =일위대가표!H58 -> 8596 | H24: =INT(D24*G24) -> 309456 | L24: =F24+H24+J24 -> 438300
A25: 에폭시 페인트 | B25: 갈색 | C25: L | D25: =수량산출서!E23+수량산출서!E45 -> 164.83 | E25: =자재단가표!J17 -> 17633 | F25: =INT(D25*E25) -> 2906447 | L25: =F25+H25+J25 -> 2906447
A26: 개판 및 덮게 도색 | B26: 에폭시 | C26: M2 | D26: =수량산출서!E24+수량산출서!E46 -> 311.9 | E26: =일위대가표!F58 -> 3579 | F26: =INT(D26*E26) -> 1116290 | G26: =일위대가표!H58 -> 8596 | H26: =INT(D26*G26) -> 2681092 | L26: =F26+H26+J26 -> 3797382
A27: 카고크레인 | B27: 5 ton | C27: h | D27: =수량산출서!E25+수량산출서!E47 -> 32 | E27: =일위대가표!F64 -> 8090 | F27: =INT(D27*E27) -> 258880 | G27: =일위대가표!H64 -> 25520 | H27: =INT(D27*G27) -> 816640 | I27: =일위대가표!J64 -> 8510 | J27: =INT(D27*I27) -> 272320 | L27: =F27+H27+J27 -> 1347840
A28: 계 | F28: =SUM(F5:F27) -> 12108120 | H28: =SUM(H5:H27) -> 19125156 | J28: =SUM(J5:J27) -> 14706320 | L28: =SUM(L5:L27) -> 45939596

Sheet 일위대가표
A1: 일위대가표
A2: ='원가계산서 '!A2 -> 공사명 : 군선(통제영, 전라좌수영) 상가수리
A3: 품 명 | B3: 규 격 | C3: 단 위 | D3: 수 량 | E3: 재료비 | G3: 노무비 | I3: 경 비 | K3: 합 계
E4: 단 가 | F4: 금 액 | G4: 단 가 | H4: 금 액 | I4: 단 가 | J4: 금 액 | K4: 단 가 | L4: 금 액
A5: 제 1호표 습식세척(1회) 오염도 10% ㎡
A6: 공구손료 | B6: 인력품의 3% | C6: 식 | D6: 1 | F6: 169.2 | L6: 169
A7: 세척공 | C7: 인 | D7: 0.08
A8: 조력공 | C8: 인 | D8: 0.05 | G8: 112847 | H8: 5642.3 | K8: 112847 | L8: 5642
A9: 합 계 | F9: 169 | H9: 5642 | J9: 0 | L9: 5811
A10: 제 2호표 무늬코트 벽체 ㎡
A11: 공구손료 및 경장비 기계경비 | B11: 인력품의 1% | C11: 식 | D11: 1 | F11: 90.6 | L11: 90
A12: 도장공 | C12: 인 | D12: 0.056 | G12: 141733 | H12: 7937 | K12: 141733 | L12: 7937
A13: 보통인부 | C13: 인 | D13: 0.011 | G13: 102628 | H13: 1128.9 | K13: 102628 | L13: 1128
A14: 합계 | F14: 90 | H14: 9065 | J14: 0 | L14: 9155
A15: 제 3호표 오일스테인(목재면) 2회칠 ㎡
A16: 오일스테인 | C16: kg | D16: 0.15
A17: 시너 | C17: L | D17: 0.018 | E17: 2344 | F17: 42.1 | K17: 2344 | L17: 42
A18: 퍼티 | C18: kg | D18: 0.006 | E18: 716 | F18: 4.2 | K18: 716 | L18: 4
A19: 잡재료비(가솔린, 넝마) | B19: 주재료(오일스테인. 시너)의 6% | C19: 식 | D19: 1 | F19: 2.5 | L19: 2
A20: 도장공 | C20: 인 | D20: 0.042 | G20: 141733 | H20: 5952.7 | K20: 141733 | L20: 5952
A21: 보통인부 | C21: 인 | D21: 0.008 | G21: 102628 | H21: 821 | K21: 102628 | L21: 821
A22: 합계 | F22: 48 | H22: 6773 | J22: 0 | L22: 6821
A23: 제 4호표 수밀코킹 1㎝ 각 m
A24: 코킹공 | C24: 인 | D24: 0.03 | G24: 134606 | H24: 4038.1 | K24: 134606 | L24: 4038
A25: 합계 | F25: 0 | H25: 4038 | J25: 0 | L25: 4038
A26: 제 5호표 방수층 보호재 깔기 - ㎡
A27: 방수공 | C27: 인 | D27: 0.01 | G27: 120907 | H27: 1209 | K27: 120907 | L27: 1209
A28: 보통인부 | C28: 인 | D28: 0.01 | G28: 102628 | H28: 1026.2 | K28: 102628 | L28: 1026
A29: 합 계 | F29: 0 | H29: 2235 | J29: 0 | L29: 2235
A30: 제 6호표 바탕처리 - ㎡
A31: 방수공 | C31: 인 | D31: 0.05 | G31: 120907 | H31: 6045.3 | K31: 120907 | L31: 6045
A32: 보통인부 | C32: 인 | D32: 0.02 | G32: 102628 | H32: 2052.5 | K32: 102628 | L32: 2052
A33: 공구손료 | B33: 노무비 3% | C33: 식 | D33: 1 | F33: 242.9 | L33: 242
A34: 합 계 | F34: 242 | H34: 8097 | J34: 0 | L34: 8339
A35: 제 7호표 프라이머 바름 - ㎡
A36: 방수공 | C36: 인 | D36: 0.01 | G36: 120907 | H36: 1209 | K36: 120907 | L36: 1209
A37: 보통인부 | C37: 인 | D37: 0.01 | G37: 102628 | H37: 1026.2 | K37: 102628 | L37: 1026
A38: 합 계 | F38: 0 | H38: 2235 | J38: 0 | L38: 2235
A39: 제 8호표 개량 아스팔트 시트 수직부 및 특수한 경우 ㎡
A40: 시트 | B40: 2.5㎜×1.0m | C40: ㎡ | D40: 1.2 | E40: 16000 | F40: 19200 | K40: 16000 | L40: 19200
...

Sheet 수량산출서
A1: 수량산출서
A2: ='원가계산서 '!A2:F2 -> 공사명 : 군선(통제영, 전라좌수영) 상가수리
A3: 항목 | B3: 규 격 | C3: 산 출 근 거 | D3: 단위 | E3: 수량 | F3: 비고
A4: 전라좌수영거북선 | B4: 157톤
A5: 상가료 | B5: 3일기준 | C5: 1*1 | D5: ea | E5: 1
A6: 세척 | B6: 습식 | C6: (25.7x5.1)+(25.7x1.5)x2+(5.1*1.5)+(3.2*1.5) | D6: M2 | E6: =(25.7*5.1)+(25.7*1.5)*2+(5.1*1.5)+(3.2*1.5) -> 220.62
A7: AF 페인트 | B7: " | C7: 220.62*0.5 | D7: L | E7: =220.62*0.5 -> 110.31
A8: AF 신너 | B8: " | C8: 220.62*0.19 | D8: L | E8: =220.62*0.19 -> 41.9178
A9: AF 도장 | B9: 중방식 | C9: (25.7x5.1)+(25.7x1.5)x2+(5.1*1.5)+(3.2*1.5) | D9: M2 | E9: =(25.7*5.1)+(25.7*1.5)*2+(5.1*1.5)+(3.2*1.5) -> 220.62
A10: 오일스테인 | B10: 갈색 | C10: 381.18*0.15 | D10: L | E10: =381.18*0.15 -> 57.177
A11: 상갑판, 외판 도색 | B11: 2회 기준 | C11: (27x9.7)+((27x1.6)+(27x0.3))x2+(9.6x3.4)x2 | D11: M2 | E11: =(27*9.7)+(27*1.6)+(27*0.3)*2+(9.6*3.4)*2 -> 386.58
A12: 실리콘 | B12: 방수용 | C12: 105/3 | D12: ea | E12: =105/3 -> 35
A13: 코킹 | B13: 300ml | C13: 25.7+25.7+27+27 | D13: M | E13: =(25.7*2)+27+27 -> 105.4
A14: pe 필름 | B14: 0.03*50*457 | C14: 1*1 | D14: R/L | E14: 1
A15: FRP 프라이머 | B15: 선박용 | C15: 16*1 | D15: kg | E15: =16*1 -> 16
A16: 용두, 개판덮게 FRP | B16: 방수용 | C16: (2x2.5)x3x3+(25x1) | D16: M2 | E16: =(2*2.5)*3*3+(25*1) -> 70
A17: 용두 페인트 | B17: 적색 | C17: 4x1 | D17: L | E17: 4
A18: " | B18: 갈색 | C18: 8x1 | D18: L | E18: 8
A19: " | B19: 흑색 | C19: 4x1 | D19: L | E19: 4
A20: 붓 | B20: 각종 | C20: 5x2 | D20: ea | E20: =5*2 -> 10
A21: 조합용 신너 | B21: 2종 | C21: 16*0.08 | D21: L | E21: =16*0.08 -> 1.28
A22: 용두 도색 | B22: 문양도색 | C22: (2x2.5)x4 | D22: M2 | E22: =(2*2.5)*4 -> 20
A23: 에폭시페인트 | B23: 갈색 | C23: 25X0.53 | D23: L | E23: =25*0.53 -> 13.25
A24: 개판 덮게 도색 | B24: 에폭시 | C24: 25x1 | D24: M2 | E24: =25*1 -> 25
A25: 5톤 카고크레인 | B25: 8h/일 | C25: 8*2 | D25: h | E25: =8*2 -> 16
A26: 통제영거북선 | B26: 157톤
A27: 상가료 | B27: 3일기준 | C27: 1*1 | D27: ea | E27: 1
A28: 세척 | B28: 습식 | C28: (25.7x5.1)+(25.7x1.5)x2+(5.1*1.5)+(3.2*1.5) | D28: M2 | E28: =(25.7*5.1)+(25.7*1.5)*2+(5.1*1.5)+(3.2*1.5) -> 220.62
A29: AF 페인트 | B29: " | C29: 220.62*0.5 | D29: L | E29: =220.62*0.5 -> 110.31
A30: AF 신너 | B30: " | C30: 220.62*0.19 | D30: L | E30: =220.62*0.19 -> 41.9178
A31: AF 도장 | B31: 중방식 | C31: (25.7x5.1)+(25.7x1.5)x2+(5.1*1.5)+(3.2*1.5) | D31: M2 | E31: =(25.7*5.1)+(25.7*1.5)*2+(5.1*1.5)+(3.2*1.5) -> 220.62
A32: 오일스테인 | B32: 갈색 | C32: 381.18*0.15 | D32: L | E32: =381.18*0.15 -> 57.177
A33: 선측 외판도색 | B33: 2회 기준 | C33: (27x9.7)+((27x1.6)+(27x0.3))x2+(9.6x3.4)x2 | D33: M2 | E33: =(27*9.7)+(27*1.6)+(27*0.3)*2+(9.6*3.4)*2 -> 386.58
A34: 실리콘 | B34: 방수용 | C34: 105/3 | D34: ea | E34: =105/3 -> 35
A35: 코킹 | B35: 300ml | C35: 25.7+25.7+27+27 | D35: M | E35: =(25.7*2)+27+27 -> 105.4
A36: pe 필름 | B36: 0.03*50*457 | C36: 1*1 | D36: R/L | E36: 1
A37: FRP 프라이머 | B37: 선박용 | C37: 16*1 | D37: kg | E37: =16*1 -> 16
A38: 용두, 개판덮게 FRP | B38: 방수용 | C38: (2x2.5)x3x3+(25x1) | D38: M2 | E38: =(2*2.5)*3*3+(25*1) -> 70
A39: 용두 페인트 | B39: 적색 | C39: 4x1 | D39: L | E39: 4
A40: " | B40: 갈색 | C40: 6x1 | D40: L | E40: 6
...

Sheet 자재단가표
A1: 자재단가표
A2: ='원가계산서 '!A2 -> 공사명 : 군선(통제영, 전라좌수영) 상가수리
A3: 품 명 | B3: 규 격 | C3: 수량 | D3: 단위 | E3: 물가정보 | G3: 시장단가 | I3: 적용단가 | K3: 비 고
E4: page | F4: 금 액 | G4: page | H4: 금 액 | I4: page | J4: 금 액
A5: AF 페인트 | B5: 중방식 | C5: 1 | D5: L | E5: 266 | F5: 30400 | I5: 266 | J5: 30400
A6: AF 신너 | B6: " | C6: 1 | D6: L | E6: 265 | F6: 3600 | I6: 265 | J6: 3600
A7: 오일스테인 | C7: 1 | D7: L | E7: 258 | F7: 6766 | I7: 258 | J7: 6766
A8: 방수전용실리콘 | B8: 300ml | C8: 1 | D8: ea | E8: 236 | F8: 5000 | I8: 236 | J8: 5000
A9: pe 필름 | B9: 0.03*50*457 | C9: 1 | D9: R/L | E9: 954 | F9: 37100 | I9: 954 | J9: 37100
A10: FRP 프라이머 | B10: 선박용 | C10: 1 | D10: kg | E10: 878 | F10: 4100 | I10: 878 | J10: 4100
A11: FRP 유리섬유 | B11: 방수용 | C11: 1 | D11: M2 | E11: 677 | F11: 15000 | I11: 677 | J11: 15000
A12: 용두 페인트 | B12: 적색 | C12: 1 | D12: L | E12: 257 | F12: 5980 | I12: 257 | J12: 5980
A13: " | B13: 갈색 | C13: 1 | D13: L | E13: 257 | F13: 5722 | I13: 257 | J13: 5722
A14: " | B14: 흑색 | C14: 1 | D14: L | E14: 257 | F14: 4858 | I14: 257 | J14: 4858
A15: 조합용 신너 | B15: 2종 | C15: 1 | D15: L | E15: 257 | F15: 3583 | I15: 257 | J15: 3583
A16: 붓 | B16: 각종 | C16: 1 | D16: ea | E16: 607 | F16: 1300 | I16: 607 | J16: 1300
A17: 우레탄 페인트+경화제 | B17: 목재용 | C17: 1 | D17: L | E17: 280 | F17: 17633 | I17: 280 | J17: 17633
