Workbook

Sheet 공종별집계표
A1: 공 종 별 집 계 표
A2: [ 통영시 케이블카 상부역사 전망대 설치공사 ]
A3: 품 명 | B3: 규 격 | C3: 단위 | D3: 수량 | E3: 재 료 비 | G3: 노 무 비 | I3: 경 비 | K3: 합 계 | M3: 비 고 | N3: 공종코드 | O3: 변수 | P3: 상위공종 | Q3: 공종구분 | R3: 공종레벨 | S3: 공종소계 | T3: 원가계산서 연결금액
E4: 단 가 | F4: 금 액 | G4: 단 가 | H4: 금 액 | I4: 단 가 | J4: 금 액 | K4: 단 가 | L4: 금 액
A5: 01 통영시 케이블카 상부역사 전망대 설치공사 | D5: 1 | E5: =F6 -> 114117131 | F5: =E5*D5 -> 114117131 | G5: =H6 -> 178966846 | H5: =G5*D5 -> 178966846 | I5: =J6 -> 2616998 | J5: =I5*D5 -> 2616998 | K5: =E5+G5+I5 -> 295700975 | L5: =F5+H5+J5 -> 295700975 | N5: 01 | R5: 1 | S5: <
A6: 0101 상부역사 건축공사 | D6: 1 | E6: =F7+F8+F9+F10+F11+F12 -> 114117131 | F6: =E6*D6 -> 114117131 | G6: =H7+H8+H9+H10+H11+H12 -> 178966846 | H6: =G6*D6 -> 178966846 | I6: =J7+J8+J9+J10+J11+J12 -> 2616998 | J6: =I6*D6 -> 2616998 | K6: =E6+G6+I6 -> 295700975 | L6: =F6+H6+J6 -> 295700975 | N6: 0101 | P6: 01 | R6: 2 | S6: <
A7: 010101 가 설 공 사 | D7: 1 | E7: =공종별내역서!F29 -> 10105347 | F7: =E7*D7 -> 10105347 | G7: =공종별내역서!H29 -> 86557568 | H7: =G7*D7 -> 86557568 | I7: =공종별내역서!J29 -> 1275362 | J7: =I7*D7 -> 1275362 | K7: =E7+G7+I7 -> 97938277 | L7: =F7+H7+J7 -> 97938277 | N7: 010101 | P7: 0101 | R7: 3
A8: 010102 철근콘크리트공사 | D8: 1 | E8: =공종별내역서!F55 -> 19768962 | F8: =E8*D8 -> 19768962 | G8: =공종별내역서!H55 -> 6997998 | H8: =G8*D8 -> 6997998 | I8: =공종별내역서!J55 -> 44238 | J8: =I8*D8 -> 44238 | K8: =E8+G8+I8 -> 26811198 | L8: =F8+H8+J8 -> 26811198 | N8: 010102 | P8: 0101 | R8: 3
A9: 010103 철 골 공 사 | D9: 1 | E9: =공종별내역서!F81 -> 11828845 | F9: =E9*D9 -> 11828845 | G9: =공종별내역서!H81 -> 9864757 | H9: =G9*D9 -> 9864757 | I9: =공종별내역서!J81 -> 1245443 | J9: =I9*D9 -> 1245443 | K9: =E9+G9+I9 -> 22939045 | L9: =F9+H9+J9 -> 22939045 | N9: 010103 | P9: 0101 | R9: 3
A10: 010104 지 붕 공 사 | D10: 1 | E10: =공종별내역서!F107 -> 66562926 | F10: =E10*D10 -> 66562926 | G10: =공종별내역서!H107 -> 16020845 | H10: =G10*D10 -> 16020845 | I10: =공종별내역서!J107 -> 48936 | J10: =I10*D10 -> 48936 | K10: =E10+G10+I10 -> 82632707 | L10: =F10+H10+J10 -> 82632707 | N10: 010104 | P10: 0101 | R10: 3
A11: 010105 칠 공 사 | D11: 1 | E11: =공종별내역서!F133 -> 6562165 | F11: =E11*D11 -> 6562165 | G11: =공종별내역서!H133 -> 52549598 | H11: =G11*D11 -> 52549598 | I11: =공종별내역서!J133 -> 0 | J11: =I11*D11 -> 0 | K11: =E11+G11+I11 -> 59111763 | L11: =F11+H11+J11 -> 59111763 | N11: 010105 | P11: 0101 | R11: 3
A12: 010106 철 거 공 사 | D12: 1 | E12: =공종별내역서!F159 -> -711114 | F12: =E12*D12 -> -711114 | G12: =공종별내역서!H159 -> 6976080 | H12: =G12*D12 -> 6976080 | I12: =공종별내역서!J159 -> 3019 | J12: =I12*D12 -> 3019 | K12: =E12+G12+I12 -> 6267985 | L12: =F12+H12+J12 -> 6267985 | N12: 010106 | P12: 0101 | R12: 3 | S12: <
A13: 010107 관급자설치관급대 | D13: 1 | E13: =공종별내역서!F185 -> 12687300 | F13: =E13*D13 -> 12687300 | G13: =공종별내역서!H185 -> 0 | H13: =G13*D13 -> 0 | I13: =공종별내역서!J185 -> 0 | J13: =I13*D13 -> 0 | K13: =E13+G13+I13 -> 12687300 | L13: =F13+H13+J13 -> 12687300 | N13: 010107 | Q13: 4 | R13: 3 | T13: =L13*1 -> 12687300
A14: 010108 건설폐기물처리비 | D14: 1 | E14: =공종별내역서!F211 -> 0 | F14: =E14*D14 -> 0 | G14: =공종별내역서!H211 -> 0 | H14: =G14*D14 -> 0 | I14: =공종별내역서!J211 -> 1477926 | J14: =I14*D14 -> 1477926 | K14: =E14+G14+I14 -> 1477926 | L14: =F14+H14+J14 -> 1477926 | N14: 010108 | Q14: 8 | R14: 3 | T14: =L14*1 -> 1477926
A15: 010109 재자운반비(헬기) | D15: 1 | E15: =공종별내역서!F237 -> 0 | F15: =E15*D15 -> 0 | G15: =공종별내역서!H237 -> 0 | H15: =G15*D15 -> 0 | I15: =공종별내역서!J237 -> 52637200 | J15: =I15*D15 -> 52637200 | K15: =E15+G15+I15 -> 52637200 | L15: =F15+H15+J15 -> 52637200 | N15: 010109 | Q15: 9 | R15: 3 | T15: =L15*1 -> 52637200
A29: [ 합 계 ] | F29: =F5 -> 114117131 | H29: =H5 -> 178966846 | J29: =J5 -> 2616998 | L29: =L5 -> 295700975

Sheet 공종별내역서
A1: [ 통영시 케이블카 상부역사 전망대 설치공사 ]
A2: 품 명 | B2: 규 격 | C2: 단위 | D2: 수량 | E2: 재 료 비 | G2: 노 무 비 | I2: 경 비 | K2: 합 계 | M2: 비 고 | N2: 품목코드 | O2: 변수 | P2: 설정 | Q2: 공종코드 | R2: 일위 | S2: 단산 | T2: 자재 | U2: 손료적용 | V2: 손료저장 | W2: 적용율 | X2: JUK1 | Y2: JUK2 | Z2: JUK3 | AA2: JUK4 | AB2: JUK5 | AC2: JUK6 | AD2: JUK7 | AE2: JUK8 | AF2: JUK9 | AG2: JUK10 | AH2: JUK11 | AI2: JUK12 | AJ2: JUK13 | AK2: JUK14 | AL2: JUK15 | AM2: JUK16 | AN2: JUK17 | AO2: JUK18 | AP2: JUK19 | AQ2: JUK20 | AR2: 자재구분 | AS2: 공종구분 | AT2: 공종레벨 | AU2: 공종+자재 | AV2: 고유번호
E3: 단 가 | F3: 금 액 | G3: 단 가 | H3: 금 액 | I3: 단 가 | J3: 금 액 | K3: 단 가 | L3: 금 액
A4: 010101 가 설 공 사 | Q4: 010101
A5: 강관비계매기/쌍줄 10m이하 | B5: 3개월(발판 유) | C5: ㎡ | D5: 1812 | E5: =TRUNC(일위대가목록!E4,0) -> 1242 | F5: =TRUNC(E5*D5, 0) -> 2250504 | G5: =TRUNC(일위대가목록!F4,0) -> 14378 | H5: =TRUNC(G5*D5, 0) -> 26052936 | I5: =TRUNC(일위대가목록!G4,0) -> 287 | J5: =TRUNC(I5*D5, 0) -> 520044 | K5: =TRUNC(E5+G5+I5, 0) -> 15907 | L5: =TRUNC(F5+H5+J5, 0) -> 28823484 | M5: 호표 1 | N5: 5396833A07ACC75A6193ED21999D29 | Q5: 010101 | R5: T | S5: F | T5: F | AU5: 0101015396833A07ACC75A6193ED21999D29 | AV5: 4
A6: 강관비계매기/쌍줄 10m초과~20m이하 | B6: 3개월(발판 유) | C6: ㎡ | D6: 1676.3 | E6: =TRUNC(일위대가목록!E5,0) -> 1242 | F6: =TRUNC(E6*D6, 0) -> 2081964 | G6: =TRUNC(일위대가목록!F5,0) -> 16719 | H6: =TRUNC(G6*D6, 0) -> 28026059 | I6: =TRUNC(일위대가목록!G5,0) -> 334 | J6: =TRUNC(I6*D6, 0) -> 559884 | K6: =TRUNC(E6+G6+I6, 0) -> 18295 | L6: =TRUNC(F6+H6+J6, 0) -> 30667907 | M6: 호표 2 | N6: 5396833A07ACC75A6193ED219AA372 | Q6: 010101 | R6: T | S6: F | T6: F | AU6: 0101015396833A07ACC75A6193ED219AA372 | AV6: 5
A7: 강관비계매기/쌍줄 20m초과~30m이하 | B7: 3개월(발판 유) | C7: ㎡ | D7: 514.3 | E7: =TRUNC(일위대가목록!E6,0) -> 1242 | F7: =TRUNC(E7*D7, 0) -> 638760 | G7: =TRUNC(일위대가목록!F6,0) -> 19061 | H7: =TRUNC(G7*D7, 0) -> 9803072 | I7: =TRUNC(일위대가목록!G6,0) -> 380 | J7: =TRUNC(I7*D7, 0) -> 195434 | K7: =TRUNC(E7+G7+I7, 0) -> 20683 | L7: =TRUNC(F7+H7+J7, 0) -> 10637266 | M7: 호표 3 | N7: 5396833A07ACC75A6193ED219B4AFC | Q7: 010101 | R7: T | S7: F | T7: F | AU7: 0101015396833A07ACC75A6193ED219B4AFC | AV7: 6
A8: 내부수평비계(틀비계) | B8: H=8.0M(발판 유) | C8: M2 | D8: 307.4 | E8: =TRUNC(일위대가목록!E7,0) -> 6511 | F8: =TRUNC(E8*D8, 0) -> 2001481 | G8: =TRUNC(일위대가목록!F7,0) -> 24070 | H8: =TRUNC(G8*D8, 0) -> 7399118 | I8: =TRUNC(일위대가목록!G7,0) -> 0 | J8: =TRUNC(I8*D8, 0) -> 0 | K8: =TRUNC(E8+G8+I8, 0) -> 30581 | L8: =TRUNC(F8+H8+J8, 0) -> 9400599 | M8: 호표 4 | N8: 5396833A07ACC75A6181D5210232B7 | Q8: 010101 | R8: T | S8: F | T8: F | AU8: 0101015396833A07ACC75A6181D5210232B7 | AV8: 7
A9: 내부수평비계(틀비계) | B9: H=10.0M(발판 유) | C9: M2 | D9: 256.2 | E9: =TRUNC(일위대가목록!E8,0) -> 7830 | F9: =TRUNC(E9*D9, 0) -> 2006046 | G9: =TRUNC(일위대가목록!F8,0) -> 30088 | H9: =TRUNC(G9*D9, 0) -> 7708545 | I9: =TRUNC(일위대가목록!G8,0) -> 0 | J9: =TRUNC(I9*D9, 0) -> 0 | K9: =TRUNC(E9+G9+I9, 0) -> 37918 | L9: =TRUNC(F9+H9+J9, 0) -> 9714591 | M9: 호표 5 | N9: 5396833A07ACC75A6181D5210232B4 | Q9: 010101 | R9: T | S9: F | T9: F | AU9: 0101015396833A07ACC75A6181D5210232B4 | AV9: 8
A10: 내부수평비계(틀비계) | B10: H=20.0M(발판 유) | C10: M2 | D10: 78.1 | E10: =TRUNC(일위대가목록!E9,0) -> 14425 | F10: =TRUNC(E10*D10, 0) -> 1126592 | G10: =TRUNC(일위대가목록!F9,0) -> 71883 | H10: =TRUNC(G10*D10, 0) -> 5614062 | I10: =TRUNC(일위대가목록!G9,0) -> 0 | J10: =TRUNC(I10*D10, 0) -> 0 | K10: =TRUNC(E10+G10+I10, 0) -> 86308 | L10: =TRUNC(F10+H10+J10, 0) -> 6740654 | M10: 호표 6 | N10: 5396833A07ACC75A6181D5210232B5 | Q10: 010101 | R10: T | S10: F | T10: F | AU10: 0101015396833A07ACC75A6181D5210232B5 | AV10: 9
A11: 건축물현장정리 | B11: 철골조 | C11: M2 | D11: 272 | E11: =TRUNC(일위대가목록!E10,0) -> 0 | F11: =TRUNC(E11*D11, 0) -> 0 | G11: =TRUNC(일위대가목록!F10,0) -> 7183 | H11: =TRUNC(G11*D11, 0) -> 1953776 | I11: =TRUNC(일위대가목록!G10,0) -> 0 | J11: =TRUNC(I11*D11, 0) -> 0 | K11: =TRUNC(E11+G11+I11, 0) -> 7183 | L11: =TRUNC(F11+H11+J11, 0) -> 1953776 | M11: 호표 7 | N11: 5396833F071010366C0BE72B317646 | Q11: 010101 | R11: T | S11: F | T11: F | AU11: 0101015396833F071010366C0BE72B317646 | AV11: 11
A29: [ 합 계 ] | F29: =SUM(F5:F28) -> 10105347 | H29: =SUM(H5:H28) -> 86557568 | J29: =SUM(J5:J28) -> 1275362 | L29: =SUM(L5:L28) -> 97938277 | N29: TOTAL
A30: 010102 철근콘크리트공사 | Q30: 010102
A31: 수팽창지수고무 | B31: 수팽창지수고무, KCH2010, 시공조인트용BOX연결 | C31: M | D31: 11 | E31: =TRUNC(단가대비표!O11,0) -> 1900 | F31: =TRUNC(E31*D31, 0) -> 20900 | G31: =TRUNC(단가대비표!P11,0) -> 0 | H31: =TRUNC(G31*D31, 0) -> 0 | I31: =TRUNC(단가대비표!V11,0) -> 0 | J31: =TRUNC(I31*D31, 0) -> 0 | K31: =TRUNC(E31+G31+I31, 0) -> 1900 | L31: =TRUNC(F31+H31+J31, 0) -> 20900 | N31: 549A735D077B8B776EE3B220B009350DFC4BE4 | Q31: 010102 | R31: F | S31: F | T31: T | AU31: 010102549A735D077B8B776EE3B220B009350DFC4BE4 | AV31: 13
A32: 철근콘크리트용봉강 | B32: 철근콘크리트용봉강, 이형봉강(SD350/400), HD-13, 지정장소도 | C32: TON | D32: 2.5 | E32: =TRUNC(단가대비표!O20,0) -> 630000 | F32: =TRUNC(E32*D32, 0) -> 1575000 | G32: =TRUNC(단가대비표!P20,0) -> 0 | H32: =TRUNC(G32*D32, 0) -> 0 | I32: =TRUNC(단가대비표!V20,0) -> 0 | J32: =TRUNC(I32*D32, 0) -> 0 | K32: =TRUNC(E32+G32+I32, 0) -> 630000 | L32: =TRUNC(F32+H32+J32, 0) -> 1575000 | N32: 54B523620773476160057827DDCA912421D06F | Q32: 010102 | R32: F | S32: F | T32: T | AU32: 01010254B523620773476160057827DDCA912421D06F | AV32: 14
A33: 레미콘 | B33: 레미콘, 경남(거제, 통영권), 25-24-12 | C33: M3 | D33: 45.7 | E33: =TRUNC(단가대비표!O33,0) -> 67580 | F33: =TRUNC(E33*D33, 0) -> 3088406 | G33: =TRUNC(단가대비표!P33,0) -> 0 | H33: =TRUNC(G33*D33, 0) -> 0 | I33: =TRUNC(단가대비표!V33,0) -> 0 | J33: =TRUNC(I33*D33, 0) -> 0 | K33: =TRUNC(E33+G33+I33, 0) -> 67580 | L33: =TRUNC(F33+H33+J33, 0) -> 3088406 | N33: 54B523620772BEED6F79612FFA9A805030D034 | Q33: 010102 | R33: F | S33: F | T33: T | AU33: 01010254B523620772BEED6F79612FFA9A805030D034 | AV33: 15
A34: 도막형바닥재/관급 | B34: 정석케미칼, MSE-A02, t1.5mm, MMA, 스텐실 | C34: M2 | D34: 333 | E34: =TRUNC(단가대비표!O38,0) -> 38100 | F34: =TRUNC(E34*D34, 0) -> 12687300 | G34: =TRUNC(단가대비표!P38,0) -> 0 | H34: =TRUNC(G34*D34, 0) -> 0 | I34: =TRUNC(단가대비표!V38,0) -> 0 | J34: =TRUNC(I34*D34, 0) -> 0 | K34: =TRUNC(E34+G34+I34, 0) -> 38100 | L34: =TRUNC(F34+H34+J34, 0) -> 12687300 | M34: 관급자재 | N34: 54B5236207761BCE63647D2BBC9BEEFAAF1024 | R34: F | S34: F | T34: T | AR34: 관급자재 | AU34: 01010254B5236207761BCE63647D2BBC9BEEFAAF1024 | AV34: 16
A35: 현장 철근 가공 및 조립 | B35: 보통(할증) | C35: TON | D35: 2.4 | E35: =TRUNC(일위대가목록!E11,0) -> 13054 | F35: =TRUNC(E35*D35, 0) -> 31329 | G35: =TRUNC(일위대가목록!F11,0) -> 627965 | H35: =TRUNC(G35*D35, 0) -> 1507116 | I35: =TRUNC(일위대가목록!G11,0) -> 0 | J35: =TRUNC(I35*D35, 0) -> 0 | K35: =TRUNC(E35+G35+I35, 0) -> 641019 | L35: =TRUNC(F35+H35+J35, 0) -> 1538445 | M35: 호표 8 | N35: 5396D3BE0756E1BC6E351922FAD85E | Q35: 010102 | R35: T | S35: F | T35: F | AU35: 0101025396D3BE0756E1BC6E351922FAD85E | AV35: 17
A36: 기존구조체연결 보강 D10 | B36: HY-200 | C36: 개소 | D36: 56 | E36: =TRUNC(일위대가목록!E12,0) -> 1079 | F36: =TRUNC(E36*D36, 0) -> 60424 | G36: =TRUNC(일위대가목록!F12,0) -> 8854 | H36: =TRUNC(G36*D36, 0) -> 495824 | I36: =TRUNC(일위대가목록!G12,0) -> 159 | J36: =TRUNC(I36*D36, 0) -> 8904 | K36: =TRUNC(E36+G36+I36, 0) -> 10092 | L36: =TRUNC(F36+H36+J36, 0) -> 565152 | M36: 호표 9 | N36: 5396D3BE0752062C6A29E0241CF8C2 | Q36: 010102 | R36: T | S36: F | T36: F | AU36: 0101025396D3BE0752062C6A29E0241CF8C2 | AV36: 18
A37: 레디믹스트콘크리트 인력운반 타설 | B37: 철근구조물 | C37: M3 | D37: 45.3 | E37: =TRUNC(일위대가목록!E13,0) -> 0 | F37: =TRUNC(E37*D37, 0) -> 0 | G37: =TRUNC(일위대가목록!F13,0) -> 39034 | H37: =TRUNC(G37*D37, 0) -> 1768240 | I37: =TRUNC(일위대가목록!G13,0) -> 780 | J37: =TRUNC(I37*D37, 0) -> 35334 | K37: =TRUNC(E37+G37+I37, 0) -> 39814 | L37: =TRUNC(F37+H37+J37, 0) -> 1803574 | M37: 호표 10 | N37: 5396D3BA07FBB09D67C9332625DFA3 | Q37: 010102 | R37: T | S37: F | T37: F | AU37: 0101025396D3BA07FBB09D67C9332625DFA3 | AV37: 19
A38: 데크플레이트설치 | B38: 페로데크 B TYPE 상부근D13 하부근D13 | C38: M2 | D38: 311.8 | E38: =TRUNC(일위대가목록!E14,0) -> 48085 | F38: =TRUNC(E38*D38, 0) -> 14992903 | G38: =TRUNC(일위대가목록!F14,0) -> 10349 | H38: =TRUNC(G38*D38, 0) -> 3226818 | I38: =TRUNC(일위대가목록!G14,0) -> 0 | J38: =TRUNC(I38*D38, 0) -> 0 | K38: =TRUNC(E38+G38+I38, 0) -> 58434 | L38: =TRUNC(F38+H38+J38, 0) -> 18219721 | M38: 호표 11 | N38: 5396C350074FDA6268B1782855822A | Q38: 010102 | R38: T | S38: F | T38: F | AU38: 0101025396C350074FDA6268B1782855822A | AV38: 20
A55: [ 합 계 ] | F55: =SUM(F31:F54) -F34 -> 19768962 | H55: =SUM(H31:H54) -H34 -> 6997998 | J55: =SUM(J31:J54) -J34 -> 44238 | L55: =SUM(L31:L54) -L34 -> 26811198 | N55: TOTAL
A56: 010103 철 골 공 사 | Q56: 010103
A57: ㄱ형강 | B57: ㄱ형강, 등변, 50*50*4mm | C57: kg | D57: 77.1 | E57: =TRUNC(단가대비표!O18,0) -> 735 | F57: =TRUNC(E57*D57, 0) -> 56668 | G57: =TRUNC(단가대비표!P18,0) -> 0 | H57: =TRUNC(G57*D57, 0) -> 0 | I57: =TRUNC(단가대비표!V18,0) -> 0 | J57: =TRUNC(I57*D57, 0) -> 0 | K57: =TRUNC(E57+G57+I57, 0) -> 735 | L57: =TRUNC(F57+H57+J57, 0) -> 56668 | N57: 54B52362077347626276312EE1D4A62B72B5C7 | Q57: 010103 | R57: F | S57: F | T57: T | AU57: 01010354B52362077347626276312EE1D4A62B72B5C7 | AV57: 22
A58: H빔 | B58: H빔, SS400, 350*175*7.0*11.0mm | C58: TON | D58: 3 | E58: =TRUNC(단가대비표!O22,0) -> 740000 | F58: =TRUNC(E58*D58, 0) -> 2220000 | G58: =TRUNC(단가대비표!P22,0) -> 0 | H58: =TRUNC(G58*D58, 0) -> 0 | I58: =TRUNC(단가대비표!V22,0) -> 0 | J58: =TRUNC(I58*D58, 0) -> 0 | K58: =TRUNC(E58+G58+I58, 0) -> 740000 | L58: =TRUNC(F58+H58+J58, 0) -> 2220000 | N58: 54B523620773476067A9612DB0DEF23725682B | Q58: 010103 | R58: F | S58: F | T58: T | AU58: 01010354B523620773476067A9612DB0DEF23725682B | AV58: 23
A59: H빔 | B59: H빔, SS400, 488*300*11.0*18.0mm | C59: TON | D59: 2.5 | E59: =TRUNC(단가대비표!O23,0) -> 740000 | F59: =TRUNC(E59*D59, 0) -> 1850000 | G59: =TRUNC(단가대비표!P23,0) -> 0 | H59: =TRUNC(G59*D59, 0) -> 0 | I59: =TRUNC(단가대비표!V23,0) -> 0 | J59: =TRUNC(I59*D59, 0) -> 0 | K59: =TRUNC(E59+G59+I59, 0) -> 740000 | L59: =TRUNC(F59+H59+J59, 0) -> 1850000 | N59: 54B523620773476067A9612DB0DEF237256ADF | Q59: 010103 | R59: F | S59: F | T59: T | AU59: 01010354B523620773476067A9612DB0DEF237256ADF | AV59: 24
A60: CT형강 | B60: 300*200*11*17 | C60: TON | D60: 3.5 | E60: =TRUNC(단가대비표!O24,0) -> 1460000 | F60: =TRUNC(E60*D60, 0) -> 5110000 | G60: =TRUNC(단가대비표!P24,0) -> 0 | H60: =TRUNC(G60*D60, 0) -> 0 | I60: =TRUNC(단가대비표!V24,0) -> 0 | J60: =TRUNC(I60*D60, 0) -> 0 | K60: =TRUNC(E60+G60+I60, 0) -> 1460000 | L60: =TRUNC(F60+H60+J60, 0) -> 5110000 | N60: 54B523620773476067A9612E574AFA3DB2FFCC | Q60: 010103 | R60: F | S60: F | T60: T | AU60: 01010354B523620773476067A9612E574AFA3DB2FFCC | AV60: 25
A61: 일반구조용압연강판 | B61: 일반구조용압연강판, 10mm | C61: TON | D61: 0.2 | E61: =TRUNC(단가대비표!O25,0) -> 611300 | F61: =TRUNC(E61*D61, 0) -> 122260 | G61: =TRUNC(단가대비표!P25,0) -> 0 | H61: =TRUNC(G61*D61, 0) -> 0 | I61: =TRUNC(단가대비표!V25,0) -> 0 | J61: =TRUNC(I61*D61, 0) -> 0 | K61: =TRUNC(E61+G61+I61, 0) -> 611300 | L61: =TRUNC(F61+H61+J61, 0) -> 122260 | N61: 54B523620773449161DC9C2E7F979134C5AFD8 | Q61: 010103 | R61: F | S61: F | T61: T | AU61: 01010354B523620773449161DC9C2E7F979134C5AFD8 | AV61: 26
A62: 아연도각관 | B62: 50*50*t2.3mm, 3.338kg/m | C62: M | D62: 24 | E62: =TRUNC(단가대비표!O70,0) -> 2586 | F62: =TRUNC(E62*D62, 0) -> 62064 | G62: =TRUNC(단가대비표!P70,0) -> 0 | H62: =TRUNC(G62*D62, 0) -> 0 | I62: =TRUNC(단가대비표!V70,0) -> 0 | J62: =TRUNC(I62*D62, 0) -> 0 | K62: =TRUNC(E62+G62+I62, 0) -> 2586 | L62: =TRUNC(F62+H62+J62, 0) -> 62064 | N62: 54C7930C0750CFFC6DCA8926C611F3FAFB090E | Q62: 010103 | R62: F | S62: F | T62: T | AU62: 01010354C7930C0750CFFC6DCA8926C611F3FAFB090E | AV62: 27
A63: 아연도각관 | B63: 100*50*t2.0mm, 4.504kg/m | C63: M | D63: 56 | E63: =TRUNC(단가대비표!O71,0) -> 3688 | F63: =TRUNC(E63*D63, 0) -> 206528 | G63: =TRUNC(단가대비표!P71,0) -> 0 | H63: =TRUNC(G63*D63, 0) -> 0 | I63: =TRUNC(단가대비표!V71,0) -> 0 | J63: =TRUNC(I63*D63, 0) -> 0 | K63: =TRUNC(E63+G63+I63, 0) -> 3688 | L63: =TRUNC(F63+H63+J63, 0) -> 206528 | N63: 54C7930C0750CFFC6DCA8926C611F3FAFB0CDB | Q63: 010103 | R63: F | S63: F | T63: T | AU63: 01010354C7930C0750CFFC6DCA8926C611F3FAFB0CDB | AV63: 28
A64: 아연도각관 | B64: 150*50*t3.2mm, 9.520kg/m | C64: M | D64: 164.8 | E64: =TRUNC(단가대비표!O72,0) -> 7670 | F64: =TRUNC(E64*D64, 0) -> 1264016 | G64: =TRUNC(단가대비표!P72,0) -> 0 | H64: =TRUNC(G64*D64, 0) -> 0 | I64: =TRUNC(단가대비표!V72,0) -> 0 | J64: =TRUNC(I64*D64, 0) -> 0 | K64: =TRUNC(E64+G64+I64, 0) -> 7670 | L64: =TRUNC(F64+H64+J64, 0) -> 1264016 | N64: 54C7930C0750CFFC6DCA8926C611F3FAFB0DE3 | Q64: 010103 | R64: F | S64: F | T64: T | AU64: 01010354C7930C0750CFFC6DCA8926C611F3FAFB0DE3 | AV64: 29
A65: 진폴 | B65: 가설,해체정비 | C65: 대 | D65: 2 | E65: =TRUNC(일위대가목록!E15,0) -> 0 | F65: =TRUNC(E65*D65, 0) -> 0 | G65: =TRUNC(일위대가목록!F15,0) -> 1261071 | H65: =TRUNC(G65*D65, 0) -> 2522142 | I65: =TRUNC(일위대가목록!G15,0) -> 0 | J65: =TRUNC(I65*D65, 0) -> 0 | K65: =TRUNC(E65+G65+I65, 0) -> 1261071 | L65: =TRUNC(F65+H65+J65, 0) -> 2522142 | M65: 호표 12 | N65: 5396833807E07E286C090422BDD2F4 | Q65: 010103 | R65: T | S65: F | T65: F | AU65: 0101035396833807E07E286C090422BDD2F4 | AV65: 30
A66: 진폴 | B66: 수평이동 | C66: 회 | D66: 5 | E66: =TRUNC(일위대가목록!E16,0) -> 0 | F66: =TRUNC(E66*D66, 0) -> 0 | G66: =TRUNC(일위대가목록!F16,0) -> 450382 | H66: =TRUNC(G66*D66, 0) -> 2251910 | I66: =TRUNC(일위대가목록!G16,0) -> 0 | J66: =TRUNC(I66*D66, 0) -> 0 | K66: =TRUNC(E66+G66+I66, 0) -> 450382 | L66: =TRUNC(F66+H66+J66, 0) -> 2251910 | M66: 호표 13 | N66: 5396833807E07E286C090422BDD2F7 | Q66: 010103 | R66: T | S66: F | T66: F | AU66: 0101035396833807E07E286C090422BDD2F7 | AV66: 31
A67: 스터드볼트설치/자동용접 | B67: M19*125 | C67: 개소 | D67: 965 | E67: =TRUNC(일위대가목록!E17,0) -> 743 | F67: =TRUNC(E67*D67, 0) -> 716995 | G67: =TRUNC(일위대가목록!F17,0) -> 398 | H67: =TRUNC(G67*D67, 0) -> 384070 | I67: =TRUNC(일위대가목록!G17,0) -> 0 | J67: =TRUNC(I67*D67, 0) -> 0 | K67: =TRUNC(E67+G67+I67, 0) -> 1141 | L67: =TRUNC(F67+H67+J67, 0) -> 1101065 | M67: 호표 14 | N67: 5396C354072985D6617AB22A52E35A | Q67: 010103 | R67: T | S67: F | T67: F | AU67: 0101035396C354072985D6617AB22A52E35A | AV67: 32
A68: 철골 가공 조립(적은 구조) | B68: Rolled shape, 60ton미만 | C68: Ton | D68: 8.6 | E68: =TRUNC(일위대가목록!E18,0) -> 25200 | F68: =TRUNC(E68*D68, 0) -> 216720 | G68: =TRUNC(일위대가목록!F18,0) -> 241366 | H68: =TRUNC(G68*D68, 0) -> 2075747 | I68: =TRUNC(일위대가목록!G18,0) -> 144819 | J68: =TRUNC(I68*D68, 0) -> 1245443 | K68: =TRUNC(E68+G68+I68, 0) -> 411385 | L68: =TRUNC(F68+H68+J68, 0) -> 3537910 | M68: 호표 15 | N68: 5396C35507319D936D703C2E242255 | Q68: 010103 | R68: T | S68: F | T68: F | AU68: 0101035396C35507319D936D703C2E242255 | AV68: 33
A69: 부대철골가공조립(현장) | B69: 중도리.띠장,캐노피 | C69: 톤 | D69: 2 | E69: =TRUNC(일위대가목록!E19,0) -> 0 | F69: =TRUNC(E69*D69, 0) -> 0 | G69: =TRUNC(일위대가목록!F19,0) -> 626640 | H69: =TRUNC(G69*D69, 0) -> 1253280 | I69: =TRUNC(일위대가목록!G19,0) -> 0 | J69: =TRUNC(I69*D69, 0) -> 0 | K69: =TRUNC(E69+G69+I69, 0) -> 626640 | L69: =TRUNC(F69+H69+J69, 0) -> 1253280 | M69: 호표 16 | N69: 5396C352077B286962083F23E40D31 | Q69: 010103 | R69: T | S69: F | T69: F | AU69: 0101035396C352077B286962083F23E40D31 | AV69: 34
A70: 철골세우기 | B70: 0~49kg/m2,0∼10ton | C70: Ton | D70: 8.6 | E70: =TRUNC(일위대가목록!E20,0) -> 418 | F70: =TRUNC(E70*D70, 0) -> 3594 | G70: =TRUNC(일위대가목록!F20,0) -> 160187 | H70: =TRUNC(G70*D70, 0) -> 1377608 | I70: =TRUNC(일위대가목록!G20,0) -> 0 | J70: =TRUNC(I70*D70, 0) -> 0 | K70: =TRUNC(E70+G70+I70, 0) -> 160605 | L70: =TRUNC(F70+H70+J70, 0) -> 1381202 | M70: 호표 17 | N70: 5396C3530700CC8A615FF42C0D47DD | Q70: 010103 | R70: T | S70: F | T70: F | AU70: 0101035396C3530700CC8A615FF42C0D47DD | AV70: 35
A81: [ 합 계 ] | F81: =SUM(F57:F80) -> 11828845 | H81: =SUM(H57:H80) -> 9864757 | J81: =SUM(J57:J80) -> 1245443 | L81: =SUM(L57:L80) -> 22939045 | N81: TOTAL
A82: 010104 지 붕 공 사 | Q82: 010104
A83: 알루미늄 복합패널 | B83: 평판 T=4 불소수지 | C83: M2 | D83: 82.3 | E83: =TRUNC(단가대비표!O36,0) -> 110000 | F83: =TRUNC(E83*D83, 0) -> 9053000 | G83: =TRUNC(단가대비표!P36,0) -> 0 | H83: =TRUNC(G83*D83, 0) -> 0 | I83: =TRUNC(단가대비표!V36,0) -> 0 | J83: =TRUNC(I83*D83, 0) -> 0 | K83: =TRUNC(E83+G83+I83, 0) -> 110000 | L83: =TRUNC(F83+H83+J83, 0) -> 9053000 | M83: 시공도 | N83: 54B5236207761BCE63FAEA245013B6C32CD16C | Q83: 010104 | R83: F | S83: F | T83: T | AU83: 01010454B5236207761BCE63FAEA245013B6C32CD16C | AV83: 37
...

Sheet 일위대가목록
A1: 일 위 대 가 목 록
A2: [ 통영시 케이블카 상부역사 전망대 설치공사 ]
A3: 코 드 | B3: 품 명 | C3: 규 격 | D3: 단위 | E3: 재 료 비 | F3: 노 무 비 | G3: 경 비 | H3: 합 계 | I3: 번 호 | J3: 비 고 | K3: 노임계수 | L3: 할증 | M3: 품셈개요 | N3: 장비일위
A4: 5396833A07ACC75A6193ED21999D29 | B4: 강관비계매기/쌍줄 10m이하 | C4: 3개월(발판 유) | D4: ㎡ | E4: =일위대가!F12 -> 1242 | F4: =일위대가!H12 -> 14378 | G4: =일위대가!J12 -> 287 | H4: =E4+F4+G4 -> 15907 | I4: 호표 1
A5: 5396833A07ACC75A6193ED219AA372 | B5: 강관비계매기/쌍줄 10m초과~20m이하 | C5: 3개월(발판 유) | D5: ㎡ | E5: =일위대가!F22 -> 1242 | F5: =일위대가!H22 -> 16719 | G5: =일위대가!J22 -> 334 | H5: =E5+F5+G5 -> 18295 | I5: 호표 2
A6: 5396833A07ACC75A6193ED219B4AFC | B6: 강관비계매기/쌍줄 20m초과~30m이하 | C6: 3개월(발판 유) | D6: ㎡ | E6: =일위대가!F32 -> 1242 | F6: =일위대가!H32 -> 19061 | G6: =일위대가!J32 -> 380 | H6: =E6+F6+G6 -> 20683 | I6: 호표 3
A7: 5396833A07ACC75A6181D5210232B7 | B7: 내부수평비계(틀비계) | C7: H=8.0M(발판 유) | D7: M2 | E7: =일위대가!F38 -> 6511 | F7: =일위대가!H38 -> 24070 | G7: =일위대가!J38 -> 0 | H7: =E7+F7+G7 -> 30581 | I7: 호표 4
A8: 5396833A07ACC75A6181D5210232B4 | B8: 내부수평비계(틀비계) | C8: H=10.0M(발판 유) | D8: M2 | E8: =일위대가!F44 -> 7830 | F8: =일위대가!H44 -> 30088 | G8: =일위대가!J44 -> 0 | H8: =E8+F8+G8 -> 37918 | I8: 호표 5
A9: 5396833A07ACC75A6181D5210232B5 | B9: 내부수평비계(틀비계) | C9: H=20.0M(발판 유) | D9: M2 | E9: =일위대가!F51 -> 14425 | F9: =일위대가!H51 -> 71883 | G9: =일위대가!J51 -> 0 | H9: =E9+F9+G9 -> 86308 | I9: 호표 6
A10: 5396833F071010366C0BE72B317646 | B10: 건축물현장정리 | C10: 철골조 | D10: M2 | E10: =일위대가!F55 -> 0 | F10: =일위대가!H55 -> 7183 | G10: =일위대가!J55 -> 0 | H10: =E10+F10+G10 -> 7183 | I10: 호표 7
A11: 5396D3BE0756E1BC6E351922FAD85E | B11: 현장 철근 가공 및 조립 | C11: 보통(할증) | D11: TON | E11: =일위대가!F59 -> 13054 | F11: =일위대가!H59 -> 627965 | G11: =일위대가!J59 -> 0 | H11: =E11+F11+G11 -> 641019 | I11: 호표 8
A12: 5396D3BE0752062C6A29E0241CF8C2 | B12: 기존구조체연결 보강 D10 | C12: HY-200 | D12: 개소 | E12: =일위대가!F69 -> 1079 | F12: =일위대가!H69 -> 8854 | G12: =일위대가!J69 -> 159 | H12: =E12+F12+G12 -> 10092 | I12: 호표 9
A13: 5396D3BA07FBB09D67C9332625DFA3 | B13: 레디믹스트콘크리트 인력운반 타설 | C13: 철근구조물 | D13: M3 | E13: =일위대가!F75 -> 0 | F13: =일위대가!H75 -> 39034 | G13: =일위대가!J75 -> 780 | H13: =E13+F13+G13 -> 39814 | I13: 호표 10
A14: 5396C350074FDA6268B1782855822A | B14: 데크플레이트설치 | C14: 페로데크 B TYPE 상부근D13 하부근D13 | D14: M2 | E14: =일위대가!F80 -> 48085 | F14: =일위대가!H80 -> 10349 | G14: =일위대가!J80 -> 0 | H14: =E14+F14+G14 -> 58434 | I14: 호표 11
A15: 5396833807E07E286C090422BDD2F4 | B15: 진폴 | C15: 가설,해체정비 | D15: 대 | E15: =일위대가!F85 -> 0 | F15: =일위대가!H85 -> 1261071 | G15: =일위대가!J85 -> 0 | H15: =E15+F15+G15 -> 1261071 | I15: 호표 12
A16: 5396833807E07E286C090422BDD2F7 | B16: 진폴 | C16: 수평이동 | D16: 회 | E16: =일위대가!F89 -> 0 | F16: =일위대가!H89 -> 450382 | G16: =일위대가!J89 -> 0 | H16: =E16+F16+G16 -> 450382 | I16: 호표 13
A17: 5396C354072985D6617AB22A52E35A | B17: 스터드볼트설치/자동용접 | C17: M19*125 | D17: 개소 | E17: =일위대가!F95 -> 743 | F17: =일위대가!H95 -> 398 | G17: =일위대가!J95 -> 0 | H17: =E17+F17+G17 -> 1141 | I17: 호표 14
A18: 5396C35507319D936D703C2E242255 | B18: 철골 가공 조립(적은 구조) | C18: Rolled shape, 60ton미만 | D18: Ton | E18: =일위대가!F101 -> 25200 | F18: =일위대가!H101 -> 241366 | G18: =일위대가!J101 -> 144819 | H18: =E18+F18+G18 -> 411385 | I18: 호표 15
A19: 5396C352077B286962083F23E40D31 | B19: 부대철골가공조립(현장) | C19: 중도리.띠장,캐노피 | D19: 톤 | E19: =일위대가!F105 -> 0 | F19: =일위대가!H105 -> 626640 | G19: =일위대가!J105 -> 0 | H19: =E19+F19+G19 -> 626640 | I19: 호표 16
A20: 5396C3530700CC8A615FF42C0D47DD | B20: 철골세우기 | C20: 0~49kg/m2,0∼10ton | D20: Ton | E20: =일위대가!F110 -> 418 | F20: =일위대가!H110 -> 160187 | G20: =일위대가!J110 -> 0 | H20: =E20+F20+G20 -> 160605 | I20: 호표 17
A21: 5396136A07A04CE56A129725754AC0 | B21: 수밀코킹(실리콘) | C21: 10㎜*10㎜ | D21: M | E21: =일위대가!F115 -> 1858 | F21: =일위대가!H115 -> 4038 | G21: =일위대가!J115 -> 0 | H21: =E21+F21+G21 -> 5896 | I21: 호표 18
A22: 539633BA0703FDC56DE4D9251CD75A | B22: 강화접합유리 난간 | C22: h=1300 기성재포스트 접합유리12mm Φ50.8*2.0mm | D22: M | E22: =일위대가!F124 -> 312441 | F22: =일위대가!H124 -> 39158 | G22: =일위대가!J124 -> 317 | H22: =E22+F22+G22 -> 351916 | I22: 호표 19
A23: 539633BA0703FDC56DE4D9251CD759 | B23: 스텐레스스틸 난간 | C23: h=1200 50*9mm Φ19.1*2.0mm-5줄 | D23: M | E23: =일위대가!F130 -> 51002 | F23: =일위대가!H130 -> 45306 | G23: =일위대가!J130 -> 181 | H23: =E23+F23+G23 -> 96489 | I23: 호표 20
A24: 539633BA0703FDC56DE4D9251CD75F | B24: 점검용링 | C24: 150*150*8t ￠19mm 내경￠100 | D24: 개 | E24: =일위대가!F137 -> 11804 | F24: =일위대가!H137 -> 10791 | G24: =일위대가!J137 -> 46 | H24: =E24+F24+G24 -> 22641 | I24: 호표 21
A25: 539633BA0703FDC56DE4D9251CD6B5 | B25: 스카이웍 바닥유리깔기 | C25: t=28(10+8+10)3중강하접합유리 5500*3000 | D25: 개소 | E25: =일위대가!F144 -> 6014431 | F25: =일위대가!H144 -> 560814 | G25: =일위대가!J144 -> 0 | H25: =E25+F25+G25 -> 6575245 | I25: 호표 22
A26: 539633BA0703FDC56DE4D9251CD132 | B26: 통로좌측유리칸막이(T12MM(6+6)접합유리) | C26: b=4800,h=2500 100*50*1.5T | D26: 개소 | E26: =일위대가!F152 -> 1575686 | F26: =일위대가!H152 -> 427633 | G26: =일위대가!J152 -> 1007 | H26: =E26+F26+G26 -> 2004326 | I26: 호표 23
A27: 539633BA0703FDC56DE4D9251CD131 | B27: 통로좌측유리칸막이(T12MM(6+6)접합유리) | C27: b=2400,h=2030 100*50*1.5T | D27: 개소 | E27: =일위대가!F160 -> 670818 | F27: =일위대가!H160 -> 191629 | G27: =일위대가!J160 -> 483 | H27: =E27+F27+G27 -> 862930 | I27: 호표 24
A28: 539633BA0703FDC56DE4D9251CD02D | B28: 스텐레스스틸점검구(바닥매입) | C28: 1000*800*6T(무늬강판) 기존철거포함 | D28: 개소 | E28: =일위대가!F168 -> 146957 | F28: =일위대가!H168 -> 245642 | G28: =일위대가!J168 -> 570 | H28: =E28+F28+G28 -> 393169 | I28: 호표 25
A29: 5396235307A871986A85C922CD85FB | B29: 리얼징크지붕잇기(75MM그라스울파넬) | C29: 상:리얼징크,하:0.6T아연도금강판) | D29: ㎡ | E29: =일위대가!F175 -> 38587 | F29: =일위대가!H175 -> 10658 | G29: =일위대가!J175 -> 0 | H29: =E29+F29+G29 -> 49245 | I29: 호표 26
A30: 5396235307A871986A85C922CD8680 | B30: 바닥유리설치용각관 | C30: SST 40*110*3T | D30: M | E30: =일위대가!F180 -> 41002 | F30: =일위대가!H180 -> 24876 | G30: =일위대가!J180 -> 106 | H30: =E30+F30+G30 -> 65984 | I30: 호표 27
A31: 5396235307A871986A85C922CD8683 | B31: 바닥유리설치용각관 | C31: SST 150*110*3T | D31: M | E31: =일위대가!F185 -> 71080 | F31: =일위대가!H185 -> 43158 | G31: =일위대가!J185 -> 185 | H31: =E31+F31+G31 -> 114423 | I31: 호표 28
A32: 5396235007D491D26ABC332E09BC84 | B32: 선홈통(강관) 설치 | C32: 101.6mm, 스테인리스관 | D32: M | E32: =일위대가!F190 -> 14611 | F32: =일위대가!H190 -> 24823 | G32: =일위대가!J190 -> 0 | H32: =E32+F32+G32 -> 39434 | I32: 호표 29
A33: 5396235107FD6AD5611015290D6E45 | B33: 루프드레인설치 | C33: 수직형, D100㎜ | D33: 개소 | E33: =일위대가!F196 -> 23460 | F33: =일위대가!H196 -> 27549 | G33: =일위대가!J196 -> 0 | H33: =E33+F33+G33 -> 51009 | I33: 호표 30
A34: 539663EF0709B7AC68E9B029282FAA | B34: 처마후레싱 | C34: 0.6T C/S 150+75+50 | D34: M | E34: =일위대가!F200 -> 2630 | F34: =일위대가!H200 -> 4524 | G34: =일위대가!J200 -> 19 | H34: =E34+F34+G34 -> 7173 | I34: 호표 31
A35: 539673D507A3A966640BC72D68863A | B35: 녹막이페인트(붓칠) | C35: 철재면, 1회, 1종 | D35: M2 | E35: =일위대가!F205 -> 793 | F35: =일위대가!H205 -> 2433 | G35: =일위대가!J205 -> 0 | H35: =E35+F35+G35 -> 3226 | I35: 호표 32
A36: 539673D6074864376DD27021FA7804 | B36: 우레탄도장(붓칠)/신설 | C36: 철재면, 3회. 1급 | D36: M2 | E36: =일위대가!F210 -> 2733 | F36: =일위대가!H210 -> 9735 | G36: =일위대가!J210 -> 0 | H36: =E36+F36+G36 -> 12468 | I36: 호표 33
A37: 539673D6074864376DD27021FA7807 | B37: 우레탄도장(붓칠)/기존철골도장 | C37: 철재면, 3회. 1급(바탕정리포함) | D37: M2 | E37: =일위대가!F217 -> 2733 | F37: =일위대가!H217 -> 23272 | G37: =일위대가!J217 -> 0 | H37: =E37+F37+G37 -> 26005 | I37: 호표 34
A38: 539783A60718D126698300242B1B8A | B38: 75MM샌드위치판넬철거 | C38: (0.6+0.6)*7.86+75*0.08=15.432(16KG/M2) | D38: M2 | E38: =일위대가!F222 -> 0 | F38: =일위대가!H222 -> 9740 | G38: =일위대가!J222 -> 0 | H38: =E38+F38+G38 -> 9740 | I38: 호표 35
A39: 539783A60718D126698300242B1B89 | B39: 점검구철거 | C39: 1100*800*6T | D39: EA | E39: =일위대가!F227 -> 0 | F39: =일위대가!H227 -> 51824 | G39: =일위대가!J227 -> 0 | H39: =E39+F39+G39 -> 51824 | I39: 호표 36
A40: 539783A60718D126698300242B1B88 | B40: 콘크리트난간철거 | D40: M3 | E40: =일위대가!F231 -> 1531 | F40: =일위대가!H231 -> 153109 | G40: =일위대가!J231 -> 1258 | H40: =E40+F40+G40 -> 155898 | I40: 호표 37
...

Sheet 일위대가
A1: [ 통영시 케이블카 상부역사 전망대 설치공사 ]
A2: 품 명 | B2: 규 격 | C2: 단위 | D2: 수량 | E2: 재 료 비 | G2: 노 무 비 | I2: 경 비 | K2: 합 계 | M2: 비 고 | N2: 일위대가 | O2: 품목코드 | P2: 일위 | Q2: 단산 | R2: 자재 | S2: 손료적용 | T2: 손료저장 | U2: 적용율 | V2: JUK1 | W2: JUK2 | X2: JUK3 | Y2: JUK4 | Z2: JUK5 | AA2: JUK6 | AB2: JUK7 | AC2: JUK8 | AD2: JUK9 | AE2: JUK10 | AF2: JUK11 | AG2: JUK12 | AH2: JUK13 | AI2: JUK14 | AJ2: JUK15 | AK2: JUK16 | AL2: JUK17 | AM2: JUK18 | AN2: JUK19 | AO2: JUK20 | AP2: 할증적용 | AQ2: 할증저장 | AR2: 할증율 | AS2: HAL1 | AT2: HAL2 | AU2: HAL3 | AV2: 자재구분 | AW2: 일위대가+자재 | AX2: 장비일위 | AY2: 설정
E3: 단 가 | F3: 금 액 | G3: 단 가 | H3: 금 액 | I3: 단 가 | J3: 금 액 | K3: 단 가 | L3: 금 액
A4: 강관비계매기/쌍줄 10m이하 3개월(발판 유) ㎡ ( 호표 1 ) | N4: 5396833A07ACC75A6193ED21999D29
A5: 강관비계 | B5: 강관비계, 비계파이프, 48.6*2.3mm | C5: M | D5: 0.2394 | E5: =단가대비표!O47 -> 2700 | F5: =TRUNC(E5*D5,1) -> 646.3 | G5: =단가대비표!P47 -> 0 | H5: =TRUNC(G5*D5,1) -> 0 | I5: =단가대비표!V47 -> 0 | J5: =TRUNC(I5*D5,1) -> 0 | K5: =TRUNC(E5+G5+I5,1) -> 2700 | L5: =TRUNC(F5+H5+J5,1) -> 646.3 | N5: 5396833A07ACC75A6193ED21999D29 | O5: 54B52362077AF4AD67053F21B8EAE6F71BF454 | P5: F | Q5: F | R5: T | AW5: 5396833A07ACC75A6193ED21999D2954B52362077AF4AD67053F21B8EAE6F71BF454
A6: 강관비계 부속철물 | B6: 이음철물, 연결핀 | C6: 개 | D6: 0.06 | E6: =단가대비표!O48 -> 830 | F6: =TRUNC(E6*D6,1) -> 49.8 | G6: =단가대비표!P48 -> 0 | H6: =TRUNC(G6*D6,1) -> 0 | I6: =단가대비표!V48 -> 0 | J6: =TRUNC(I6*D6,1) -> 0 | K6: =TRUNC(E6+G6+I6,1) -> 830 | L6: =TRUNC(F6+H6+J6,1) -> 49.8 | N6: 5396833A07ACC75A6193ED21999D29 | O6: 54B52362077AF4AD67053F21B8EAE6F71AEC5C | P6: F | Q6: F | R6: T | AW6: 5396833A07ACC75A6193ED21999D2954B52362077AF4AD67053F21B8EAE6F71AEC5C
A7: 강관비계 부속철물 | B7: 조임철물, 직교 및 가새 | C7: 개 | D7: 0.2496 | E7: =단가대비표!O49 -> 1270 | F7: =TRUNC(E7*D7,1) -> 316.9 | G7: =단가대비표!P49 -> 0 | H7: =TRUNC(G7*D7,1) -> 0 | I7: =단가대비표!V49 -> 0 | J7: =TRUNC(I7*D7,1) -> 0 | K7: =TRUNC(E7+G7+I7,1) -> 1270 | L7: =TRUNC(F7+H7+J7,1) -> 316.9 | N7: 5396833A07ACC75A6193ED21999D29 | O7: 54B52362077AF4AD67053F21B8EAE6F71AEC5F | P7: F | Q7: F | R7: T | AW7: 5396833A07ACC75A6193ED21999D2954B52362077AF4AD67053F21B8EAE6F71AEC5F
A8: 강관비계 부속철물 | B8: 받침철물 | C8: 개 | D8: 0.0036 | E8: =단가대비표!O50 -> 2470 | F8: =TRUNC(E8*D8,1) -> 8.8 | G8: =단가대비표!P50 -> 0 | H8: =TRUNC(G8*D8,1) -> 0 | I8: =단가대비표!V50 -> 0 | J8: =TRUNC(I8*D8,1) -> 0 | K8: =TRUNC(E8+G8+I8,1) -> 2470 | L8: =TRUNC(F8+H8+J8,1) -> 8.8 | N8: 5396833A07ACC75A6193ED21999D29 | O8: 54B52362077AF4AD67053F21B8EAE6F71AEC59 | P8: F | Q8: F | R8: T | AW8: 5396833A07ACC75A6193ED21999D2954B52362077AF4AD67053F21B8EAE6F71AEC59
A9: 강관비계 부속철물 | B9: 앙카용철물 | C9: 개 | D9: 0.04 | E9: =단가대비표!O51 -> 900 | F9: =TRUNC(E9*D9,1) -> 36 | G9: =단가대비표!P51 -> 0 | H9: =TRUNC(G9*D9,1) -> 0 | I9: =단가대비표!V51 -> 0 | J9: =TRUNC(I9*D9,1) -> 0 | K9: =TRUNC(E9+G9+I9,1) -> 900 | L9: =TRUNC(F9+H9+J9,1) -> 36 | N9: 5396833A07ACC75A6193ED21999D29 | O9: 54B52362077AF4AD67053F21B8EAE6F71AEC58 | P9: F | Q9: F | R9: T | AW9: 5396833A07ACC75A6193ED21999D2954B52362077AF4AD67053F21B8EAE6F71AEC58
A10: 안전발판 | B10: PSP, 3040*420*3mm | C10: 매 | D10: 0.007 | E10: =단가대비표!O17 -> 26350 | F10: =TRUNC(E10*D10,1) -> 184.4 | G10: =단가대비표!P17 -> 0 | H10: =TRUNC(G10*D10,1) -> 0 | I10: =단가대비표!V17 -> 0 | J10: =TRUNC(I10*D10,1) -> 0 | K10: =TRUNC(E10+G10+I10,1) -> 26350 | L10: =TRUNC(F10+H10+J10,1) -> 184.4 | N10: 5396833A07ACC75A6193ED21999D29 | O10: 54A483BC07F5244E633C7D2FCEE9A16A3691C3 | P10: F | Q10: F | R10: T | AW10: 5396833A07ACC75A6193ED21999D2954A483BC07F5244E633C7D2FCEE9A16A3691C3
A11: 강관비계(쌍줄) 설치 및 해체 | B11: 10m이하 | C11: M2 | D11: 1.3 | E11: =일위대가목록!E43 -> 0 | F11: =TRUNC(E11*D11,1) -> 0 | G11: =일위대가목록!F43 -> 11060 | H11: =TRUNC(G11*D11,1) -> 14378 | I11: =일위대가목록!G43 -> 221 | J11: =TRUNC(I11*D11,1) -> 287.3 | K11: =TRUNC(E11+G11+I11,1) -> 11281 | L11: =TRUNC(F11+H11+J11,1) -> 14665.3 | M11: 호표 40 | N11: 5396833A07ACC75A6193ED21999D29 | O11: 5396833A07ACC75A6193FF28A25EA0 | P11: T | Q11: F | R11: F | AW11: 5396833A07ACC75A6193ED21999D295396833A07ACC75A6193FF28A25EA0
A12: [ 합 계 ] | F12: =TRUNC(SUMIF(N5:N11, N4, F5:F11),0) -> 1242 | H12: =TRUNC(SUMIF(N5:N11, N4, H5:H11),0) -> 14378 | J12: =TRUNC(SUMIF(N5:N11, N4, J5:J11),0) -> 287 | L12: =F12+H12+J12 -> 15907 | N12: TOTAL | O12: TOTAL
A14: 강관비계매기/쌍줄 10m초과~20m이하 3개월(발판 유) ㎡ ( 호표 2 ) | N14: 5396833A07ACC75A6193ED219AA372
A15: 강관비계 | B15: 강관비계, 비계파이프, 48.6*2.3mm | C15: M | D15: 0.2394 | E15: =단가대비표!O47 -> 2700 | F15: =TRUNC(E15*D15,1) -> 646.3 | G15: =단가대비표!P47 -> 0 | H15: =TRUNC(G15*D15,1) -> 0 | I15: =단가대비표!V47 -> 0 | J15: =TRUNC(I15*D15,1) -> 0 | K15: =TRUNC(E15+G15+I15,1) -> 2700 | L15: =TRUNC(F15+H15+J15,1) -> 646.3 | N15: 5396833A07ACC75A6193ED219AA372 | O15: 54B52362077AF4AD67053F21B8EAE6F71BF454 | P15: F | Q15: F | R15: T | AW15: 5396833A07ACC75A6193ED219AA37254B52362077AF4AD67053F21B8EAE6F71BF454
A16: 강관비계 부속철물 | B16: 이음철물, 연결핀 | C16: 개 | D16: 0.06 | E16: =단가대비표!O48 -> 830 | F16: =TRUNC(E16*D16,1) -> 49.8 | G16: =단가대비표!P48 -> 0 | H16: =TRUNC(G16*D16,1) -> 0 | I16: =단가대비표!V48 -> 0 | J16: =TRUNC(I16*D16,1) -> 0 | K16: =TRUNC(E16+G16+I16,1) -> 830 | L16: =TRUNC(F16+H16+J16,1) -> 49.8 | N16: 5396833A07ACC75A6193ED219AA372 | O16: 54B52362077AF4AD67053F21B8EAE6F71AEC5C | P16: F | Q16: F | R16: T | AW16: 5396833A07ACC75A6193ED219AA37254B52362077AF4AD67053F21B8EAE6F71AEC5C
A17: 강관비계 부속철물 | B17: 조임철물, 직교 및 가새 | C17: 개 | D17: 0.2496 | E17: =단가대비표!O49 -> 1270 | F17: =TRUNC(E17*D17,1) -> 316.9 | G17: =단가대비표!P49 -> 0 | H17: =TRUNC(G17*D17,1) -> 0 | I17: =단가대비표!V49 -> 0 | J17: =TRUNC(I17*D17,1) -> 0 | K17: =TRUNC(E17+G17+I17,1) -> 1270 | L17: =TRUNC(F17+H17+J17,1) -> 316.9 | N17: 5396833A07ACC75A6193ED219AA372 | O17: 54B52362077AF4AD67053F21B8EAE6F71AEC5F | P17: F | Q17: F | R17: T | AW17: 5396833A07ACC75A6193ED219AA37254B52362077AF4AD67053F21B8EAE6F71AEC5F
A18: 강관비계 부속철물 | B18: 받침철물 | C18: 개 | D18: 0.0036 | E18: =단가대비표!O50 -> 2470 | F18: =TRUNC(E18*D18,1) -> 8.8 | G18: =단가대비표!P50 -> 0 | H18: =TRUNC(G18*D18,1) -> 0 | I18: =단가대비표!V50 -> 0 | J18: =TRUNC(I18*D18,1) -> 0 | K18: =TRUNC(E18+G18+I18,1) -> 2470 | L18: =TRUNC(F18+H18+J18,1) -> 8.8 | N18: 5396833A07ACC75A6193ED219AA372 | O18: 54B52362077AF4AD67053F21B8EAE6F71AEC59 | P18: F | Q18: F | R18: T | AW18: 5396833A07ACC75A6193ED219AA37254B52362077AF4AD67053F21B8EAE6F71AEC59
A19: 강관비계 부속철물 | B19: 앙카용철물 | C19: 개 | D19: 0.04 | E19: =단가대비표!O51 -> 900 | F19: =TRUNC(E19*D19,1) -> 36 | G19: =단가대비표!P51 -> 0 | H19: =TRUNC(G19*D19,1) -> 0 | I19: =단가대비표!V51 -> 0 | J19: =TRUNC(I19*D19,1) -> 0 | K19: =TRUNC(E19+G19+I19,1) -> 900 | L19: =TRUNC(F19+H19+J19,1) -> 36 | N19: 5396833A07ACC75A6193ED219AA372 | O19: 54B52362077AF4AD67053F21B8EAE6F71AEC58 | P19: F | Q19: F | R19: T | AW19: 5396833A07ACC75A6193ED219AA37254B52362077AF4AD67053F21B8EAE6F71AEC58
A20: 안전발판 | B20: PSP, 3040*420*3mm | C20: 매 | D20: 0.007 | E20: =단가대비표!O17 -> 26350 | F20: =TRUNC(E20*D20,1) -> 184.4 | G20: =단가대비표!P17 -> 0 | H20: =TRUNC(G20*D20,1) -> 0 | I20: =단가대비표!V17 -> 0 | J20: =TRUNC(I20*D20,1) -> 0 | K20: =TRUNC(E20+G20+I20,1) -> 26350 | L20: =TRUNC(F20+H20+J20,1) -> 184.4 | N20: 5396833A07ACC75A6193ED219AA372 | O20: 54A483BC07F5244E633C7D2FCEE9A16A3691C3 | P20: F | Q20: F | R20: T | AW20: 5396833A07ACC75A6193ED219AA37254A483BC07F5244E633C7D2FCEE9A16A3691C3
A21: 강관비계(쌍줄) 설치 및 해체 | B21: 10m초과~20m이하 | C21: M2 | D21: 1.3 | E21: =일위대가목록!E44 -> 0 | F21: =TRUNC(E21*D21,1) -> 0 | G21: =일위대가목록!F44 -> 12861 | H21: =TRUNC(G21*D21,1) -> 16719.3 | I21: =일위대가목록!G44 -> 257 | J21: =TRUNC(I21*D21,1) -> 334.1 | K21: =TRUNC(E21+G21+I21,1) -> 13118 | L21: =TRUNC(F21+H21+J21,1) -> 17053.4 | M21: 호표 41 | N21: 5396833A07ACC75A6193ED219AA372 | O21: 5396833A07ACC75A6193FF28A25D99 | P21: T | Q21: F | R21: F | AW21: 5396833A07ACC75A6193ED219AA3725396833A07ACC75A6193FF28A25D99
A22: [ 합 계 ] | F22: =TRUNC(SUMIF(N15:N21, N14, F15:F21),0) -> 1242 | H22: =TRUNC(SUMIF(N15:N21, N14, H15:H21),0) -> 16719 | J22: =TRUNC(SUMIF(N15:N21, N14, J15:J21),0) -> 334 | L22: =F22+H22+J22 -> 18295 | N22: TOTAL | O22: TOTAL
A24: 강관비계매기/쌍줄 20m초과~30m이하 3개월(발판 유) ㎡ ( 호표 3 ) | N24: 5396833A07ACC75A6193ED219B4AFC
A25: 강관비계 | B25: 강관비계, 비계파이프, 48.6*2.3mm | C25: M | D25: 0.2394 | E25: =단가대비표!O47 -> 2700 | F25: =TRUNC(E25*D25,1) -> 646.3 | G25: =단가대비표!P47 -> 0 | H25: =TRUNC(G25*D25,1) -> 0 | I25: =단가대비표!V47 -> 0 | J25: =TRUNC(I25*D25,1) -> 0 | K25: =TRUNC(E25+G25+I25,1) -> 2700 | L25: =TRUNC(F25+H25+J25,1) -> 646.3 | N25: 5396833A07ACC75A6193ED219B4AFC | O25: 54B52362077AF4AD67053F21B8EAE6F71BF454 | P25: F | Q25: F | R25: T | AW25: 5396833A07ACC75A6193ED219B4AFC54B52362077AF4AD67053F21B8EAE6F71BF454
A26: 강관비계 부속철물 | B26: 이음철물, 연결핀 | C26: 개 | D26: 0.06 | E26: =단가대비표!O48 -> 830 | F26: =TRUNC(E26*D26,1) -> 49.8 | G26: =단가대비표!P48 -> 0 | H26: =TRUNC(G26*D26,1) -> 0 | I26: =단가대비표!V48 -> 0 | J26: =TRUNC(I26*D26,1) -> 0 | K26: =TRUNC(E26+G26+I26,1) -> 830 | L26: =TRUNC(F26+H26+J26,1) -> 49.8 | N26: 5396833A07ACC75A6193ED219B4AFC | O26: 54B52362077AF4AD67053F21B8EAE6F71AEC5C | P26: F | Q26: F | R26: T | AW26: 5396833A07ACC75A6193ED219B4AFC54B52362077AF4AD67053F21B8EAE6F71AEC5C
A27: 강관비계 부속철물 | B27: 조임철물, 직교 및 가새 | C27: 개 | D27: 0.2496 | E27: =단가대비표!O49 -> 1270 | F27: =TRUNC(E27*D27,1) -> 316.9 | G27: =단가대비표!P49 -> 0 | H27: =TRUNC(G27*D27,1) -> 0 | I27: =단가대비표!V49 -> 0 | J27: =TRUNC(I27*D27,1) -> 0 | K27: =TRUNC(E27+G27+I27,1) -> 1270 | L27: =TRUNC(F27+H27+J27,1) -> 316.9 | N27: 5396833A07ACC75A6193ED219B4AFC | O27: 54B52362077AF4AD67053F21B8EAE6F71AEC5F | P27: F | Q27: F | R27: T | AW27: 5396833A07ACC75A6193ED219B4AFC54B52362077AF4AD67053F21B8EAE6F71AEC5F
A28: 강관비계 부속철물 | B28: 받침철물 | C28: 개 | D28: 0.0036 | E28: =단가대비표!O50 -> 2470 | F28: =TRUNC(E28*D28,1) -> 8.8 | G28: =단가대비표!P50 -> 0 | H28: =TRUNC(G28*D28,1) -> 0 | I28: =단가대비표!V50 -> 0 | J28: =TRUNC(I28*D28,1) -> 0 | K28: =TRUNC(E28+G28+I28,1) -> 2470 | L28: =TRUNC(F28+H28+J28,1) -> 8.8 | N28: 5396833A07ACC75A6193ED219B4AFC | O28: 54B52362077AF4AD67053F21B8EAE6F71AEC59 | P28: F | Q28: F | R28: T | AW28: 5396833A07ACC75A6193ED219B4AFC54B52362077AF4AD67053F21B8EAE6F71AEC59
A29: 강관비계 부속철물 | B29: 앙카용철물 | C29: 개 | D29: 0.04 | E29: =단가대비표!O51 -> 900 | F29: =TRUNC(E29*D29,1) -> 36 | G29: =단가대비표!P51 -> 0 | H29: =TRUNC(G29*D29,1) -> 0 | I29: =단가대비표!V51 -> 0 | J29: =TRUNC(I29*D29,1) -> 0 | K29: =TRUNC(E29+G29+I29,1) -> 900 | L29: =TRUNC(F29+H29+J29,1) -> 36 | N29: 5396833A07ACC75A6193ED219B4AFC | O29: 54B52362077AF4AD67053F21B8EAE6F71AEC58 | P29: F | Q29: F | R29: T | AW29: 5396833A07ACC75A6193ED219B4AFC54B52362077AF4AD67053F21B8EAE6F71AEC58
A30: 안전발판 | B30: PSP, 3040*420*3mm | C30: 매 | D30: 0.007 | E30: =단가대비표!O17 -> 26350 | F30: =TRUNC(E30*D30,1) -> 184.4 | G30: =단가대비표!P17 -> 0 | H30: =TRUNC(G30*D30,1) -> 0 | I30: =단가대비표!V17 -> 0 | J30: =TRUNC(I30*D30,1) -> 0 | K30: =TRUNC(E30+G30+I30,1) -> 26350 | L30: =TRUNC(F30+H30+J30,1) -> 184.4 | N30: 5396833A07ACC75A6193ED219B4AFC | O30: 54A483BC07F5244E633C7D2FCEE9A16A3691C3 | P30: F | Q30: F | R30: T | AW30: 5396833A07ACC75A6193ED219B4AFC54A483BC07F5244E633C7D2FCEE9A16A3691C3
A31: 강관비계(쌍줄) 설치 및 해체 | B31: 20m초과~30m이하 - | C31: M2 | D31: 1.3 | E31: =일위대가목록!E45 -> 0 | F31: =TRUNC(E31*D31,1) -> 0 | G31: =일위대가목록!F45 -> 14663 | H31: =TRUNC(G31*D31,1) -> 19061.9 | I31: =일위대가목록!G45 -> 293 | J31: =TRUNC(I31*D31,1) -> 380.9 | K31: =TRUNC(E31+G31+I31,1) -> 14956 | L31: =TRUNC(F31+H31+J31,1) -> 19442.8 | M31: 호표 42 | N31: 5396833A07ACC75A6193ED219B4AFC | O31: 5396833A07ACC75A6193FF28A25CF3 | P31: T | Q31: F | R31: F | AW31: 5396833A07ACC75A6193ED219B4AFC5396833A07ACC75A6193FF28A25CF3
A32: [ 합 계 ] | F32: =TRUNC(SUMIF(N25:N31, N24, F25:F31),0) -> 1242 | H32: =TRUNC(SUMIF(N25:N31, N24, H25:H31),0) -> 19061 | J32: =TRUNC(SUMIF(N25:N31, N24, J25:J31),0) -> 380 | L32: =F32+H32+J32 -> 20683 | N32: TOTAL | O32: TOTAL
A34: 내부수평비계(틀비계) H=8.0M(발판 유) M2 ( 호표 4 ) | N34: 5396833A07ACC75A6181D5210232B7
A35: 강관틀 비계매기 | B35: 10m 이하 | C35: M2 | D35: 4 | E35: =일위대가목록!E46 -> 1319 | F35: =TRUNC(E35*D35,1) -> 5276 | G35: =일위대가목록!F46 -> 4629 | H35: =TRUNC(G35*D35,1) -> 18516 | I35: =일위대가목록!G46 -> 0 | J35: =TRUNC(I35*D35,1) -> 0 | K35: =TRUNC(E35+G35+I35,1) -> 5948 | L35: =TRUNC(F35+H35+J35,1) -> 23792 | M35: 호표 43 | N35: 5396833A07ACC75A6181D5210232B7 | O35: 5396833A07ACC75A61EA4A2DFB0217 | P35: T | Q35: F | R35: F | V35: 1 | AW35: 5396833A07ACC75A6181D5210232B75396833A07ACC75A61EA4A2DFB0217
A36: 경사면소운반30% | B36: 인력품의 30% | C36: 식 | D36: 1 | E36: 0 | F36: =TRUNC(E36*D36,1) -> 0 | G36: =TRUNC(SUMIF(V35:V37, RIGHTB(O36, 1), H35:H37)*U36, 2) -> 5554.8 | H36: =TRUNC(G36*D36,1) -> 5554.8 | I36: 0 | J36: =TRUNC(I36*D36,1) -> 0 | K36: =TRUNC(E36+G36+I36,1) -> 5554.8 | L36: =TRUNC(F36+H36+J36,1) -> 5554.8 | N36: 5396833A07ACC75A6181D5210232B7 | O36: 528863C8071097236F56EF2AAA13001 | P36: F | Q36: F | R36: F | S36: 1 | T36: 1 | U36: 0.3 | AW36: 5396833A07ACC75A6181D5210232B7528863C8071097236F56EF2AAA13001
A37: 안전발판 | B37: PSP, 3040*420*3mm | C37: 매 | D37: 0.0469 | E37: =단가대비표!O17 -> 26350 | F37: =TRUNC(E37*D37,1) -> 1235.8 | G37: =단가대비표!P17 -> 0 | H37: =TRUNC(G37*D37,1) -> 0 | I37: =단가대비표!V17 -> 0 | J37: =TRUNC(I37*D37,1) -> 0 | K37: =TRUNC(E37+G37+I37,1) -> 26350 | L37: =TRUNC(F37+H37+J37,1) -> 1235.8 | N37: 5396833A07ACC75A6181D5210232B7 | O37: 54A483BC07F5244E633C7D2FCEE9A16A3691C3 | P37: F | Q37: F | R37: T | AW37: 5396833A07ACC75A6181D5210232B754A483BC07F5244E633C7D2FCEE9A16A3691C3
A38: [ 합 계 ] | F38: =TRUNC(SUMIF(N35:N37, N34, F35:F37),0) -> 6511 | H38: =TRUNC(SUMIF(N35:N37, N34, H35:H37),0) -> 24070 | J38: =TRUNC(SUMIF(N35:N37, N34, J35:J37),0) -> 0 | L38: =F38+H38+J38 -> 30581 | N38: TOTAL | O38: TOTAL
A40: 내부수평비계(틀비계) H=10.0M(발판 유) M2 ( 호표 5 ) | N40: 5396833A07ACC75A6181D5210232B4
A41: 강관틀 비계매기 | B41: 10m 이하 | C41: M2 | D41: 5 | E41: =일위대가목록!E46 -> 1319 | F41: =TRUNC(E41*D41,1) -> 6595 | G41: =일위대가목록!F46 -> 4629 | H41: =TRUNC(G41*D41,1) -> 23145 | I41: =일위대가목록!G46 -> 0 | J41: =TRUNC(I41*D41,1) -> 0 | K41: =TRUNC(E41+G41+I41,1) -> 5948 | L41: =TRUNC(F41+H41+J41,1) -> 29740 | M41: 호표 43 | N41: 5396833A07ACC75A6181D5210232B4 | O41: 5396833A07ACC75A61EA4A2DFB0217 | P41: T | Q41: F | R41: F | V41: 1 | AW41: 5396833A07ACC75A6181D5210232B45396833A07ACC75A61EA4A2DFB0217
A42: 경사면소운반30% | B42: 인력품의 30% | C42: 식 | D42: 1 | E42: 0 | F42: =TRUNC(E42*D42,1) -> 0 | G42: =TRUNC(SUMIF(V41:V43, RIGHTB(O42, 1), H41:H43)*U42, 2) -> 6943.5 | H42: =TRUNC(G42*D42,1) -> 6943.5 | I42: 0 | J42: =TRUNC(I42*D42,1) -> 0 | K42: =TRUNC(E42+G42+I42,1) -> 6943.5 | L42: =TRUNC(F42+H42+J42,1) -> 6943.5 | N42: 5396833A07ACC75A6181D5210232B4 | O42: 528863C8071097236F56EF2AAA13001 | P42: F | Q42: F | R42: F | S42: 1 | T42: 1 | U42: 0.3 | AW42: 5396833A07ACC75A6181D5210232B4528863C8071097236F56EF2AAA13001
A43: 안전발판 | B43: PSP, 3040*420*3mm | C43: 매 | D43: 0.0469 | E43: =단가대비표!O17 -> 26350 | F43: =TRUNC(E43*D43,1) -> 1235.8 | G43: =단가대비표!P17 -> 0 | H43: =TRUNC(G43*D43,1) -> 0 | I43: =단가대비표!V17 -> 0 | J43: =TRUNC(I43*D43,1) -> 0 | K43: =TRUNC(E43+G43+I43,1) -> 26350 | L43: =TRUNC(F43+H43+J43,1) -> 1235.8 | N43: 5396833A07ACC75A6181D5210232B4 | O43: 54A483BC07F5244E633C7D2FCEE9A16A3691C3 | P43: F | Q43: F | R43: T | AW43: 5396833A07ACC75A6181D5210232B454A483BC07F5244E633C7D2FCEE9A16A3691C3
A44: [ 합 계 ] | F44: =TRUNC(SUMIF(N41:N43, N40, F41:F43),0) -> 7830 | H44: =TRUNC(SUMIF(N41:N43, N40, H41:H43),0) -> 30088 | J44: =TRUNC(SUMIF(N41:N43, N40, J41:J43),0) -> 0 | L44: =F44+H44+J44 -> 37918 | N44: TOTAL | O44: TOTAL
...

Sheet 단가대비표
A1: 단 가 대 비 표
A2: [ 통영시 케이블카 상부역사 전망대 설치공사 ]
A3: 코 드 | B3: 품 명 | C3: 규격 | D3: 단위 | E3: 재 료 비 | P3: 노 무 비 | Q3: 경 비 | W3: 번 호 | X3: 비 고 | Y3: 품목구분 | Z3: 노임구분 | AA3: 소수점처리 | AB3: 자재구분
E4: 가격정보 | F4: PAGE | G4: 거래가격 | H4: PAGE | I4: 유통물가 | J4: PAGE | K4: 물가자료 | L4: PAGE | M4: 조사가격2 | N4: PAGE | O4: 적용단가 | Q4: 가격정보 | R4: 거래가격 | S4: 유통물가 | T4: 물가자료 | U4: 조사가격2 | V4: 적용단가
A5: 5489E3BD07CACAEF62ED782E05127C14AA4BA2 | B5: 크레인(타이어) | C5: 20ton | D5: 대 | E5: 0 | G5: 0 | I5: 0 | K5: 0 | M5: 0 | O5: 0 | P5: 0 | Q5: 0 | R5: 0 | S5: 0 | T5: 0 | U5: 205434 | V5: =SMALL(Q5:U5,COUNTIF(Q5:U5,0)+1) -> 205434 | W5: 자재 1 | X5: 천원
A6: 5489E3BD07CACDA1625BF729B4D2F08D4F90E2 | B6: 소형브레이커(전기식) | C6: 1.5kw | D6: 대 | E6: 0 | G6: 0 | I6: 0 | K6: 0 | M6: 0 | O6: 0 | P6: 0 | Q6: 0 | R6: 0 | S6: 0 | T6: 0 | U6: 1145 | V6: =SMALL(Q6:U6,COUNTIF(Q6:U6,0)+1) -> 1145 | W6: 자재 2 | X6: 천원
A7: 5489E3BD07CACF566330A223F68A428681747B | B7: 용접기(교류) | C7: 500Amp | D7: 대 | E7: 0 | G7: 0 | I7: 0 | K7: 0 | M7: 0 | O7: 0 | P7: 0 | Q7: 0 | R7: 0 | S7: 0 | T7: 0 | U7: 544 | V7: =SMALL(Q7:U7,COUNTIF(Q7:U7,0)+1) -> 544 | W7: 자재 3 | X7: 천원
A8: 549A438907976C316D6CA0261F24761DFE9471 | B8: 철강설 | C8: 철강설, 고철, 작업설부산물 | D8: TON | E8: 240000 | G8: 260000 | H8: 1456 | I8: 195000 | J8: 1246 | K8: 0 | M8: 0 | O8: =SMALL(E8:M8,COUNTIF(E8:M8,0)+1) -> 195000 | P8: 0 | Q8: 0 | R8: 0 | S8: 0 | T8: 0 | U8: 0 | V8: 0 | W8: 자재 4 | X8: 수집상차도
A9: 549A735D0779C0BE629F6124FFC8B7D51BCDBF | B9: 산소가스 | C9: 산소가스, 기체(㎥) | D9: M3 | E9: 0 | G9: 2166.66 | H9: 1435 | I9: 2333.33 | J9: 1238 | K9: 0 | M9: 0 | O9: =SMALL(E9:M9,COUNTIF(E9:M9,0)+1) -> 2166.66 | P9: 0 | Q9: 0 | R9: 0 | S9: 0 | T9: 0 | U9: 0 | V9: 0 | W9: 자재 5 | X9: 대기압상태기준
A10: 549A735D0779C0BE629F6124FFC8B7D51BCDB1 | B10: 산소가스 | C10: 기체 | D10: L | E10: 2 | G10: 2.16 | H10: 1435 | I10: 2.33 | J10: 1238 | K10: 0 | M10: 0 | O10: =SMALL(E10:M10,COUNTIF(E10:M10,0)+1) -> 2 | P10: 0 | Q10: 0 | R10: 0 | S10: 0 | T10: 0 | U10: 0 | V10: 0 | W10: 자재 6 | X10: 대기압상태기준
A11: 549A735D077B8B776EE3B220B009350DFC4BE4 | B11: 수팽창지수고무 | C11: 수팽창지수고무, KCH2010, 시공조인트용BOX연결 | D11: M | E11: 0 | G11: 1900 | H11: 347 | I11: 0 | K11: 0 | M11: 0 | O11: =SMALL(E11:M11,COUNTIF(E11:M11,0)+1) -> 1900 | P11: 0 | Q11: 0 | R11: 0 | S11: 0 | T11: 0 | U11: 0 | V11: 0 | W11: 자재 7
A12: 549A032C07E167156CE0DC2D97B62C113EAFD7 | B12: 경유 | C12: 경유, 저유황 | D12: L | E12: 0 | G12: 1210.9 | H12: 1435 | I12: 1237.27 | J12: 1237 | K12: 0 | M12: 1050 | O12: =SMALL(E12:M12,COUNTIF(E12:M12,0)+1) -> 1050 | P12: 0 | Q12: 0 | R12: 0 | S12: 0 | T12: 0 | U12: 0 | V12: 0 | W12: 자재 8
A13: 549A032C07E05E746F48D3212029F59373E83A | B13: 아세틸렌가스 | C13: 아세틸렌가스, kg | D13: kg | E13: 10450 | G13: 13200 | H13: 1435 | I13: 11000 | J13: 1238 | K13: 0 | M13: 9020 | O13: =SMALL(E13:M13,COUNTIF(E13:M13,0)+1) -> 9020 | P13: 0 | Q13: 0 | R13: 0 | S13: 0 | T13: 0 | U13: 0 | V13: 0 | W13: 자재 9
A14: 549A032C07E05E746F5927251C37059EAA3DFB | B14: 액화석유가스 | C14: 액화석유가스, 건설용 LPG | D14: kg | E14: 930 | G14: 0 | I14: 1326 | J14: 1237 | K14: 0 | M14: 0 | O14: =SMALL(E14:M14,COUNTIF(E14:M14,0)+1) -> 930 | P14: 0 | Q14: 0 | R14: 0 | S14: 0 | T14: 0 | U14: 0 | V14: 0 | W14: 자재 10
A15: 54A4F3EF07394F9A6B510729003CAC7B4FE50C | B15: 용접봉(연강용) | C15: 3.2(KSE4301) | D15: kg | E15: 0 | G15: 2380 | H15: 1310 | I15: 2380 | J15: 1180 | K15: 0 | M15: 1930 | O15: =SMALL(E15:M15,COUNTIF(E15:M15,0)+1) -> 1930 | P15: 0 | Q15: 0 | R15: 0 | S15: 0 | T15: 0 | U15: 0 | V15: 0 | W15: 자재 11
A16: 54A4F3EF07394F9A6B510729003CAC7B4D3F21 | B16: 용접봉(스테인리스) | C16: 3.2(KSD308-16) | D16: kg | E16: 0 | G16: 8880 | H16: 1310 | I16: 8880 | J16: 1180 | K16: 0 | M16: 7000 | O16: =SMALL(E16:M16,COUNTIF(E16:M16,0)+1) -> 7000 | P16: 0 | Q16: 0 | R16: 0 | S16: 0 | T16: 0 | U16: 0 | V16: 0 | W16: 자재 12
A17: 54A483BC07F5244E633C7D2FCEE9A16A3691C3 | B17: 안전발판 | C17: PSP, 3040*420*3mm | D17: 매 | E17: 0 | G17: 0 | H17: 134 | I17: 0 | K17: 0 | M17: 26350 | O17: =SMALL(E17:M17,COUNTIF(E17:M17,0)+1) -> 26350 | P17: 0 | Q17: 0 | R17: 0 | S17: 0 | T17: 0 | U17: 0 | V17: 0 | W17: 자재 13
A18: 54B52362077347626276312EE1D4A62B72B5C7 | B18: ㄱ형강 | C18: ㄱ형강, 등변, 50*50*4mm | D18: kg | E18: 750 | G18: 800 | H18: 37 | I18: 735 | J18: 22 | K18: 0 | M18: 0 | O18: =SMALL(E18:M18,COUNTIF(E18:M18,0)+1) -> 735 | P18: 0 | Q18: 0 | R18: 0 | S18: 0 | T18: 0 | U18: 0 | V18: 0 | W18: 자재 14
A19: 54B523620773476160160A27AFF2205867F18C | B19: 스테인리스강봉 | C19: 스테인리스강봉, STS304, Φ19mm | D19: kg | E19: 0 | G19: 3630 | H19: 62 | I19: 0 | K19: 0 | M19: 0 | O19: =SMALL(E19:M19,COUNTIF(E19:M19,0)+1) -> 3630 | P19: 0 | Q19: 0 | R19: 0 | S19: 0 | T19: 0 | U19: 0 | V19: 0 | W19: 자재 15
A20: 54B523620773476160057827DDCA912421D06F | B20: 철근콘크리트용봉강 | C20: 철근콘크리트용봉강, 이형봉강(SD350/400), HD-13, 지정장소도 | D20: TON | E20: 0 | G20: 630000 | H20: 33 | I20: 660000 | J20: 17 | K20: 0 | M20: 0 | O20: =SMALL(E20:M20,COUNTIF(E20:M20,0)+1) -> 630000 | P20: 0 | Q20: 0 | R20: 0 | S20: 0 | T20: 0 | U20: 0 | V20: 0 | W20: 자재 16
A21: 54B523620773476067A9612DB0DEF230F4ACA3 | B21: 보조강재 | C21: 대강 | D21: kg | E21: 0 | G21: 880 | H21: 40 | I21: 0 | K21: 0 | M21: 0 | O21: =SMALL(E21:M21,COUNTIF(E21:M21,0)+1) -> 880 | P21: 0 | Q21: 0 | R21: 0 | S21: 0 | T21: 0 | U21: 0 | V21: 0 | W21: 자재 17
A22: 54B523620773476067A9612DB0DEF23725682B | B22: H빔 | C22: H빔, SS400, 350*175*7.0*11.0mm | D22: TON | E22: 740000 | G22: 780000 | H22: 40 | I22: 779000 | J22: 19 | K22: 0 | M22: 0 | O22: =SMALL(E22:M22,COUNTIF(E22:M22,0)+1) -> 740000 | P22: 0 | Q22: 0 | R22: 0 | S22: 0 | T22: 0 | U22: 0 | V22: 0 | W22: 자재 18
A23: 54B523620773476067A9612DB0DEF237256ADF | B23: H빔 | C23: H빔, SS400, 488*300*11.0*18.0mm | D23: TON | E23: 740000 | G23: 780000 | H23: 40 | I23: 779000 | J23: 19 | K23: 0 | M23: 0 | O23: =SMALL(E23:M23,COUNTIF(E23:M23,0)+1) -> 740000 | P23: 0 | Q23: 0 | R23: 0 | S23: 0 | T23: 0 | U23: 0 | V23: 0 | W23: 자재 19
A24: 54B523620773476067A9612E574AFA3DB2FFCC | B24: CT형강 | C24: 300*200*11*17 | D24: TON | E24: 0 | G24: 0 | I24: 1460000 | J24: 22 | K24: 0 | M24: 0 | O24: =SMALL(E24:M24,COUNTIF(E24:M24,0)+1) -> 1460000 | P24: 0 | Q24: 0 | R24: 0 | S24: 0 | T24: 0 | U24: 0 | V24: 0 | W24: 자재 20
A25: 54B523620773449161DC9C2E7F979134C5AFD8 | B25: 일반구조용압연강판 | C25: 일반구조용압연강판, 10mm | D25: TON | E25: 611300 | G25: 796600 | H25: 45 | I25: 808600 | J25: 26 | K25: 0 | M25: 0 | O25: =SMALL(E25:M25,COUNTIF(E25:M25,0)+1) -> 611300 | P25: 0 | Q25: 0 | R25: 0 | S25: 0 | T25: 0 | U25: 0 | V25: 0 | W25: 자재 21
A26: 54B523620773449161DC9C2E7F979134CE843B | B26: 도장용융아연도강판 | C26: 도장용융아연도강판, 폴리에스터(양면), 0.60mm | D26: kg | E26: 0 | G26: 1745 | H26: 54 | I26: 1590 | J26: 29 | K26: 0 | M26: 0 | O26: =SMALL(E26:M26,COUNTIF(E26:M26,0)+1) -> 1590 | P26: 0 | Q26: 0 | R26: 0 | S26: 0 | T26: 0 | U26: 0 | V26: 0 | W26: 자재 22
A27: 54B523620773449161DC822736C0A49887FCC8 | B27: 스테인리스강판 | C27: 스테인리스강판, STS316, 1.5mm | D27: kg | E27: 0 | G27: 4366 | H27: 59 | I27: 4150 | J27: 36 | K27: 0 | M27: 0 | O27: =SMALL(E27:M27,COUNTIF(E27:M27,0)+1) -> 4150 | P27: 0 | Q27: 0 | R27: 0 | S27: 0 | T27: 0 | U27: 0 | V27: 0 | W27: 자재 23
A28: 54B523620773449161DC822736C0A49887FF98 | B28: 스테인리스강판 | C28: 스테인리스강판, STS316, 3.0mm | D28: kg | E28: 0 | G28: 0 | I28: 4500 | J28: 36 | K28: 0 | M28: 0 | O28: =SMALL(E28:M28,COUNTIF(E28:M28,0)+1) -> 4500 | P28: 0 | Q28: 0 | R28: 0 | S28: 0 | T28: 0 | U28: 0 | V28: 0 | W28: 자재 24
A29: 54B523620773449161DC822737E12B8D01D210 | B29: 스테인리스강판 | C29: 스테인리스강판, STS304, 6.0mm | D29: kg | E29: 0 | G29: 2810 | H29: 60 | I29: 2800 | J29: 36 | K29: 0 | M29: 0 | O29: =SMALL(E29:M29,COUNTIF(E29:M29,0)+1) -> 2800 | P29: 0 | Q29: 0 | R29: 0 | S29: 0 | T29: 0 | U29: 0 | V29: 0 | W29: 자재 25
A30: 54B523620773449161DC822737E12B8D01D212 | B30: 스테인리스강판 | C30: 스테인리스강판, STS304, 8.0mm | D30: kg | E30: 0 | G30: 2810 | H30: 60 | I30: 2800 | J30: 36 | K30: 0 | M30: 0 | O30: =SMALL(E30:M30,COUNTIF(E30:M30,0)+1) -> 2800 | P30: 0 | Q30: 0 | R30: 0 | S30: 0 | T30: 0 | U30: 0 | V30: 0 | W30: 자재 26
A31: 54B523620773449161DC822737E12B8D01D213 | B31: 스테인리스강판 | C31: 스테인리스강판, STS304, 9.0mm | D31: kg | E31: 0 | G31: 3650 | H31: 60 | I31: 3600 | J31: 36 | K31: 0 | M31: 0 | O31: =SMALL(E31:M31,COUNTIF(E31:M31,0)+1) -> 3600 | P31: 0 | Q31: 0 | R31: 0 | S31: 0 | T31: 0 | U31: 0 | V31: 0 | W31: 자재 27
A32: 54B523620773449161DC822737E12B8D01D21D | B32: 스테인리스강판 | C32: 스테인리스강판, STS304, 12mm | D32: kg | E32: 0 | G32: 3650 | H32: 60 | I32: 3600 | J32: 36 | K32: 0 | M32: 0 | O32: =SMALL(E32:M32,COUNTIF(E32:M32,0)+1) -> 3600 | P32: 0 | Q32: 0 | R32: 0 | S32: 0 | T32: 0 | U32: 0 | V32: 0 | W32: 자재 28
A33: 54B523620772BEED6F79612FFA9A805030D034 | B33: 레미콘 | C33: 레미콘, 경남(거제, 통영권), 25-24-12 | D33: M3 | E33: 74340 | G33: 0 | I33: 0 | K33: 0 | M33: 67580 | O33: =SMALL(E33:M33,COUNTIF(E33:M33,0)+1) -> 67580 | P33: 0 | Q33: 0 | R33: 0 | S33: 0 | T33: 0 | U33: 0 | V33: 0 | W33: 자재 29
A34: 54B5236207761BC0640D5726FAB55D8CC482DE | B34: 루프드레인 | C34: 루프드레인, ISRD1610, 100mm | D34: 개 | E34: 50620 | G34: 26000 | H34: 536 | I34: 66000 | J34: 468 | K34: 0 | M34: 23000 | O34: =SMALL(E34:M34,COUNTIF(E34:M34,0)+1) -> 23000 | P34: 0 | Q34: 0 | R34: 0 | S34: 0 | T34: 0 | U34: 0 | V34: 0 | W34: 자재 30
A35: 54B5236207761BCE63FAEA272580134C6C47BF | B35: 샌드위치패널(상부리얼징크) | C35: 샌드위치패널,그라스울, 지붕재, 75mm | D35: M2 | E35: 0 | G35: 0 | I35: 0 | K35: 53200 | L35: 555 | M35: 35000 | O35: =SMALL(E35:M35,COUNTIF(E35:M35,0)+1) -> 35000 | P35: 0 | Q35: 0 | R35: 0 | S35: 0 | T35: 0 | U35: 0 | V35: 0 | W35: 자재 31
A36: 54B5236207761BCE63FAEA245013B6C32CD16C | B36: 알루미늄 복합패널 | C36: 평판 T=4 불소수지 | D36: M2 | E36: 0 | G36: 120000 | H36: 634 | I36: 0 | K36: 0 | M36: 110000 | O36: =SMALL(E36:M36,COUNTIF(E36:M36,0)+1) -> 110000 | P36: 0 | Q36: 0 | R36: 0 | S36: 0 | T36: 0 | U36: 0 | V36: 0 | W36: 자재 32 | X36: 시공도
A37: 54B5236207761BCE63FAEA245013B6C32CD273 | B37: 알루미늄 복합패널 | C37: 곡판 T=4 불소수지 | D37: M2 | E37: 0 | G37: 130000 | H37: 634 | I37: 0 | K37: 0 | M37: 120000 | O37: =SMALL(E37:M37,COUNTIF(E37:M37,0)+1) -> 120000 | P37: 0 | Q37: 0 | R37: 0 | S37: 0 | T37: 0 | U37: 0 | V37: 0 | W37: 자재 33 | X37: 시공도
A38: 54B5236207761BCE63647D2BBC9BEEFAAF1024 | B38: 도막형바닥재/관급 | C38: 정석케미칼, MSE-A02, t1.5mm, MMA, 스텐실 | D38: M2 | E38: 38100 | G38: 0 | I38: 0 | K38: 0 | M38: 0 | O38: =SMALL(E38:M38,COUNTIF(E38:M38,0)+1) -> 38100 | P38: 0 | Q38: 0 | R38: 0 | S38: 0 | T38: 0 | U38: 0 | V38: 0 | W38: 자재 34 | X38: 식별번호22993552 | AB38: 2
A39: 54B52362077572A96FB93B2915AAF1568D7D3B | B39: HY 200 | C39: 케미컬약액 | D39: ML | E39: 0 | G39: 0 | I39: 0 | K39: 0 | M39: 95 | O39: =SMALL(E39:M39,COUNTIF(E39:M39,0)+1) -> 95 | P39: 0 | Q39: 0 | R39: 0 | S39: 0 | T39: 0 | U39: 0 | V39: 0 | W39: 자재 35
A40: 54B52362077572A96FB93B2915AAF1568D7D3C | B40: TE-C3X 14/27 | C40: 드릴비트 | D40: 개 | E40: 0 | G40: 0 | I40: 0 | K40: 0 | M40: 30500 | O40: =SMALL(E40:M40,COUNTIF(E40:M40,0)+1) -> 30500 | P40: 0 | Q40: 0 | R40: 0 | S40: 0 | T40: 0 | U40: 0 | V40: 0 | W40: 자재 36
...

Sheet 원가계산서
B1: 공 사 원 가 계 산 서
B2: 공사명 : 통영시 케이블카 상부역사 전망대 설치공사 | F2: 금액 : 오억이천일백오십육만오백원(￦521,560,500)
B3: 비 목 | E3: 금 액 | F3: 구 성 비 | G3: 비 고
A4: A1 | B4: 순 공 사 원 가 | C4: 재 료 비 | D4: 직 접 재 료 비 | E4: =TRUNC(공종별집계표!F5, 0) -> 114117131
A5: A2 | D5: 간 접 재 료 비 | E5: 0
A6: A3 | D6: 작업설, 부산물(△) | E6: 0
A7: AS | D7: [ 소 계 ] | E7: =TRUNC(E4+E5-E6, 0) -> 114117131
A8: B1 | C8: 노 무 비 | D8: 직 접 노 무 비 | E8: =TRUNC(공종별집계표!H5, 0) -> 178966846
A9: B2 | D9: 간 접 노 무 비 | E9: =TRUNC(E8*0.097, 0) -> 17359784 | F9: 직접노무비 * 9.7%
A10: BS | D10: [ 소 계 ] | E10: =TRUNC(E8+E9, 0) -> 196326630
A11: C2 | C11: 경 비 | D11: 기 계 경 비 | E11: =TRUNC(공종별집계표!J5, 0) -> 2616998
A12: C4 | D12: 산 재 보 험 료 | E12: =TRUNC(E10*0.039, 0) -> 7656738 | F12: 노무비 * 3.9%
A13: C5 | D13: 고 용 보 험 료 | E13: =TRUNC(E10*0.0087, 0) -> 1708041 | F13: 노무비 * 0.87%
A14: C6 | D14: 국민 건강 보험료 | E14: =TRUNC(E8*0.017, 0) -> 3042436 | F14: 직접노무비 * 1.7%
A15: C7 | D15: 국민 연금 보험료 | E15: =TRUNC(E8*0.0249, 0) -> 4456274 | F15: 직접노무비 * 2.49%
A16: CB | D16: 노인장기요양보험료 | E16: =TRUNC(E14*0.0655, 0) -> 199279 | F16: 건강보험료 * 6.55%
A17: C8 | D17: 퇴직 공제 부금비 | E17: =TRUNC(E8*0.023, 0) -> 4116237 | F17: 직접노무비 * 2.3%
A18: CA | D18: 산업안전보건관리비 | E18: =TRUNC((E7+E8)*0.0293, 0) -> 8587360 | F18: (재료비+직노+도급자관급/1.1) * 2.93%
A19: CG | D19: 기 타 경 비 | E19: =TRUNC((E7+E10)*0.048, 0) -> 14901300 | F19: (재료비+노무비) * 4.8%
A20: CH | D20: 환 경 보 전 비 | E20: =TRUNC((E7+E8+E11)*0.005, 0) -> 1478504 | F20: (재료비+직노+기계경비) * 0.5%
A21: CK | D21: 하도급지급보증수수료 | E21: =TRUNC((E7+E8+E11)*0.00081, 0) -> 239517 | F21: (재료비+직노+기계경비) * 0.081%
A22: CL | D22: 건설기계대여금지급보증서발급수수료 | E22: =TRUNC((E7+E8+E11)*0.0007, 0) -> 206990 | F22: (재료비+직노+기계경비) * 0.07%
A23: CS | D23: [ 소 계 ] | E23: =TRUNC(E11+E12+E13+E14+E15+E17+E18+E16+E19+E20+E21+E22, 0) -> 49209674
A24: S1 | B24: 계 | E24: =TRUNC(E7+E10+E23, 0) -> 359653435
A25: D1 | B25: 일 반 관 리 비 | E25: =TRUNC(E24*0.06, 0) -> 21579206 | F25: 계 * 6%
A26: D2 | B26: 이 윤 | E26: =TRUNC((E10+E23+E25)*0.12-4428, 0) -> 32049433 | F26: (노무비+경비+일반관리비) * 12%
A27: D7 | B27: 건설폐기물처리비 | E27: =TRUNC(공종별집계표!T14, 0) -> 1477926
A28: D9 | B28: 공 급 가 액 | E28: =TRUNC(INT((E24+E25+E26+E27)/10000)*10000, 0) -> 414760000
A29: DB | B29: 부 가 가 치 세 | E29: =TRUNC(E28*0.1, 0) -> 41476000 | F29: 공급가액 * 10%
A30: DH | B30: 도 급 액 | E30: =TRUNC(E28+E29, 0) -> 456236000
A31: DK | B31: 관급자설치관급대 | E31: =TRUNC(공종별집계표!T13, 0) -> 12687300
A32: DM | B32: 자재운반비(헬기) | E32: =TRUNC(공종별집계표!T15, 0) -> 52637200
A33: S2 | B33: 총 공 사 비 | E33: =TRUNC(E30+E31+E32, 0) -> 521560500

Sheet  공사설정 
A1: 이 Sheet는 수정하지 마십시요
A2: 공사구분 | B2: A
A3: 확정내역 | B3: 원내역
A4: 자재단가적용 | B4: 5
A5: 경비단가적용 | B5: 5
A6: 품목코드형식 | B6: XXXX-XXXX-XXXXXXXXX
A7: 내역금액소수점처리 | B7: C | C7: T
A8: 일위대가내역소수점처리 | B8: C | C8: 2
A9: 단가명 | B9: 가격정보 | C9: 거래가격 | D9: 유통물가 | E9: 물가자료 | F9: 조사가격2 | G9: TTTTT
A10: 환율 | B10: 1208 | C10: 0 | D10: 0
A11: 시간당작업량 | B11: R | C11: 4
A12: 1회 사이클시간 | B12: R | C12: 4
A13: 시간당 작업사이클 | B13: R | C13: 3
A14: 일반변수 | B14: C | C14: 5
A15: 시간당 노임산출 계수 | B15: A | C15: 1/8*16/12*25/20 | D15: 1/8*16/12*25/20 | E15: 1/8*16/12*25/20 | F15: 1
A16: 재료비 할증 계수 | B16: 1.11 | C16: 1.12
A17: 노무비 할증 계수 | B17: 1 | C17: 1.5 | D17: 1.16 | E17: 1.6 | F17: 1.6 | G17: 1.6 | H17: 1.94 | I17: 1.94 | J17: 1.94 | K17: 1 | L17: 1 | M17: 1
A18: 경비 할증 계수 | B18: 1.25 | C18: 1.071
A19: 내역,일위대가 품명,규격,단위 따로적용
A20: 내역단가 소수점처리 | B20: C | C20: 1
A21: 코드 | B21: 공종구분명 | C21: 원가비목코드
A22: 1 | B22: 작 업 부 산 물 | C22: A3
A23: 2 | B23: 운 반 비 | C23: C1
A24: 3 | B24: 도급자설치관급대 | C24: DJ
A25: 4 | B25: 관급자설치관급대 | C25: DK
A26: 5 | B26: 사 급 자 재 대 | C26: D3
A27: 6
A28: 7 | B28: 농도측정및감리비
A29: 8 | B29: 건설폐기물처리비 | C29: D7
A30: 9 | B30: 자재운반비(헬기) | C30: DM

Sheet Sheet1
