Workbook

Sheet 공종별집계표
A1: 공 종 별 집 계 표
A2: [ 통영시 케이블카 상부역사 전망대 설치공사 ]
A3: 품 명 | B3: 규 격 | C3: 단위 | D3: 수량 | E3: 재 료 비 | G3: 노 무 비 | I3: 경 비 | K3: 합 계 | M3: 비 고 | N3: 공종코드 | O3: 변수 | P3: 상위공종 | Q3: 공종구분 | R3: 공종레벨 | S3: 공종소계 | T3: 원가계산서 연결금액
E4: 단 가 | F4: 금 액 | G4: 단 가 | H4: 금 액 | I4: 단 가 | J4: 금 액 | K4: 단 가 | L4: 금 액
A5: 01 통영시 케이블카 상부역사 전망대 설치공사 | D5: 1 | E5: =F6 -> 114117131 | F5: =E5*D5 -> 114117131 | G5: =H6 -> 178966846 | H5: =G5*D5 -> 178966846 | I5: =J6 -> 2616998 | J5: =I5*D5 -> 2616998 | K5: =E5+G5+I5 -> 295700975 | L5: =F5+H5+J5 -> 295700975 | N5: 01 | R5: 1 | S5: <
A6: 0101 상부역사 건축공사 | D6: 1 | E6: =F7+F8+F9+F10+F11+F12 -> 114117131 | F6: =E6*D6 -> 114117131 | G6: =H7+H8+H9+H10+H11+H12 -> 178966846 | H6: =G6*D6 -> 178966846 | I6: =J7+J8+J9+J10+J11+J12 -> 2616998 | J6: =I6*D6 -> 2616998 | K6: =E6+G6+I6 -> 295700975 | L6: =F6+H6+J6 -> 295700975 | N6: 0101 | P6: 01 | R6: 2 | S6: <
A7: 010101 가 설 공 사 | D7: 1 | E7: =공종별내역서!F29 -> 10105347 | F7: =E7*D7 -> 10105347 | G7: =공종별내역서!H29 -> 86557568 | H7: =G7*D7 -> 86557568 | I7: =공종별내역서!J29 -> 1275362 | J7: =I7*D7 -> 1275362 | K7: =E7+G7+I7 -> 97938277 | L7: =F7+H7+J7 -> 97938277 | N7: 010101 | P7: 0101 | R7: 3
A8: 010102 철근콘크리트공사 | D8: 1 | E8: =공종별내역서!F55 -> 19768962 | F8: =E8*D8 -> 19768962 | G8: =공종별내역서!H55 -> 6997998 | H8: =G8*D8 -> 6997998 | I8: =공종별내역서!J55 -> 44238 | J8: =I8*D8 -> 44238 | K8: =E8+G8+I8 -> 26811198 | L8: =F8+H8+J8 -> 26811198 | N8: 010102 | P8: 0101 | R8: 3
A9: 010103 철 골 공 사 | D9: 1 | E9: =공종별내역서!F81 -> 11828845 | F9: =E9*D9 -> 11828845 | G9: =공종별내역서!H81 -> 9864757 | H9: =G9*D9 -> 9864757 | I9: =공종별내역서!J81 -> 1245443 | J9: =I9*D9 -> 1245443 | K9: =E9+G9+I9 -> 22939045 | L9: =F9+H9+J9 -> 22939045 | N9: 010103 | P9: 0101 | R9: 3
A10: 010104 지 붕 공 사 | D10: 1 | E10: =공종별내역서!F107 -> 66562926 | F10: =E10*D10 -> 66562926 | G10: =공종별내역서!H107 -> 16020845 | H10: =G10*D10 -> 16020845 | I10: =공종별내역서!J107 -> 48936 | J10: =I10*D10 -> 48936 | K10: =E10+G10+I10 -> 82632707 | L10: =F10+H10+J10 -> 82632707 | N10: 010104 | P10: 0101 | R10: 3
A11: 010105 칠 공 사 | D11: 1 | E11: =공종별내역서!F133 -> 6562165 | F11: =E11*D11 -> 6562165 | G11: =공종별내역서!H133 -> 52549598 | H11: =G11*D11 -> 52549598 | I11: =공종별내역서!J133 -> 0 | J11: =I11*D11 -> 0 | K11: =E11+G11+I11 -> 59111763 | L11: =F11+H11+J11 -> 59111763 | N11: 010105 | P11: 0101 | R11: 3
A12: 010106 철 거 공 사 | D12: 1 | E12: =공종별내역서!F159 -> -711114 | F12: =E12*D12 -> -711114 | G12: =공종별내역서!H159 -> 6976080 | H12: =G12*D12 -> 6976080 | I12: =공종별내역서!J159 -> 3019 | J12: =I12*D12 -> 3019 | K12: =E12+G12+I12 -> 6267985 | L12: =F12+H12+J12 -> 6267985 | N12: 010106 | P12: 0101 | R12: 3 | S12: <
A13: 010107 관급자설치관급대 | D13: 1 | E13: =공종별내역서!F185 -> 12687300 | F13: =E13*D13 -> 12687300 | G13: =공종별내역서!H185 -> 0 | H13: =G13*D13 -> 0 | I13: =공종별내역서!J185 -> 0 | J13: =I13*D13 -> 0 | K13: =E13+G13+I13 -> 12687300 | L13: =F13+H13+J13 -> 12687300 | N13: 010107 | Q13: 4 | R13: 3 | T13: =L13*1 -> 12687300
A14: 010108 건설폐기물처리비 | D14: 1 | E14: =공종별내역서!F211 -> 0 | F14: =E14*D14 -> 0 | G14: =공종별내역서!H211 -> 0 | H14: =G14*D14 -> 0 | I14: =공종별내역서!J211 -> 1477926 | J14: =I14*D14 -> 1477926 | K14: =E14+G14+I14 -> 1477926 | L14: =F14+H14+J14 -> 1477926 | N14: 010108 | Q14: 8 | R14: 3 | T14: =L14*1 -> 1477926
A15: 010109 재자운반비(헬기) | D15: 1 | E15: =공종별내역서!F237 -> 0 | F15: =E15*D15 -> 0 | G15: =공종별내역서!H237 -> 0 | H15: =G15*D15 -> 0 | I15: =공종별내역서!J237 -> 52637200 | J15: =I15*D15 -> 52637200 | K15: =E15+G15+I15 -> 52637200 | L15: =F15+H15+J15 -> 52637200 | N15: 010109 | Q15: 9 | R15: 3 | T15: =L15*1 -> 52637200
A29: [ 합 계 ] | F29: =F5 -> 114117131 | H29: =H5 -> 178966846 | J29: =J5 -> 2616998 | L29: =L5 -> 295700975

Sheet 공종별내역서
A1: [ 통영시 케이블카 상부역사 전망대 설치공사 ]
A2: 품 명 | B2: 규 격 | C2: 단위 | D2: 수량 | E2: 재 료 비 | G2: 노 무 비 | I2: 경 비 | K2: 합 계 | M2: 비 고 | N2: 품목코드 | O2: 변수 | P2: 설정 | Q2: 공종코드 | R2: 일위 | S2: 단산 | T2: 자재 | U2: 손료적용 | V2: 손료저장 | W2: 적용율 | X2: JUK1 | Y2: JUK2 | Z2: JUK3 | AA2: JUK4 | AB2: JUK5 | AC2: JUK6 | AD2: JUK7 | AE2: JUK8 | AF2: JUK9 | AG2: JUK10 | AH2: JUK11 | AI2: JUK12 | AJ2: JUK13 | AK2: JUK14 | AL2: JUK15 | AM2: JUK16 | AN2: JUK17 | AO2: JUK18 | AP2: JUK19 | AQ2: JUK20 | AR2: 자재구분 | AS2: 공종구분 | AT2: 공종레벨 | AU2: 공종+자재 | AV2: 고유번호
E3: 단 가 | F3: 금 액 | G3: 단 가 | H3: 금 액 | I3: 단 가 | J3: 금 액 | K3: 단 가 | L3: 금 액
A4: 010101 가 설 공 사 | Q4: 010101
A5: 강관비계매기/쌍줄 10m이하 | B5: 3개월(발판 유) | C5: ㎡ | D5: 1812 | E5: =TRUNC(일위대가목록!E4,0) -> 1242 | F5: =TRUNC(E5*D5, 0) -> 2250504 | G5: =TRUNC(일위대가목록!F4,0) -> 14378 | H5: =TRUNC(G5*D5, 0) -> 26052936 | I5: =TRUNC(일위대가목록!G4,0) -> 287 | J5: =TRUNC(I5*D5, 0) -> 520044 | K5: =TRUNC(E5+G5+I5, 0) -> 15907 | L5: =TRUNC(F5+H5+J5, 0) -> 28823484 | M5: 호표 1 | N5: 5396833A07ACC75A6193ED21999D29 | Q5: 010101 | R5: T | S5: F | T5: F | AU5: 0101015396833A07ACC75A6193ED21999D29 | AV5: 4
A6: 강관비계매기/쌍줄 10m초과~20m이하 | B6: 3개월(발판 유) | C6: ㎡ | D6: 1676.3 | E6: =TRUNC(일위대가목록!E5,0) -> 1242 | F6: =TRUNC(E6*D6, 0) -> 2081964 | G6: =TRUNC(일위대가목록!F5,0) -> 16719 | H6: =TRUNC(G6*D6, 0) -> 28026059 | I6: =TRUNC(일위대가목록!G5,0) -> 334 | J6: =TRUNC(I6*D6, 0) -> 559884 | K6: =TRUNC(E6+G6+I6, 0) -> 18295 | L6: =TRUNC(F6+H6+J6, 0) -> 30667907 | M6: 호표 2 | N6: 5396833A07ACC75A6193ED219AA372 | Q6: 010101 | R6: T | S6: F | T6: F | AU6: 0101015396833A07ACC75A6193ED219AA372 | AV6: 5
A7: 강관비계매기/쌍줄 20m초과~30m이하 | B7: 3개월(발판 유) | C7: ㎡ | D7: 514.3 | E7: =TRUNC(일위대가목록!E6,0) -> 1242 | F7: =TRUNC(E7*D7, 0) -> 638760 | G7: =TRUNC(일위대가목록!F6,0) -> 19061 | H7: =TRUNC(G7*D7, 0) -> 9803072 | I7: =TRUNC(일위대가목록!G6,0) -> 380 | J7: =TRUNC(I7*D7, 0) -> 195434 | K7: =TRUNC(E7+G7+I7, 0) -> 20683 | L7: =TRUNC(F7+H7+J7, 0) -> 10637266 | M7: 호표 3 | N7: 5396833A07ACC75A6193ED219B4AFC | Q7: 010101 | R7: T | S7: F | T7: F | AU7: 0101015396833A07ACC75A6193ED219B4AFC | AV7: 6
A8: 내부수평비계(틀비계) | B8: H=8.0M(발판 유) | C8: M2 | D8: 307.4 | E8: =TRUNC(일위대가목록!E7,0) -> 6511 | F8: =TRUNC(E8*D8, 0) -> 2001481 | G8: =TRUNC(일위대가목록!F7,0) -> 24070 | H8: =TRUNC(G8*D8, 0) -> 7399118 | I8: =TRUNC(일위대가목록!G7,0) -> 0 | J8: =TRUNC(I8*D8, 0) -> 0 | K8: =TRUNC(E8+G8+I8, 0) -> 30581 | L8: =TRUNC(F8+H8+J8, 0) -> 9400599 | M8: 호표 4 | N8: 5396833A07ACC75A6181D5210232B7 | Q8: 010101 | R8: T | S8: F | T8: F | AU8: 0101015396833A07ACC75A6181D5210232B7 | AV8: 7
A9: 내부수평비계(틀비계) | B9: H=10.0M(발판 유) | C9: M2 | D9: 256.2 | E9: =TRUNC(일위대가목록!E8,0) -> 7830 | F9: =TRUNC(E9*D9, 0) -> 2006046 | G9: =TRUNC(일위대가목록!F8,0) -> 30088 | H9: =TRUNC(G9*D9, 0) -> 7708545 | I9: =TRUNC(일위대가목록!G8,0) -> 0 | J9: =TRUNC(I9*D9, 0) -> 0 | K9: =TRUNC(E9+G9+I9, 0) -> 37918 | L9: =TRUNC(F9+H9+J9, 0) -> 9714591 | M9: 호표 5 | N9: 5396833A07ACC75A6181D5210232B4 | Q9: 010101 | R9: T | S9: F | T9: F | AU9: 0101015396833A07ACC75A6181D5210232B4 | AV9: 8
A10: 내부수평비계(틀비계) | B10: H=20.0M(발판 유) | C10: M2 | D10: 78.1 | E10: =TRUNC(일위대가목록!E9,0) -> 14425 | F10: =TRUNC(E10*D10, 0) -> 1126592 | G10: =TRUNC(일위대가목록!F9,0) -> 71883 | H10: =TRUNC(G10*D10, 0) -> 5614062 | I10: =TRUNC(일위대가목록!G9,0) -> 0 | J10: =TRUNC(I10*D10, 0) -> 0 | K10: =TRUNC(E10+G10+I10, 0) -> 86308 | L10: =TRUNC(F10+H10+J10, 0) -> 6740654 | M10: 호표 6 | N10: 5396833A07ACC75A6181D5210232B5 | Q10: 010101 | R10: T | S10: F | T10: F | AU10: 0101015396833A07ACC75A6181D5210232B5 | AV10: 9
A11: 건축물현장정리 | B11: 철골조 | C11: M2 | D11: 272 | E11: =TRUNC(일위대가목록!E10,0) -> 0 | F11: =TRUNC(E11*D11, 0) -> 0 | G11: =TRUNC(일위대가목록!F10,0) -> 7183 | H11: =TRUNC(G11*D11, 0) -> 1953776 | I11: =TRUNC(일위대가목록!G10,0) -> 0 | J11: =TRUNC(I11*D11, 0) -> 0 | K11: =TRUNC(E11+G11+I11, 0) -> 7183 | L11: =TRUNC(F11+H11+J11, 0) -> 1953776 | M11: 호표 7 | N11: 5396833F071010366C0BE72B317646 | Q11: 010101 | R11: T | S11: F | T11: F | AU11: 0101015396833F071010366C0BE72B317646 | AV11: 11
A29: [ 합 계 ] | F29: =SUM(F5:F28) -> 10105347 | H29: =SUM(H5:H28) -> 86557568 | J29: =SUM(J5:J28) -> 1275362 | L29: =SUM(L5:L28) -> 97938277 | N29: TOTAL
A30: 010102 철근콘크리트공사 | Q30: 010102
A31: 수팽창지수고무 | B31: 수팽창지수고무, KCH2010, 시공조인트용BOX연결 | C31: M | D31: 11 | E31: =TRUNC(단가대비표!O11,0) -> 1900 | F31: =TRUNC(E31*D31, 0) -> 20900 | G31: =TRUNC(단가대비표!P11,0) -> 0 | H31: =TRUNC(G31*D31, 0) -> 0 | I31: =TRUNC(단가대비표!V11,0) -> 0 | J31: =TRUNC(I31*D31, 0) -> 0 | K31: =TRUNC(E31+G31+I31, 0) -> 1900 | L31: =TRUNC(F31+H31+J31, 0) -> 20900 | N31: 549A735D077B8B776EE3B220B009350DFC4BE4 | Q31: 010102 | R31: F | S31: F | T31: T | AU31: 010102549A735D077B8B776EE3B220B009350DFC4BE4 | AV31: 13
A32: 철근콘크리트용봉강 | B32: 철근콘크리트용봉강, 이형봉강(SD350/400), HD-13, 지정장소도 | C32: TON | D32: 2.5 | E32: =TRUNC(단가대비표!O20,0) -> 630000 | F32: =TRUNC(E32*D32, 0) -> 1575000 | G32: =TRUNC(단가대비표!P20,0) -> 0 | H32: =TRUNC(G32*D32, 0) -> 0 | I32: =TRUNC(단가대비표!V20,0) -> 0 | J32: =TRUNC(I32*D32, 0) -> 0 | K32: =TRUNC(E32+G32+I32, 0) -> 630000 | L32: =TRUNC(F32+H32+J32, 0) -> 1575000 | N32: 54B523620773476160057827DDCA912421D06F | Q32: 010102 | R32: F | S32: F | T32: T | AU32: 01010254B523620773476160057827DDCA912421D06F | AV32: 14
A33: 레미콘 | B33: 레미콘, 경남(거제, 통영권), 25-24-12 | C33: M3 | D33: 45.7 | E33: =TRUNC(단가대비표!O33,0) -> 67580 | F33: =TRUNC(E33*D33, 0) -> 3088406 | G33: =TRUNC(단가대비표!P33,0) -> 0 | H33: =TRUNC(G33*D33, 0) -> 0 | I33: =TRUNC(단가대비표!V33,0) -> 0 | J33: =TRUNC(I33*D33, 0) -> 0 | K33: =TRUNC(E33+G33+I33, 0) -> 67580 | L33: =TRUNC(F33+H33+J33, 0) -> 3088406 | N33: 54B523620772BEED6F79612FFA9A805030D034 | Q33: 010102 | R33: F | S33: F | T33: T | AU33: 01010254B523620772BEED6F79612FFA9A805030D034 | AV33: 15
A34: 도막형바닥재/관급 | B34: 정석케미칼, MSE-A02, t1.5mm, MMA, 스텐실 | C34: M2 | D34: 333 | E34: =TRUNC(단가대비표!O38,0) -> 38100 | F34: =TRUNC(E34*D34, 0) -> 12687300 | G34: =TRUNC(단가대비표!P38,0) -> 0 | H34: =TRUNC(G34*D34, 0) -> 0 | I34: =TRUNC(단가대비표!V38,0) -> 0 | J34: =TRUNC(I34*D34, 0) -> 0 | K34: =TRUNC(E34+G34+I34, 0) -> 38100 | L34: =TRUNC(F34+H34+J34, 0) -> 12687300 | M34: 관급자재 | N34: 54B5236207761BCE63647D2BBC9BEEFAAF1024 | R34: F | S34: F | T34: T | AR34: 관급자재 | AU34: 01010254B5236207761BCE63647D2BBC9BEEFAAF1024 | AV34: 16
A35: 현장 철근 가공 및 조립 | B35: 보통(할증) | C35: TON | D35: 2.4 | E35: =TRUNC(일위대가목록!E11,0) -> 13054 | F35: =TRUNC(E35*D35, 0) -> 31329 | G35: =TRUNC(일위대가목록!F11,0) -> 627965 | H35: =TRUNC(G35*D35, 0) -> 1507116 | I35: =TRUNC(일위대가목록!G11,0) -> 0 | J35: =TRUNC(I35*D35, 0) -> 0 | K35: =TRUNC(E35+G35+I35, 0) -> 641019 | L35: =TRUNC(F35+H35+J35, 0) -> 1538445 | M35: 호표 8 | N35: 5396D3BE0756E1BC6E351922FAD85E | Q35: 010102 | R35: T | S35: F | T35: F | AU35: 0101025396D3BE0756E1BC6E351922FAD85E | AV35: 17
A36: 기존구조체연결 보강 D10 | B36: HY-200 | C36: 개소 | D36: 56 | E36: =TRUNC(일위대가목록!E12,0) -> 1079 | F36: =TRUNC(E36*D36, 0) -> 60424 | G36: =TRUNC(일위대가목록!F12,0) -> 8854 | H36: =TRUNC(G36*D36, 0) -> 495824 | I36: =TRUNC(일위대가목록!G12,0) -> 159 | J36: =TRUNC(I36*D36, 0) -> 8904 | K36: =TRUNC(E36+G36+I36, 0) -> 10092 | L36: =TRUNC(F36+H36+J36, 0) -> 565152 | M36: 호표 9 | N36: 5396D3BE0752062C6A29E0241CF8C2 | Q36: 010102 | R36: T | S36: F | T36: F | AU36: 0101025396D3BE0752062C6A29E0241CF8C2 | AV36: 18
A37: 레디믹스트콘크리트 인력운반 타설 | B37: 철근구조물 | C37: M3 | D37: 45.3 | E37: =TRUNC(일위대가목록!E13,0) -> 0 | F37: =TRUNC(E37*D37, 0) -> 0 | G37: =TRUNC(일위대가목록!F13,0) -> 39034 | H37: =TRUNC(G37*D37, 0) -> 1768240 | I37: =TRUNC(일위대가목록!G13,0) -> 780 | J37: =TRUNC(I37*D37, 0) -> 35334 | K37: =TRUNC(E37+G37+I37, 0) -> 39814 | L37: =TRUNC(F37+H37+J37, 0) -> 1803574 | M37: 호표 10 | N37: 5396D3BA07FBB09D67C9332625DFA3 | Q37: 010102 | R37: T | S37: F | T37: F | AU37: 0101025396D3BA07FBB09D67C9332625DFA3 | AV37: 19
A38: 데크플레이트설치 | B38: 페로데크 B TYPE 상부근D13 하부근D13 | C38: M2 | D38: 311.8 | E38: =TRUNC(일위대가목록!E14,0) -> 48085 | F38: =TRUNC(E38*D38, 0) -> 14992903 | G38: =TRUNC(일위대가목록!F14,0) -> 10349 | H38: =TRUNC(G38*D38, 0) -> 3226818 | I38: =TRUNC(일위대가목록!G14,0) -> 0 | J38: =TRUNC(I38*D38, 0) -> 0 | K38: =TRUNC(E38+G38+I38, 0) -> 58434 | L38: =TRUNC(F38+H38+J38, 0) -> 18219721 | M38: 호표 11 | N38: 5396C350074FDA6268B1782855822A | Q38: 010102 | R38: T | S38: F | T38: F | AU38: 0101025396C350074FDA6268B1782855822A | AV38: 20
A55: [ 합 계 ] | F55: =SUM(F31:F54) -F34 -> 19768962 | H55: =SUM(H31:H54) -H34 -> 6997998 | J55: =SUM(J31:J54) -J34 -> 44238 | L55: =SUM(L31:L54) -L34 -> 26811198 | N55: TOTAL
A56: 010103 철 골 공 사 | Q56: 010103
A57: ㄱ형강 | B57: ㄱ형강, 등변, 50*50*4mm | C57: kg | D57: 77.1 | E57: =TRUNC(단가대비표!O18,0) -> 735 | F57: =TRUNC(E57*D57, 0) -> 56668 | G57: =TRUNC(단가대비표!P18,0) -> 0 | H57: =TRUNC(G57*D57, 0) -> 0 | I57: =TRUNC(단가대비표!V18,0) -> 0 | J57: =TRUNC(I57*D57, 0) -> 0 | K57: =TRUNC(E57+G57+I57, 0) -> 735 | L57: =TRUNC(F57+H57+J57, 0) -> 56668 | N57: 54B52362077347626276312EE1D4A62B72B5C7 | Q57: 010103 | R57: F | S57: F | T57: T | AU57: 01010354B52362077347626276312EE1D4A62B72B5C7 | AV57: 22
A58: H빔 | B58: H빔, SS400, 350*175*7.0*11.0mm | C58: TON | D58: 3 | E58: =TRUNC(단가대비표!O22,0) -> 740000 | F58: =TRUNC(E58*D58, 0) -> 2220000 | G58: =TRUNC(단가대비표!P22,0) -> 0 | H58: =TRUNC(G58*D58, 0) -> 0 | I58: =TRUNC(단가대비표!V22,0) -> 0 | J58: =TRUNC(I58*D58, 0) -> 0 | K58: =TRUNC(E58+G58+I58, 0) -> 740000 | L58: =TRUNC(F58+H58+J58, 0) -> 2220000 | N58: 54B523620773476067A9612DB0DEF23725682B | Q58: 010103 | R58: F | S58: F | T58: T | AU58: 01010354B523620773476067A9612DB0DEF23725682B | AV58: 23
A59: H빔 | B59: H빔, SS400, 488*300*11.0*18.0mm | C59: TON | D59: 2.5 | E59: =TRUNC(단가대비표!O23,0) -> 740000 | F59: =TRUNC(E59*D59, 0) -> 1850000 | G59: =TRUNC(단가대비표!P23,0) -> 0 | H59: =TRUNC(G59*D59, 0) -> 0 | I59: =TRUNC(단가대비표!V23,0) -> 0 | J59: =TRUNC(I59*D59, 0) -> 0 | K59: =TRUNC(E59+G59+I59, 0) -> 740000 | L59: =TRUNC(F59+H59+J59, 0) -> 1850000 | N59: 54B523620773476067A9612DB0DEF237256ADF | Q59: 010103 | R59: F | S59: F | T59: T | AU59: 01010354B523620773476067A9612DB0DEF237256ADF | AV59: 24
A60: CT형강 | B60: 300*200*11*17 | C60: TON | D60: 3.5 | E60: =TRUNC(단가대비표!O24,0) -> 1460000 | F60: =TRUNC(E60*D60, 0) -> 5110000 | G60: =TRUNC(단가대비표!P24,0) -> 0 | H60: =TRUNC(G60*D60, 0) -> 0 | I60: =TRUNC(단가대비표!V24,0) -> 0 | J60: =TRUNC(I60*D60, 0) -> 0 | K60: =TRUNC(E60+G60+I60, 0) -> 1460000 | L60: =TRUNC(F60+H60+J60, 0) -> 5110000 | N60: 54B523620773476067A9612E574AFA3DB2FFCC | Q60: 010103 | R60: F | S60: F | T60: T | AU60: 01010354B523620773476067A9612E574AFA3DB2FFCC | AV60: 25
A61: 일반구조용압연강판 | B61: 일반구조용압연강판, 10mm | C61: TON | D61: 0.2 | E61: =TRUNC(단가대비표!O25,0) -> 611300 | F61: =TRUNC(E61*D61, 0) -> 122260 | G61: =TRUNC(단가대비표!P25,0) -> 0 | H61: =TRUNC(G61*D61, 0) -> 0 | I61: =TRUNC(단가대비표!V25,0) -> 0 | J61: =TRUNC(I61*D61, 0) -> 0 | K61: =TRUNC(E61+G61+I61, 0) -> 611300 | L61: =TRUNC(F61+H61+J61, 0) -> 122260 | N61: 54B523620773449161DC9C2E7F979134C5AFD8 | Q61: 010103 | R61: F | S61: F | T61: T | AU61: 01010354B523620773449161DC9C2E7F979134C5AFD8 | AV61: 26
A62: 아연도각관 | B62: 50*50*t2.3mm, 3.338kg/m | C62: M | D62: 24 | E62: =TRUNC(단가대비표!O70,0) -> 2586 | F62: =TRUNC(E62*D62, 0) -> 62064 | G62: =TRUNC(단가대비표!P70,0) -> 0 | H62: =TRUNC(G62*D62, 0) -> 0 | I62: =TRUNC(단가대비표!V70,0) -> 0 | J62: =TRUNC(I62*D62, 0) -> 0 | K62: =TRUNC(E62+G62+I62, 0) -> 2586 | L62: =TRUNC(F62+H62+J62, 0) -> 62064 | N62: 54C7930C0750CFFC6DCA8926C611F3FAFB090E | Q62: 010103 | R62: F | S62: F | T62: T | AU62: 01010354C7930C0750CFFC6DCA8926C611F3FAFB090E | AV62: 27
A63: 아연도각관 | B63: 100*50*t2.0mm, 4.504kg/m | C63: M | D63: 56 | E63: =TRUNC(단가대비표!O71,0) -> 3688 | F63: =TRUNC(E63*D63, 0) -> 206528 | G63: =TRUNC(단가대비표!P71,0) -> 0 | H63: =TRUNC(G63*D63, 0) -> 0 | I63: =TRUNC(단가대비표!V71,0) -> 0 | J63: =TRUNC(I63*D63, 0) -> 0 | K63: =TRUNC(E63+G63+I63, 0) -> 3688 | L63: =TRUNC(F63+H63+J63, 0) -> 206528 | N63: 54C7930C0750CFFC6DCA8926C611F3FAFB0CDB | Q63: 010103 | R63: F | S63: F | T63: T | AU63: 01010354C7930C0750CFFC6DCA8926C611F3FAFB0CDB | AV63: 28
A64: 아연도각관 | B64: 150*50*t3.2mm, 9.520kg/m | C64: M | D64: 164.8 | E64: =TRUNC(단가대비표!O72,0) -> 7670 | F64: =TRUNC(E64*D64, 0) -> 1264016 | G64: =TRUNC(단가대비표!P72,0) -> 0 | H64: =TRUNC(G64*D64, 0) -> 0 | I64: =TRUNC(단가대비표!V72,0) -> 0 | J64: =TRUNC(I64*D64, 0) -> 0 | K64: =TRUNC(E64+G64+I64, 0) -> 7670 | L64: =TRUNC(F64+H64+J64, 0) -> 1264016 | N64: 54C7930C0750CFFC6DCA8926C611F3FAFB0DE3 | Q64: 010103 | R64: F | S64: F | T64: T | AU64: 01010354C7930C0750CFFC6DCA8926C611F3FAFB0DE3 | AV64: 29
A65: 진폴 | B65: 가설,해체정비 | C65: 대 | D65: 2 | E65: =TRUNC(일위대가목록!E15,0) -> 0 | F65: =TRUNC(E65*D65, 0) -> 0 | G65: =TRUNC(일위대가목록!F15,0) -> 1261071 | H65: =TRUNC(G65*D65, 0) -> 2522142 | I65: =TRUNC(일위대가목록!G15,0) -> 0 | J65: =TRUNC(I65*D65, 0) -> 0 | K65: =TRUNC(E65+G65+I65, 0) -> 1261071 | L65: =TRUNC(F65+H65+J65, 0) -> 2522142 | M65: 호표 12 | N65: 5396833807E07E286C090422BDD2F4 | Q65: 010103 | R65: T | S65: F | T65: F | AU65: 0101035396833807E07E286C090422BDD2F4 | AV65: 30
A66: 진폴 | B66: 수평이동 | C66: 회 | D66: 5 | E66: =TRUNC(일위대가목록!E16,0) -> 0 | F66: =TRUNC(E66*D66, 0) -> 0 | G66: =TRUNC(일위대가목록!F16,0) -> 450382 | H66: =TRUNC(G66*D66, 0) -> 2251910 | I66: =TRUNC(일위대가목록!G16,0) -> 0 | J66: =TRUNC(I66*D66, 0) -> 0 | K66: =TRUNC(E66+G66+I66, 0) -> 450382 | L66: =TRUNC(F66+H66+J66, 0) -> 2251910 | M66: 호표 13 | N66: 5396833807E07E286C090422BDD2F7 | Q66: 010103 | R66: T | S66: F | T66: F | AU66: 0101035396833807E07E286C090422BDD2F7 | AV66: 31
A67: 스터드볼트설치/자동용접 | B67: M19*125 | C67: 개소 | D67: 965 | E67: =TRUNC(일위대가목록!E17,0) -> 743 | F67: =TRUNC(E67*D67, 0) -> 716995 | G67: =TRUNC(일위대가목록!F17,0) -> 398 | H67: =TRUNC(G67*D67, 0) -> 384070 | I67: =TRUNC(일위대가목록!G17,0) -> 0 | J67: =TRUNC(I67*D67, 0) -> 0 | K67: =TRUNC(E67+G67+I67, 0) -> 1141 | L67: =TRUNC(F67+H67+J67, 0) -> 1101065 | M67: 호표 14 | N67: 5396C354072985D6617AB22A52E35A | Q67: 010103 | R67: T | S67: F | T67: F | AU67: 0101035396C354072985D6617AB22A52E35A | AV67: 32
A68: 철골 가공 조립(적은 구조) | B68: Rolled shape, 60ton미만 | C68: Ton | D68: 8.6 | E68: =TRUNC(일위대가목록!E18,0) -> 25200 | F68: =TRUNC(E68*D68, 0) -> 216720 | G68: =TRUNC(일위대가목록!F18,0) -> 241366 | H68: =TRUNC(G68*D68, 0) -> 2075747 | I68: =TRUNC(일위대가목록!G18,0) -> 144819 | J68: =TRUNC(I68*D68, 0) -> 1245443 | K68: =TRUNC(E68+G68+I68, 0) -> 411385 | L68: =TRUNC(F68+H68+J68, 0) -> 3537910 | M68: 호표 15 | N68: 5396C35507319D936D703C2E242255 | Q68: 010103 | R68: T | S68: F | T68: F | AU68: 0101035396C35507319D936D703C2E242255 | AV68: 33
A69: 부대철골가공조립(현장) | B69: 중도리.띠장,캐노피 | C69: 톤 | D69: 2 | E69: =TRUNC(일위대가목록!E19,0) -> 0 | F69: =TRUNC(E69*D69, 0) -> 0 | G69: =TRUNC(일위대가목록!F19,0) -> 626640 | H69: =TRUNC(G69*D69, 0) -> 1253280 | I69: =TRUNC(일위대가목록!G19,0) -> 0 | J69: =TRUNC(I69*D69, 0) -> 0 | K69: =TRUNC(E69+G69+I69, 0) -> 626640 | L69: =TRUNC(F69+H69+J69, 0) -> 1253280 | M69: 호표 16 | N69: 5396C352077B286962083F23E40D31 | Q69: 010103 | R69: T | S69: F | T69: F | AU69: 0101035396C352077B286962083F23E40D31 | AV69: 34
A70: 철골세우기 | B70: 0~49kg/m2,0∼10ton | C70: Ton | D70: 8.6 | E70: =TRUNC(일위대가목록!E20,0) -> 418 | F70: =TRUNC(E70*D70, 0) -> 3594 | G70: =TRUNC(일위대가목록!F20,0) -> 160187 | H70: =TRUNC(G70*D70, 0) -> 1377608 | I70: =TRUNC(일위대가목록!G20,0) -> 0 | J70: =TRUNC(I70*D70, 0) -> 0 | K70: =TRUNC(E70+G70+I70, 0) -> 160605 | L70: =TRUNC(F70+H70+J70, 0) -> 1381202 | M70: 호표 17 | N70: 5396C3530700CC8A615FF42C0D47DD | Q70: 010103 | R70: T | S70: F | T70: F | AU70: 0101035396C3530700CC8A615FF42C0D47DD | AV70: 35
A81: [ 합 계 ] | F81: =SUM(F57:F80) -> 11828845 | H81: =SUM(H57:H80) -> 9864757 | J81: =SUM(J57:J80) -> 1245443 | L81: =SUM(L57:L80) -> 22939045 | N81: TOTAL
A82: 010104 지 붕 공 사 | Q82: 010104
A83: 알루미늄 복합패널 | B83: 평판 T=4 불소수지 | C83: M2 | D83: 82.3 | E83: =TRUNC(단가대비표!O36,0) -> 110000 | F83: =TRUNC(E83*D83, 0) -> 9053000 | G83: =TRUNC(단가대비표!P36,0) -> 0 | H83: =TRUNC(G83*D83, 0) -> 0 | I83: =TRUNC(단가대비표!V36,0) -> 0 | J83: =TRUNC(I83*D83, 0) -> 0 | K83: =TRUNC(E83+G83+I83, 0) -> 110000 | L83: =TRUNC(F83+H83+J83, 0) -> 9053000 | M83: 시공도 | N83: 54B5236207761BCE63FAEA245013B6C32CD16C | Q83: 010104 | R83: F | S83: F | T83: T | AU83: 01010454B5236207761BCE63FAEA245013B6C32CD16C | AV83: 37
A84: 알루미늄 복합패널 | B84: 곡판 T=4 불소수지 | C84: M2 | D84: 13.8 | E84: =TRUNC(단가대비표!O37,0) -> 120000 | F84: =TRUNC(E84*D84, 0) -> 1656000 | G84: =TRUNC(단가대비표!P37,0) -> 0 | H84: =TRUNC(G84*D84, 0) -> 0 | I84: =TRUNC(단가대비표!V37,0) -> 0 | J84: =TRUNC(I84*D84, 0) -> 0 | K84: =TRUNC(E84+G84+I84, 0) -> 120000 | L84: =TRUNC(F84+H84+J84, 0) -> 1656000 | M84: 시공도 | N84: 54B5236207761BCE63FAEA245013B6C32CD273 | Q84: 010104 | R84: F | S84: F | T84: T | AU84: 01010454B5236207761BCE63FAEA245013B6C32CD273 | AV84: 38
A85: 수밀코킹(실리콘) | B85: 10㎜*10㎜ | C85: M | D85: 186.3 | E85: =TRUNC(일위대가목록!E21,0) -> 1858 | F85: =TRUNC(E85*D85, 0) -> 346145 | G85: =TRUNC(일위대가목록!F21,0) -> 4038 | H85: =TRUNC(G85*D85, 0) -> 752279 | I85: =TRUNC(일위대가목록!G21,0) -> 0 | J85: =TRUNC(I85*D85, 0) -> 0 | K85: =TRUNC(E85+G85+I85, 0) -> 5896 | L85: =TRUNC(F85+H85+J85, 0) -> 1098424 | M85: 호표 18 | N85: 5396136A07A04CE56A129725754AC0 | Q85: 010104 | R85: T | S85: F | T85: F | AU85: 0101045396136A07A04CE56A129725754AC0 | AV85: 39
A86: 강화접합유리 난간 | B86: h=1300 기성재포스트 접합유리12mm Φ50.8*2.0mm | C86: M | D86: 85.3 | E86: =TRUNC(일위대가목록!E22,0) -> 312441 | F86: =TRUNC(E86*D86, 0) -> 26651217 | G86: =TRUNC(일위대가목록!F22,0) -> 39158 | H86: =TRUNC(G86*D86, 0) -> 3340177 | I86: =TRUNC(일위대가목록!G22,0) -> 317 | J86: =TRUNC(I86*D86, 0) -> 27040 | K86: =TRUNC(E86+G86+I86, 0) -> 351916 | L86: =TRUNC(F86+H86+J86, 0) -> 30018434 | M86: 호표 19 | N86: 539633BA0703FDC56DE4D9251CD75A | Q86: 010104 | R86: T | S86: F | T86: F | AU86: 010104539633BA0703FDC56DE4D9251CD75A | AV86: 40
A87: 스텐레스스틸 난간 | B87: h=1200 50*9mm Φ19.1*2.0mm-5줄 | C87: M | D87: 57.2 | E87: =TRUNC(일위대가목록!E23,0) -> 51002 | F87: =TRUNC(E87*D87, 0) -> 2917314 | G87: =TRUNC(일위대가목록!F23,0) -> 45306 | H87: =TRUNC(G87*D87, 0) -> 2591503 | I87: =TRUNC(일위대가목록!G23,0) -> 181 | J87: =TRUNC(I87*D87, 0) -> 10353 | K87: =TRUNC(E87+G87+I87, 0) -> 96489 | L87: =TRUNC(F87+H87+J87, 0) -> 5519170 | M87: 호표 20 | N87: 539633BA0703FDC56DE4D9251CD759 | Q87: 010104 | R87: T | S87: F | T87: F | AU87: 010104539633BA0703FDC56DE4D9251CD759 | AV87: 41
A88: 점검용링 | B88: 150*150*8t ￠19mm 내경￠100 | C88: 개 | D88: 10 | E88: =TRUNC(일위대가목록!E24,0) -> 11804 | F88: =TRUNC(E88*D88, 0) -> 118040 | G88: =TRUNC(일위대가목록!F24,0) -> 10791 | H88: =TRUNC(G88*D88, 0) -> 107910 | I88: =TRUNC(일위대가목록!G24,0) -> 46 | J88: =TRUNC(I88*D88, 0) -> 460 | K88: =TRUNC(E88+G88+I88, 0) -> 22641 | L88: =TRUNC(F88+H88+J88, 0) -> 226410 | M88: 호표 21 | N88: 539633BA0703FDC56DE4D9251CD75F | Q88: 010104 | R88: T | S88: F | T88: F | AU88: 010104539633BA0703FDC56DE4D9251CD75F | AV88: 42
A89: 스카이웍 바닥유리깔기 | B89: t=28(10+8+10)3중강하접합유리 5500*3000 | C89: 개소 | D89: 2 | E89: =TRUNC(일위대가목록!E25,0) -> 6014431 | F89: =TRUNC(E89*D89, 0) -> 12028862 | G89: =TRUNC(일위대가목록!F25,0) -> 560814 | H89: =TRUNC(G89*D89, 0) -> 1121628 | I89: =TRUNC(일위대가목록!G25,0) -> 0 | J89: =TRUNC(I89*D89, 0) -> 0 | K89: =TRUNC(E89+G89+I89, 0) -> 6575245 | L89: =TRUNC(F89+H89+J89, 0) -> 13150490 | M89: 호표 22 | N89: 539633BA0703FDC56DE4D9251CD6B5 | Q89: 010104 | R89: T | S89: F | T89: F | AU89: 010104539633BA0703FDC56DE4D9251CD6B5 | AV89: 43
A90: 통로좌측유리칸막이(T12MM(6+6)접합유리) | B90: b=4800,h=2500 100*50*1.5T | C90: 개소 | D90: 1 | E90: =TRUNC(일위대가목록!E26,0) -> 1575686 | F90: =TRUNC(E90*D90, 0) -> 1575686 | G90: =TRUNC(일위대가목록!F26,0) -> 427633 | H90: =TRUNC(G90*D90, 0) -> 427633 | I90: =TRUNC(일위대가목록!G26,0) -> 1007 | J90: =TRUNC(I90*D90, 0) -> 1007 | K90: =TRUNC(E90+G90+I90, 0) -> 2004326 | L90: =TRUNC(F90+H90+J90, 0) -> 2004326 | M90: 호표 23 | N90: 539633BA0703FDC56DE4D9251CD132 | Q90: 010104 | R90: T | S90: F | T90: F | AU90: 010104539633BA0703FDC56DE4D9251CD132 | AV90: 44
A91: 통로좌측유리칸막이(T12MM(6+6)접합유리) | B91: b=2400,h=2030 100*50*1.5T | C91: 개소 | D91: 1 | E91: =TRUNC(일위대가목록!E27,0) -> 670818 | F91: =TRUNC(E91*D91, 0) -> 670818 | G91: =TRUNC(일위대가목록!F27,0) -> 191629 | H91: =TRUNC(G91*D91, 0) -> 191629 | I91: =TRUNC(일위대가목록!G27,0) -> 483 | J91: =TRUNC(I91*D91, 0) -> 483 | K91: =TRUNC(E91+G91+I91, 0) -> 862930 | L91: =TRUNC(F91+H91+J91, 0) -> 862930 | M91: 호표 24 | N91: 539633BA0703FDC56DE4D9251CD131 | Q91: 010104 | R91: T | S91: F | T91: F | AU91: 010104539633BA0703FDC56DE4D9251CD131 | AV91: 45
A92: 스텐레스스틸점검구(바닥매입) | B92: 1000*800*6T(무늬강판) 기존철거포함 | C92: 개소 | D92: 1 | E92: =TRUNC(일위대가목록!E28,0) -> 146957 | F92: =TRUNC(E92*D92, 0) -> 146957 | G92: =TRUNC(일위대가목록!F28,0) -> 245642 | H92: =TRUNC(G92*D92, 0) -> 245642 | I92: =TRUNC(일위대가목록!G28,0) -> 570 | J92: =TRUNC(I92*D92, 0) -> 570 | K92: =TRUNC(E92+G92+I92, 0) -> 393169 | L92: =TRUNC(F92+H92+J92, 0) -> 393169 | M92: 호표 25 | N92: 539633BA0703FDC56DE4D9251CD02D | Q92: 010104 | R92: T | S92: F | T92: F | AU92: 010104539633BA0703FDC56DE4D9251CD02D | AV92: 46
A93: 리얼징크지붕잇기(75MM그라스울파넬) | B93: 상:리얼징크,하:0.6T아연도금강판) | C93: ㎡ | D93: 158.5 | E93: =TRUNC(일위대가목록!E29,0) -> 38587 | F93: =TRUNC(E93*D93, 0) -> 6116039 | G93: =TRUNC(일위대가목록!F29,0) -> 10658 | H93: =TRUNC(G93*D93, 0) -> 1689293 | I93: =TRUNC(일위대가목록!G29,0) -> 0 | J93: =TRUNC(I93*D93, 0) -> 0 | K93: =TRUNC(E93+G93+I93, 0) -> 49245 | L93: =TRUNC(F93+H93+J93, 0) -> 7805332 | M93: 호표 26 | N93: 5396235307A871986A85C922CD85FB | Q93: 010104 | R93: T | S93: F | T93: F | AU93: 0101045396235307A871986A85C922CD85FB | AV93: 47
A94: 바닥유리설치용각관 | B94: SST 40*110*3T | C94: M | D94: 55.6 | E94: =TRUNC(일위대가목록!E30,0) -> 41002 | F94: =TRUNC(E94*D94, 0) -> 2279711 | G94: =TRUNC(일위대가목록!F30,0) -> 24876 | H94: =TRUNC(G94*D94, 0) -> 1383105 | I94: =TRUNC(일위대가목록!G30,0) -> 106 | J94: =TRUNC(I94*D94, 0) -> 5893 | K94: =TRUNC(E94+G94+I94, 0) -> 65984 | L94: =TRUNC(F94+H94+J94, 0) -> 3668709 | M94: 호표 27 | N94: 5396235307A871986A85C922CD8680 | Q94: 010104 | R94: T | S94: F | T94: F | AU94: 0101045396235307A871986A85C922CD8680 | AV94: 48
A95: 바닥유리설치용각관 | B95: SST 150*110*3T | C95: M | D95: 11.1 | E95: =TRUNC(일위대가목록!E31,0) -> 71080 | F95: =TRUNC(E95*D95, 0) -> 788988 | G95: =TRUNC(일위대가목록!F31,0) -> 43158 | H95: =TRUNC(G95*D95, 0) -> 479053 | I95: =TRUNC(일위대가목록!G31,0) -> 185 | J95: =TRUNC(I95*D95, 0) -> 2053 | K95: =TRUNC(E95+G95+I95, 0) -> 114423 | L95: =TRUNC(F95+H95+J95, 0) -> 1270094 | M95: 호표 28 | N95: 5396235307A871986A85C922CD8683 | Q95: 010104 | R95: T | S95: F | T95: F | AU95: 0101045396235307A871986A85C922CD8683 | AV95: 49
A96: 선홈통(강관) 설치 | B96: 101.6mm, 스테인리스관 | C96: M | D96: 131.7 | E96: =TRUNC(일위대가목록!E32,0) -> 14611 | F96: =TRUNC(E96*D96, 0) -> 1924268 | G96: =TRUNC(일위대가목록!F32,0) -> 24823 | H96: =TRUNC(G96*D96, 0) -> 3269189 | I96: =TRUNC(일위대가목록!G32,0) -> 0 | J96: =TRUNC(I96*D96, 0) -> 0 | K96: =TRUNC(E96+G96+I96, 0) -> 39434 | L96: =TRUNC(F96+H96+J96, 0) -> 5193457 | M96: 호표 29 | N96: 5396235007D491D26ABC332E09BC84 | Q96: 010104 | R96: T | S96: F | T96: F | AU96: 0101045396235007D491D26ABC332E09BC84 | AV96: 50
... A98: 처마후레싱 | B98: 0.6T C/S 150+75+50 | C98: M | D98: 56.7 | E98: =TRUNC(일위대가목록!E34,0) -> 2630 | F98: =TRUNC(E98*D98, 0) -> 149121 | G98: =TRUNC(일위대가목록!F34,0) -> 4524 | H98: =TRUNC(G98*D98, 0) -> 256510 | I98: =TRUNC(일위대가목록!G34,0) -> 19 | J98: =TRUNC(I98*D98, 0) -> 1077 | K98: =TRUNC(E98+G98+I98, 0) -> 7173 | L98: =TRUNC(F98+H98+J98, 0) -> 406708 | M98: 호표 31 | N98: 539663EF0709B7AC68E9B029282FAA | Q98: 010104 | R98: T | S98: F | T98: F | AU98: 010104539663EF0709B7AC68E9B029282FAA | AV98: 52
A107: [ 합 계 ] | F107: =SUM(F83:F106) -> 66562926 | H107: =SUM(H83:H106) -> 16020845 | J107: =SUM(J83:J106) -> 48936 | L107: =SUM(L83:L106) -> 82632707 | N107: TOTAL
A108: 010105 칠 공 사 | Q108: 010105
A109: 녹막이페인트(붓칠) | B109: 철재면, 1회, 1종 | C109: M2 | D109: 186.4 | E109: =TRUNC(일위대가목록!E35,0) -> 793 | F109: =TRUNC(E109*D109, 0) -> 147815 | G109: =TRUNC(일위대가목록!F35,0) -> 2433 | H109: =TRUNC(G109*D109, 0) -> 453511 | I109: =TRUNC(일위대가목록!G35,0) -> 0 | J109: =TRUNC(I109*D109, 0) -> 0 | K109: =TRUNC(E109+G109+I109, 0) -> 3226 | L109: =TRUNC(F109+H109+J109, 0) -> 601326 | M109: 호표 32 | N109: 539673D507A3A966640BC72D68863A | Q109: 010105 | R109: T | S109: F | T109: F | AU109: 010105539673D507A3A966640BC72D68863A | AV109: 54
A110: 우레탄도장(붓칠)/신설 | B110: 철재면, 3회. 1급 | C110: M2 | D110: 186.4 | E110: =TRUNC(일위대가목록!E36,0) -> 2733 | F110: =TRUNC(E110*D110, 0) -> 509431 | G110: =TRUNC(일위대가목록!F36,0) -> 9735 | H110: =TRUNC(G110*D110, 0) -> 1814604 | I110: =TRUNC(일위대가목록!G36,0) -> 0 | J110: =TRUNC(I110*D110, 0) -> 0 | K110: =TRUNC(E110+G110+I110, 0) -> 12468 | L110: =TRUNC(F110+H110+J110, 0) -> 2324035 | M110: 호표 33 | N110: 539673D6074864376DD27021FA7804 | Q110: 010105 | R110: T | S110: F | T110: F | AU110: 010105539673D6074864376DD27021FA7804 | AV110: 55
A111: 우레탄도장(붓칠)/기존철골도장 | B111: 철재면, 3회. 1급(바탕정리포함) | C111: M2 | D111: 2160.6 | E111: =TRUNC(일위대가목록!E37,0) -> 2733 | F111: =TRUNC(E111*D111, 0) -> 5904919 | G111: =TRUNC(일위대가목록!F37,0) -> 23272 | H111: =TRUNC(G111*D111, 0) -> 50281483 | I111: =TRUNC(일위대가목록!G37,0) -> 0 | J111: =TRUNC(I111*D111, 0) -> 0 | K111: =TRUNC(E111+G111+I111, 0) -> 26005 | L111: =TRUNC(F111+H111+J111, 0) -> 56186402 | M111: 호표 34 | N111: 539673D6074864376DD27021FA7807 | Q111: 010105 | R111: T | S111: F | T111: F | AU111: 010105539673D6074864376DD27021FA7807 | AV111: 56
A133: [ 합 계 ] | F133: =SUM(F109:F132) -> 6562165 | H133: =SUM(H109:H132) -> 52549598 | J133: =SUM(J109:J132) -> 0 | L133: =SUM(L109:L132) -> 59111763 | N133: TOTAL
A134: 010106 철 거 공 사 | Q134: 010106
A135: 철강설 | B135: 철강설, 고철, 작업설부산물 | C135: TON | D135: -3.7 | E135: =TRUNC(단가대비표!O8,0) -> 195000 | F135: =TRUNC(E135*D135, 0) -> -721500 | G135: =TRUNC(단가대비표!P8,0) -> 0 | H135: =TRUNC(G135*D135, 0) -> 0 | I135: =TRUNC(단가대비표!V8,0) -> 0 | J135: =TRUNC(I135*D135, 0) -> 0 | K135: =TRUNC(E135+G135+I135, 0) -> 195000 | L135: =TRUNC(F135+H135+J135, 0) -> -721500 | M135: 수집상차도 | N135: 549A438907976C316D6CA0261F24761DFE9471 | Q135: 010106 | R135: F | S135: F | T135: T | AU135: 010106549A438907976C316D6CA0261F24761DFE9471 | AV135: 58
A136: 75MM샌드위치판넬철거 | B136: (0.6+0.6)*7.86+75*0.08=15.432(16KG/M2) | C136: M2 | D136: 482.2 | E136: =TRUNC(일위대가목록!E38,0) -> 0 | F136: =TRUNC(E136*D136, 0) -> 0 | G136: =TRUNC(일위대가목록!F38,0) -> 9740 | H136: =TRUNC(G136*D136, 0) -> 4696628 | I136: =TRUNC(일위대가목록!G38,0) -> 0 | J136: =TRUNC(I136*D136, 0) -> 0 | K136: =TRUNC(E136+G136+I136, 0) -> 9740 | L136: =TRUNC(F136+H136+J136, 0) -> 4696628 | M136: 호표 35 | N136: 539783A60718D126698300242B1B8A | Q136: 010106 | R136: T | S136: F | T136: F | AU136: 010106539783A60718D126698300242B1B8A | AV136: 59
A137: 점검구철거 | B137: 1100*800*6T | C137: EA | D137: 1 | E137: =TRUNC(일위대가목록!E39,0) -> 0 | F137: =TRUNC(E137*D137, 0) -> 0 | G137: =TRUNC(일위대가목록!F39,0) -> 51824 | H137: =TRUNC(G137*D137, 0) -> 51824 | I137: =TRUNC(일위대가목록!G39,0) -> 0 | J137: =TRUNC(I137*D137, 0) -> 0 | K137: =TRUNC(E137+G137+I137, 0) -> 51824 | L137: =TRUNC(F137+H137+J137, 0) -> 51824 | M137: 호표 36 | N137: 539783A60718D126698300242B1B89 | Q137: 010106 | R137: T | S137: F | T137: F | AU137: 010106539783A60718D126698300242B1B89 | AV137: 60
A138: 콘크리트난간철거 | C138: M3 | D138: 2.4 | E138: =TRUNC(일위대가목록!E40,0) -> 1531 | F138: =TRUNC(E138*D138, 0) -> 3674 | G138: =TRUNC(일위대가목록!F40,0) -> 153109 | H138: =TRUNC(G138*D138, 0) -> 367461 | I138: =TRUNC(일위대가목록!G40,0) -> 1258 | J138: =TRUNC(I138*D138, 0) -> 3019 | K138: =TRUNC(E138+G138+I138, 0) -> 155898 | L138: =TRUNC(F138+H138+J138, 0) -> 374154 | M138: 호표 37 | N138: 539783A60718D126698300242B1B88 | Q138: 010106 | R138: T | S138: F | T138: F | AU138: 010106539783A60718D126698300242B1B88 | AV138: 61
A139: 핸드레일철거 | B139: ￠100 스텐파이프 | C139: M | D139: 8 | E139: =TRUNC(일위대가목록!E41,0) -> 0 | F139: =TRUNC(E139*D139, 0) -> 0 | G139: =TRUNC(일위대가목록!F41,0) -> 5891 | H139: =TRUNC(G139*D139, 0) -> 47128 | I139: =TRUNC(일위대가목록!G41,0) -> 0 | J139: =TRUNC(I139*D139, 0) -> 0 | K139: =TRUNC(E139+G139+I139, 0) -> 5891 | L139: =TRUNC(F139+H139+J139, 0) -> 47128 | M139: 호표 38 | N139: 539783A60718D126698300242B1B8F | Q139: 010106 | R139: T | S139: F | T139: F | AU139: 010106539783A60718D126698300242B1B8F | AV139: 62
A140: 기존BRACE철거 | B140: ㅣ-100*100*10 | C140: M | D140: 248.6 | E140: =TRUNC(일위대가목록!E42,0) -> 27 | F140: =TRUNC(E140*D140, 0) -> 6712 | G140: =TRUNC(일위대가목록!F42,0) -> 7293 | H140: =TRUNC(G140*D140, 0) -> 1813039 | I140: =TRUNC(일위대가목록!G42,0) -> 0 | J140: =TRUNC(I140*D140, 0) -> 0 | K140: =TRUNC(E140+G140+I140, 0) -> 7320 | L140: =TRUNC(F140+H140+J140, 0) -> 1819751 | M140: 호표 39 | N140: 539783A60718D126698300242B1B8E | Q140: 010106 | R140: T | S140: F | T140: F | AU140: 010106539783A60718D126698300242B1B8E | AV140: 63
A159: [ 합 계 ] | F159: =SUM(F135:F158) -> -711114 | H159: =SUM(H135:H158) -> 6976080 | J159: =SUM(J135:J158) -> 3019 | L159: =SUM(L135:L158) -> 6267985 | N159: TOTAL
A160: 010107 관급자설치관급대 | Q160: 010107
A161: 도막형바닥재/관급 | B161: 정석케미칼, MSE-A02, t1.5mm, MMA, 스텐실 | C161: M2 | D161: 333 | E161: =TRUNC(단가대비표!O38,0) -> 38100 | F161: =TRUNC(E161*D161, 0) -> 12687300 | G161: =TRUNC(단가대비표!P38,0) -> 0 | H161: =TRUNC(G161*D161, 0) -> 0 | I161: =TRUNC(단가대비표!V38,0) -> 0 | J161: =TRUNC(I161*D161, 0) -> 0 | K161: =TRUNC(E161+G161+I161, 0) -> 38100 | L161: =TRUNC(F161+H161+J161, 0) -> 12687300 | M161: 식별번호22993552 | N161: 54B5236207761BCE63647D2BBC9BEEFAAF1024 | Q161: 010107 | R161: F | S161: F | T161: T | AU161: 01010754B5236207761BCE63647D2BBC9BEEFAAF1024 | AV161: 65
A185: [ 합 계 ] | F185: =SUM(F161:F184) -> 12687300 | H185: =SUM(H161:H184) -> 0 | J185: =SUM(J161:J184) -> 0 | L185: =SUM(L161:L184) -> 12687300 | N185: TOTAL
A186: 010108 건설폐기물처리비 | Q186: 010108
A187: 혼합건설폐기물 | B187: 불연성 건설폐기물에 가연성 5% 이하 혼합 | C187: TON | D187: 13.5 | E187: =TRUNC(단가대비표!O76,0) -> 0 | F187: =TRUNC(E187*D187, 0) -> 0 | G187: =TRUNC(단가대비표!P76,0) -> 0 | H187: =TRUNC(G187*D187, 0) -> 0 | I187: =TRUNC(단가대비표!V76,0) -> 94250 | J187: =TRUNC(I187*D187, 0) -> 1272375 | K187: =TRUNC(E187+G187+I187, 0) -> 94250 | L187: =TRUNC(F187+H187+J187, 0) -> 1272375 | N187: 5396833F0710138B6E76702E6A435A | Q187: 010108 | R187: F | S187: F | T187: T | AU187: 0101085396833F0710138B6E76702E6A435A | AV187: 67
A188: 건설폐기물 상차 및 운반비 - 중량 기준 | B188: 중간처리 대상, 15ton 덤프트럭, 30km | C188: TON | D188: 13.5 | E188: =TRUNC(단가대비표!O77,0) -> 0 | F188: =TRUNC(E188*D188, 0) -> 0 | G188: =TRUNC(단가대비표!P77,0) -> 0 | H188: =TRUNC(G188*D188, 0) -> 0 | I188: =TRUNC(단가대비표!V77,0) -> 15226 | J188: =TRUNC(I188*D188, 0) -> 205551 | K188: =TRUNC(E188+G188+I188, 0) -> 15226 | L188: =TRUNC(F188+H188+J188, 0) -> 205551 | N188: 5396833F0710138A6DE4852B7917AC | Q188: 010108 | R188: F | S188: F | T188: T | AU188: 0101085396833F0710138A6DE4852B7917AC | AV188: 68
A211: [ 합 계 ] | F211: =SUM(F187:F210) -> 0 | H211: =SUM(H187:H210) -> 0 | J211: =SUM(J187:J210) -> 1477926 | L211: =SUM(L187:L210) -> 1477926 | N211: TOTAL
A212: 010109 재자운반비(헬기) | Q212: 010109
A213: 항공이동비(BELL-214B1) | C213: 식 | D213: 1 | E213: =TRUNC(단가대비표!O95,0) -> 0 | F213: =TRUNC(E213*D213, 0) -> 0 | G213: =TRUNC(단가대비표!P95,0) -> 0 | H213: =TRUNC(G213*D213, 0) -> 0 | I213: =TRUNC(단가대비표!V95,0) -> 4000000 | J213: =TRUNC(I213*D213, 0) -> 4000000 | K213: =TRUNC(E213+G213+I213, 0) -> 4000000 | L213: =TRUNC(F213+H213+J213, 0) -> 4000000 | N213: 5222F391076ADD5567C9FC2EA9DB8E4E3BB06F | Q213: 010109 | R213: F | S213: F | T213: T | X213: 1 | AU213: 0101095222F391076ADD5567C9FC2EA9DB8E4E3BB06F | AV213: 70
A214: 항공이동비(KA-32A) | C214: 식 | D214: 1 | E214: =TRUNC(단가대비표!O100,0) -> 0 | F214: =TRUNC(E214*D214, 0) -> 0 | G214: =TRUNC(단가대비표!P100,0) -> 0 | H214: =TRUNC(G214*D214, 0) -> 0 | I214: =TRUNC(단가대비표!V100,0) -> 10000000 | J214: =TRUNC(I214*D214, 0) -> 10000000 | K214: =TRUNC(E214+G214+I214, 0) -> 10000000 | L214: =TRUNC(F214+H214+J214, 0) -> 10000000 | N214: 5222F391076ADD5567C9FC2EA9DB8E4E3BB068 | Q214: 010109 | R214: F | S214: F | T214: T | X214: 1 | AU214: 0101095222F391076ADD5567C9FC2EA9DB8E4E3BB068 | AV214: 75
A215: 항공운반비 | B215: 기존판넬운반(482.2M2*16KG) | C215: 톤 | D215: 7.7 | E215: =TRUNC(단가대비표!O96,0) -> 0 | F215: =TRUNC(E215*D215, 0) -> 0 | G215: =TRUNC(단가대비표!P96,0) -> 0 | H215: =TRUNC(G215*D215, 0) -> 0 | I215: =TRUNC(단가대비표!V96,0) -> 280000 | J215: =TRUNC(I215*D215, 0) -> 2156000 | K215: =TRUNC(E215+G215+I215, 0) -> 280000 | L215: =TRUNC(F215+H215+J215, 0) -> 2156000 | N215: 5222F391076ADD5567C9FC2EA9DB8E4E3BB06C | Q215: 010109 | R215: F | S215: F | T215: T | X215: 1 | AU215: 0101095222F391076ADD5567C9FC2EA9DB8E4E3BB06C | AV215: 71
A216: 항공운반비 | B216: 페로데크운반(311.8M2*18KG) | C216: 톤 | D216: 5.6 | E216: =TRUNC(단가대비표!O97,0) -> 0 | F216: =TRUNC(E216*D216, 0) -> 0 | G216: =TRUNC(단가대비표!P97,0) -> 0 | H216: =TRUNC(G216*D216, 0) -> 0 | I216: =TRUNC(단가대비표!V97,0) -> 280000 | J216: =TRUNC(I216*D216, 0) -> 1568000 | K216: =TRUNC(E216+G216+I216, 0) -> 280000 | L216: =TRUNC(F216+H216+J216, 0) -> 1568000 | N216: 5222F391076ADD5567C9FC2EA9DB8E4E3BB06D | Q216: 010109 | R216: F | S216: F | T216: T | X216: 1 | AU216: 0101095222F391076ADD5567C9FC2EA9DB8E4E3BB06D | AV216: 72
A217: 항공운반비 | B217: 레미콘(45.7M3*2.3) | C217: 톤 | D217: 105.1 | E217: =TRUNC(단가대비표!O98,0) -> 0 | F217: =TRUNC(E217*D217, 0) -> 0 | G217: =TRUNC(단가대비표!P98,0) -> 0 | H217: =TRUNC(G217*D217, 0) -> 0 | I217: =TRUNC(단가대비표!V98,0) -> 280000 | J217: =TRUNC(I217*D217, 0) -> 29428000 | K217: =TRUNC(E217+G217+I217, 0) -> 280000 | L217: =TRUNC(F217+H217+J217, 0) -> 29428000 | N217: 5222F391076ADD5567C9FC2EA9DB8E4E3BB06A | Q217: 010109 | R217: F | S217: F | T217: T | X217: 1 | AU217: 0101095222F391076ADD5567C9FC2EA9DB8E4E3BB06A | AV217: 73
A218: 항공운반비 | B218: 철근(2.48T) | C218: 톤 | D218: 2.5 | E218: =TRUNC(단가대비표!O99,0) -> 0 | F218: =TRUNC(E218*D218, 0) -> 0 | G218: =TRUNC(단가대비표!P99,0) -> 0 | H218: =TRUNC(G218*D218, 0) -> 0 | I218: =TRUNC(단가대비표!V99,0) -> 280000 | J218: =TRUNC(I218*D218, 0) -> 700000 | K218: =TRUNC(E218+G218+I218, 0) -> 280000 | L218: =TRUNC(F218+H218+J218, 0) -> 700000 | N218: 5222F391076ADD5567C9FC2EA9DB8E4E3BB06B | Q218: 010109 | R218: F | S218: F | T218: T | X218: 1 | AU218: 0101095222F391076ADD5567C9FC2EA9DB8E4E3BB06B | AV218: 74
A219: 소 계 | E219: 0 | F219: =SUM(F213:F218) -> 0 | G219: 0 | H219: =SUM(H213:H218) -> 0 | I219: 0 | J219: =SUM(J213:J218) -> 47852000 | L219: =SUM(L213:L218) -> 47852000 | N219: 52234376079D47686DEBC124892C | R219: F | S219: F | T219: F | AU219: 01010952234376079D47686DEBC124892C | AV219: 77
A220: 부가가치세 | B220: 경비의 10% | C220: 식 | D220: 1 | E220: 0 | F220: =TRUNC(E220*D220, 0) -> 0 | G220: 0 | H220: =TRUNC(G220*D220, 0) -> 0 | I220: 4785200 | J220: =TRUNC(I220*D220, 0) -> 4785200 | K220: =TRUNC(E220+G220+I220, 0) -> 4785200 | L220: =TRUNC(F220+H220+J220, 0) -> 4785200 | N220: 528863C8071097236F56EF2AAA13001 | Q220: 010109 | R220: F | S220: F | T220: F | AU220: 010109528863C8071097236F56EF2AAA13001 | AV220: 76
A237: [ 합 계 ] | F237: =SUM(F213:F236) -F219 -> 0 | H237: =SUM(H213:H236) -H219 -> 0 | J237: =SUM(J213:J236) -J219 -> 52637200 | L237: =SUM(L213:L236) -L219 -> 52637200 | N237: TOTAL

Sheet 일위대가목록
A1: 일 위 대 가 목 록
A2: [ 통영시 케이블카 상부역사 전망대 설치공사 ]
A3: 코 드 | B3: 품 명 | C3: 규 격 | D3: 단위 | E3: 재 료 비 | F3: 노 무 비 | G3: 경 비 | H3: 합 계 | I3: 번 호 | J3: 비 고 | K3: 노임계수 | L3: 할증 | M3: 품셈개요 | N3: 장비일위
A4: 5396833A07ACC75A6193ED21999D29 | B4: 강관비계매기/쌍줄 10m이하 | C4: 3개월(발판 유) | D4: ㎡ | E4: =일위대가!F12 -> 1242 | F4: =일위대가!H12 -> 14378 | G4: =일위대가!J12 -> 287 | H4: =E4+F4+G4 -> 15907 | I4: 호표 1
A5: 5396833A07ACC75A6193ED219AA372 | B5: 강관비계매기/쌍줄 10m초과~20m이하 | C5: 3개월(발판 유) | D5: ㎡ | E5: =일위대가!F22 -> 1242 | F5: =일위대가!H22 -> 16719 | G5: =일위대가!J22 -> 334 | H5: =E5+F5+G5 -> 18295 | I5: 호표 2
A6: 5396833A07ACC75A6193ED219B4AFC | B6: 강관비계매기/쌍줄 20m초과~30m이하 | C6: 3개월(발판 유) | D6: ㎡ | E6: =일위대가!F32 -> 1242 | F6: =일위대가!H32 -> 19061 | G6: =일위대가!J32 -> 380 | H6: =E6+F6+G6 -> 20683 | I6: 호표 3
A7: 5396833A07ACC75A6181D5210232B7 | B7: 내부수평비계(틀비계) | C7: H=8.0M(발판 유) | D7: M2 | E7: =일위대가!F38 -> 6511 | F7: =일위대가!H38 -> 24070 | G7: =일위대가!J38 -> 0 | H7: =E7+F7+G7 -> 30581 | I7: 호표 4
A8: 5396833A07ACC75A6181D5210232B4 | B8: 내부수평비계(틀비계) | C8: H=10.0M(발판 유) | D8: M2 | E8: =일위대가!F44 -> 7830 | F8: =일위대가!H44 -> 30088 | G8: =일위대가!J44 -> 0 | H8: =E8+F8+G8 -> 37918 | I8: 호표 5
A9: 5396833A07ACC75A6181D5210232B5 | B9: 내부수평비계(틀비계) | C9: H=20.0M(발판 유) | D9: M2 | E9: =일위대가!F51 -> 14425 | F9: =일위대가!H51 -> 71883 | G9: =일위대가!J51 -> 0 | H9: =E9+F9+G9 -> 86308 | I9: 호표 6
A10: 5396833F071010366C0BE72B317646 | B10: 건축물현장정리 | C10: 철골조 | D10: M2 | E10: =일위대가!F55 -> 0 | F10: =일위대가!H55 -> 7183 | G10: =일위대가!J55 -> 0 | H10: =E10+F10+G10 -> 7183 | I10: 호표 7
A11: 5396D3BE0756E1BC6E351922FAD85E | B11: 현장 철근 가공 및 조립 | C11: 보통(할증) | D11: TON | E11: =일위대가!F59 -> 13054 | F11: =일위대가!H59 -> 627965 | G11: =일위대가!J59 -> 0 | H11: =E11+F11+G11 -> 641019 | I11: 호표 8
A12: 5396D3BE0752062C6A29E0241CF8C2 | B12: 기존구조체연결 보강 D10 | C12: HY-200 | D12: 개소 | E12: =일위대가!F69 -> 1079 | F12: =일위대가!H69 -> 8854 | G12: =일위대가!J69 -> 159 | H12: =E12+F12+G12 -> 10092 | I12: 호표 9
A13: 5396D3BA07FBB09D67C9332625DFA3 | B13: 레디믹스트콘크리트 인력운반 타설 | C13: 철근구조물 | D13: M3 | E13: =일위대가!F75 -> 0 | F13: =일위대가!H75 -> 39034 | G13: =일위대가!J75 -> 780 | H13: =E13+F13+G13 -> 39814 | I13: 호표 10
A14: 5396C350074FDA6268B1782855822A | B14: 데크플레이트설치 | C14: 페로데크 B TYPE 상부근D13 하부근D13 | D14: M2 | E14: =일위대가!F80 -> 48085 | F14: =일위대가!H80 -> 10349 | G14: =일위대가!J80 -> 0 | H14: =E14+F14+G14 -> 58434 | I14: 호표 11
A15: 5396833807E07E286C090422BDD2F4 | B15: 진폴 | C15: 가설,해체정비 | D15: 대 | E15: =일위대가!F85 -> 0 | F15: =일위대가!H85 -> 1261071 | G15: =일위대가!J85 -> 0 | H15: =E15+F15+G15 -> 1261071 | I15: 호표 12
A16: 5396833807E07E286C090422BDD2F7 | B16: 진폴 | C16: 수평이동 | D16: 회 | E16: =일위대가!F89 -> 0 | F16: =일위대가!H89 -> 450382 | G16: =일위대가!J89 -> 0 | H16: =E16+F16+G16 -> 450382 | I16: 호표 13
A17: 5396C354072985D6617AB22A52E35A | B17: 스터드볼트설치/자동용접 | C17: M19*125 | D17: 개소 | E17: =일위대가!F95 -> 743 | F17: =일위대가!H95 -> 398 | G17: =일위대가!J95 -> 0 | H17: =E17+F17+G17 -> 1141 | I17: 호표 14
A18: 5396C35507319D936D703C2E242255 | B18: 철골 가공 조립(적은 구조) | C18: Rolled shape, 60ton미만 | D18: Ton | E18: =일위대가!F101 -> 25200 | F18: =일위대가!H101 -> 241366 | G18: =일위대가!J101 -> 144819 | H18: =E18+F18+G18 -> 411385 | I18: 호표 15
A19: 5396C352077B286962083F23E40D31 | B19: 부대철골가공조립(현장) | C19: 중도리.띠장,캐노피 | D19: 톤 | E19: =일위대가!F105 -> 0 | F19: =일위대가!H105 -> 626640 | G19: =일위대가!J105 -> 0 | H19: =E19+F19+G19 -> 626640 | I19: 호표 16
A20: 5396C3530700CC8A615FF42C0D47DD | B20: 철골세우기 | C20: 0~49kg/m2,0∼10ton | D20: Ton | E20: =일위대가!F110 -> 418 | F20: =일위대가!H110 -> 160187 | G20: =일위대가!J110 -> 0 | H20: =E20+F20+G20 -> 160605 | I20: 호표 17
A21: 5396136A07A04CE56A129725754AC0 | B21: 수밀코킹(실리콘) | C21: 10㎜*10㎜ | D21: M | E21: =일위대가!F115 -> 1858 | F21: =일위대가!H115 -> 4038 | G21: =일위대가!J115 -> 0 | H21: =E21+F21+G21 -> 5896 | I21: 호표 18
A22: 539633BA0703FDC56DE4D9251CD75A | B22: 강화접합유리 난간 | C22: h=1300 기성재포스트 접합유리12mm Φ50.8*2.0mm | D22: M | E22: =일위대가!F124 -> 312441 | F22: =일위대가!H124 -> 39158 | G22: =일위대가!J124 -> 317 | H22: =E22+F22+G22 -> 351916 | I22: 호표 19
A23: 539633BA0703FDC56DE4D9251CD759 | B23: 스텐레스스틸 난간 | C23: h=1200 50*9mm Φ19.1*2.0mm-5줄 | D23: M | E23: =일위대가!F130 -> 51002 | F23: =일위대가!H130 -> 45306 | G23: =일위대가!J130 -> 181 | H23: =E23+F23+G23 -> 96489 | I23: 호표 20
A24: 539633BA0703FDC56DE4D9251CD75F | B24: 점검용링 | C24: 150*150*8t ￠19mm 내경￠100 | D24: 개 | E24: =일위대가!F137 -> 11804 | F24: =일위대가!H137 -> 10791 | G24: =일위대가!J137 -> 46 | H24: =E24+F24+G24 -> 22641 | I24: 호표 21
A25: 539633BA0703FDC56DE4D9251CD6B5 | B25: 스카이웍 바닥유리깔기 | C25: t=28(10+8+10)3중강하접합유리 5500*3000 | D25: 개소 | E25: =일위대가!F144 -> 6014431 | F25: =일위대가!H144 -> 560814 | G25: =일위대가!J144 -> 0 | H25: =E25+F25+G25 -> 6575245 | I25: 호표 22
A26: 539633BA0703FDC56DE4D9251CD132 | B26: 통로좌측유리칸막이(T12MM(6+6)접합유리) | C26: b=4800,h=2500 100*50*1.5T | D26: 개소 | E26: =일위대가!F152 -> 1575686 | F26: =일위대가!H152 -> 427633 | G26: =일위대가!J152 -> 1007 | H26: =E26+F26+G26 -> 2004326 | I26: 호표 23
A27: 539633BA0703FDC56DE4D9251CD131 | B27: 통로좌측유리칸막이(T12MM(6+6)접합유리) | C27: b=2400,h=2030 100*50*1.5T | D27: 개소 | E27: =일위대가!F160 -> 670818 | F27: =일위대가!H160 -> 191629 | G27: =일위대가!J160 -> 483 | H27: =E27+F27+G27 -> 862930 | I27: 호표 24
A28: 539633BA0703FDC56DE4D9251CD02D | B28: 스텐레스스틸점검구(바닥매입) | C28: 1000*800*6T(무늬강판) 기존철거포함 | D28: 개소 | E28: =일위대가!F168 -> 146957 | F28: =일위대가!H168 -> 245642 | G28: =일위대가!J168 -> 570 | H28: =E28+F28+G28 -> 393169 | I28: 호표 25
A29: 5396235307A871986A85C922CD85FB | B29: 리얼징크지붕잇기(75MM그라스울파넬) | C29: 상:리얼징크,하:0.6T아연도금강판) | D29: ㎡ | E29: =일위대가!F175 -> 38587 | F29: =일위대가!H175 -> 10658 | G29: =일위대가!J175 -> 0 | H29: =E29+F29+G29 -> 49245 | I29: 호표 26
A30: 5396235307A871986A85C922CD8680 | B30: 바닥유리설치용각관 | C30: SST 40*110*3T | D30: M | E30: =일위대가!F180 -> 41002 | F30: =일위대가!H180 -> 24876 | G30: =일위대가!J180 -> 106 | H30: =E30+F30+G30 -> 65984 | I30: 호표 27
A31: 5396235307A871986A85C922CD8683 | B31: 바닥유리설치용각관 | C31: SST 150*110*3T | D31: M | E31: =일위대가!F185 -> 71080 | F31: =일위대가!H185 -> 43158 | G31: =일위대가!J185 -> 185 | H31: =E31+F31+G31 -> 114423 | I31: 호표 28
A32: 5396235007D491D26ABC332E09BC84 | B32: 선홈통(강관) 설치 | C32: 101.6mm, 스테인리스관 | D32: M | E32: =일위대가!F190 -> 14611 | F32: =일위대가!H190 -> 24823 | G32: =일위대가!J190 -> 0 | H32: =E32+F32+G32 -> 39434 | I32: 호표 29
A33: 5396235107FD6AD5611015290D6E45 | B33: 루프드레인설치 | C33: 수직형, D100㎜ | D33: 개소 | E33: =일위대가!F196 -> 23460 | F33: =일위대가!H196 -> 27549 | G33: =일위대가!J196 -> 0 | H33: =E33+F33+G33 -> 51009 | I33: 호표 30
A34: 539663EF0709B7AC68E9B029282FAA | B34: 처마후레싱 | C34: 0.6T C/S 150+75+50 | D34: M | E34: =일위대가!F200 -> 2630 | F34: =일위대가!H200 -> 4524 | G34: =일위대가!J200 -> 19 | H34: =E34+F34+G34 -> 7173 | I34: 호표 31
A35: 539673D507A3A966640BC72D68863A | B35: 녹막이페인트(붓칠) | C35: 철재면, 1회, 1종 | D35: M2 | E35: =일위대가!F205 -> 793 | F35: =일위대가!H205 -> 2433 | G35: =일위대가!J205 -> 0 | H35: =E35+F35+G35 -> 3226 | I35: 호표 32
A36: 539673D6074864376DD27021FA7804 | B36: 우레탄도장(붓칠)/신설 | C36: 철재면, 3회. 1급 | D36: M2 | E36: =일위대가!F210 -> 2733 | F36: =일위대가!H210 -> 9735 | G36: =일위대가!J210 -> 0 | H36: =E36+F36+G36 -> 12468 | I36: 호표 33
A37: 539673D6074864376DD27021FA7807 | B37: 우레탄도장(붓칠)/기존철골도장 | C37: 철재면, 3회. 1급(바탕정리포함) | D37: M2 | E37: =일위대가!F217 -> 2733 | F37: =일위대가!H217 -> 23272 | G37: =일위대가!J217 -> 0 | H37: =E37+F37+G37 -> 26005 | I37: 호표 34
A38: 539783A60718D126698300242B1B8A | B38: 75MM샌드위치판넬철거 | C38: (0.6+0.6)*7.86+75*0.08=15.432(16KG/M2) | D38: M2 | E38: =일위대가!F222 -> 0 | F38: =일위대가!H222 -> 9740 | G38: =일위대가!J222 -> 0 | H38: =E38+F38+G38 -> 9740 | I38: 호표 35
A39: 539783A60718D126698300242B1B89 | B39: 점검구철거 | C39: 1100*800*6T | D39: EA | E39: =일위대가!F227 -> 0 | F39: =일위대가!H227 -> 51824 | G39: =일위대가!J227 -> 0 | H39: =E39+F39+G39 -> 51824 | I39: 호표 36
A40: 539783A60718D126698300242B1B88 | B40: 콘크리트난간철거 | D40: M3 | E40: =일위대가!F231 -> 1531 | F40: =일위대가!H231 -> 153109 | G40: =일위대가!J231 -> 1258 | H40: =E40+F40+G40 -> 155898 | I40: 호표 37
A41: 539783A60718D126698300242B1B8F | B41: 핸드레일철거 | C41: ￠100 스텐파이프 | D41: M | E41: =일위대가!F236 -> 0 | F41: =일위대가!H236 -> 5891 | G41: =일위대가!J236 -> 0 | H41: =E41+F41+G41 -> 5891 | I41: 호표 38
A42: 539783A60718D126698300242B1B8E | B42: 기존BRACE철거 | C42: ㅣ-100*100*10 | D42: M | E42: =일위대가!F241 -> 27 | F42: =일위대가!H241 -> 7293 | G42: =일위대가!J241 -> 0 | H42: =E42+F42+G42 -> 7320 | I42: 호표 39
A43: 5396833A07ACC75A6193FF28A25EA0 | B43: 강관비계(쌍줄) 설치 및 해체 | C43: 10m이하 | D43: M2 | E43: =일위대가!F247 -> 0 | F43: =일위대가!H247 -> 11060 | G43: =일위대가!J247 -> 221 | H43: =E43+F43+G43 -> 11281 | I43: 호표 40
A44: 5396833A07ACC75A6193FF28A25D99 | B44: 강관비계(쌍줄) 설치 및 해체 | C44: 10m초과~20m이하 | D44: M2 | E44: =일위대가!F253 -> 0 | F44: =일위대가!H253 -> 12861 | G44: =일위대가!J253 -> 257 | H44: =E44+F44+G44 -> 13118 | I44: 호표 41
A45: 5396833A07ACC75A6193FF28A25CF3 | B45: 강관비계(쌍줄) 설치 및 해체 | C45: 20m초과~30m이하 - | D45: M2 | E45: =일위대가!F259 -> 0 | F45: =일위대가!H259 -> 14663 | G45: =일위대가!J259 -> 293 | H45: =E45+F45+G45 -> 14956 | I45: 호표 42
A46: 5396833A07ACC75A61EA4A2DFB0217 | B46: 강관틀 비계매기 | C46: 10m 이하 | D46: M2 | E46: =일위대가!F270 -> 1319 | F46: =일위대가!H270 -> 4629 | G46: =일위대가!J270 -> 0 | H46: =E46+F46+G46 -> 5948 | I46: 호표 43
A47: 5396833A07ACC75A61EA4A2DF84D49 | B47: 강관틀 비계매기 | C47: 10m 초과 ~ 20m 이하 | D47: M2 | E47: =일위대가!F281 -> 1319 | F47: =일위대가!H281 -> 6430 | G47: =일위대가!J281 -> 0 | H47: =E47+F47+G47 -> 7749 | I47: 호표 44
A48: 5396D3BE0756E1BC6E35082B88E13A | B48: 현장 철근 가공 및 조립 | C48: 보통(미할증) | D48: TON | E48: =일위대가!F287 -> 13447 | F48: =일위대가!H287 -> 646854 | G48: =일위대가!J287 -> 0 | H48: =E48+F48+G48 -> 660301 | I48: 호표 45
A49: 5396D3BE0756E1BC6E24D72755E550 | B49: 철근 현장 가공 | C49: 보통 | D49: TON | E49: =일위대가!F293 -> 5140 | F49: =일위대가!H293 -> 257023 | G49: =일위대가!J293 -> 0 | H49: =E49+F49+G49 -> 262163 | I49: 호표 46
A50: 5396D3BE0756E1BC6E24D7202617EF | B50: 철근 현장 조립 | C50: 보통 | D50: TON | E50: =일위대가!F298 -> 0 | F50: =일위대가!H298 -> 389831 | G50: =일위대가!J298 -> 0 | H50: =E50+F50+G50 -> 389831 | I50: 호표 47
A51: 5396C350074FDA6268B1782855822B | B51: 데크플레이트설치 | C51: 10층이하(자재별도) | D51: M2 | E51: =일위대가!F304 -> 310 | F51: =일위대가!H304 -> 10349 | G51: =일위대가!J304 -> 0 | H51: =E51+F51+G51 -> 10659 | I51: 호표 48
A52: 5396C354072985D763EB5F2446BCAD | B52: 스터드볼트설치/자동용접 | C52: 주재료 별도 | D52: 개소 | E52: =일위대가!F310 -> 159 | F52: =일위대가!H310 -> 398 | G52: =일위대가!J310 -> 0 | H52: =E52+F52+G52 -> 557 | I52: 호표 49
A53: 5396C35507319D936D703C2FCB6A00 | B53: 철골공수 산정방법<소요 부자재량> | C53: H형강부재(Rolled shape) | D53: TON | E53: =일위대가!F317 -> 25200 | F53: =일위대가!H317 -> 0 | G53: =일위대가!J317 -> 0 | H53: =E53+F53+G53 -> 25200 | I53: 호표 50
A54: 5396C3530700CC8A615FF42FC1CCAC | B54: 철골세우기 - 6층 미만 | C54: 기준 - 볼트 별도 - | D54: TON | E54: =일위대가!F322 -> 0 | F54: =일위대가!H322 -> 91956 | G54: =일위대가!J322 -> 0 | H54: =E54+F54+G54 -> 91956 | I54: 호표 51
A55: 5396136A07A27DB766EB8121FECAD6 | B55: 수밀코킹(시공비) | C55: 재료비 별도 | D55: M | E55: =일위대가!F326 -> 0 | F55: =일위대가!H326 -> 4038 | G55: =일위대가!J326 -> 0 | H55: =E55+F55+G55 -> 4038 | I55: 호표 52
A56: 539653810766F2EC67577B28EA6150 | B56: 유리끼우기 - 판유리 | C56: 10mm 이상 | D56: M2 | E56: =일위대가!F330 -> 0 | F56: =일위대가!H330 -> 19530 | G56: =일위대가!J330 -> 0 | H56: =E56+F56+G56 -> 19530 | I56: 호표 53
A57: 539633BA0703FDC66E498E225E91F8 | B57: 앵커고정식 난간 | D57: M | E57: =일위대가!F338 -> 461 | F57: =일위대가!H338 -> 9548 | G57: =일위대가!J338 -> 286 | H57: =E57+F57+G57 -> 10295 | I57: 호표 54
A58: 539633B407F822AC645066246E8C20 | B58: 잡철물제작(스테인리스) | C58: 보통 | D58: kg | E58: =일위대가!F351 -> 246 | F58: =일위대가!H351 -> 2541 | G58: =일위대가!J351 -> 13 | H58: =E58+F58+G58 -> 2800 | I58: 호표 55
A59: 5489E3BD07CACF566330A223F68A428681747BFA | B59: 용접기(교류) | C59: 500Amp | D59: HR | E59: =일위대가!F355 -> 0 | F59: =일위대가!H355 -> 0 | G59: =일위대가!J355 -> 124 | H59: =E59+F59+G59 -> 124 | I59: 호표 56 | K59: A | N59: T
A60: 539633B407F822AC6462882C75F58B | B60: 잡철물제작설치(스테인리스) | C60: 보통 | D60: kg | E60: =일위대가!F360 -> 311 | F60: =일위대가!H360 -> 3741 | G60: =일위대가!J360 -> 15 | H60: =E60+F60+G60 -> 4067 | I60: 호표 57
A61: 539633B407F822AC6450662575FE17 | B61: 잡철물설치(스테인리스) | C61: 보통 | D61: kg | E61: =일위대가!F373 -> 65 | F61: =일위대가!H373 -> 1200 | G61: =일위대가!J373 -> 2 | H61: =E61+F61+G61 -> 1267 | I61: 호표 58
A62: 539633B407F822AE6731EC218B28A8 | B62: 잡철물제작설치(스테인리스)-강판 가공시 | C62: 보통 | D62: kg | E62: =일위대가!F378 -> 304 | F62: =일위대가!H378 -> 3489 | G62: =일위대가!J378 -> 15 | H62: =E62+F62+G62 -> 3808 | I62: 호표 59
A63: 539633B407F822AE6704B029362E6A | B63: 잡철물제작(스테인리스) -강판 가공시 | C63: 보통 | D63: kg | E63: =일위대가!F391 -> 241 | F63: =일위대가!H391 -> 2379 | G63: =일위대가!J391 -> 13 | H63: =E63+F63+G63 -> 2633 | I63: 호표 60
A64: 539633B407F822AE6704B0282F3DBA | B64: 잡철물설치(스테인리스) -강판 가공시 | C64: 보통 | D64: kg | E64: =일위대가!F404 -> 63 | F64: =일위대가!H404 -> 1110 | G64: =일위대가!J404 -> 2 | H64: =E64+F64+G64 -> 1175 | I64: 호표 61
A65: 5396136A07A04E9462689B28CD76AA | B65: 유리주위코킹 | C65: 5*5, 실리콘 | D65: M | E65: =일위대가!F408 -> 279 | F65: =일위대가!H408 -> 0 | G65: =일위대가!J408 -> 0 | H65: =E65+F65+G65 -> 279 | I65: 호표 62
A66: 5396235007D491D26ABC062E09CAFF | B66: 선홈통(강관) 설치 - 노무비 | C66: 100mm, 스테인리스 | D66: M | E66: =일위대가!F413 -> 2925 | F66: =일위대가!H413 -> 24823 | G66: =일위대가!J413 -> 0 | H66: =E66+F66+G66 -> 27748 | I66: 호표 63
A67: 5396235107FD682869DD9220559A4D | B67: 루프드레인 - 노무비 | D67: 개소 | E67: =일위대가!F418 -> 0 | F67: =일위대가!H418 -> 27549 | G67: =일위대가!J418 -> 0 | H67: =E67+F67+G67 -> 27549 | I67: 호표 64
A68: 539663EF0709B7AC68E9B029282A21 | B68: 후레싱설치 | C68: 0.6T C/S | D68: M2 | E68: =일위대가!F424 -> 9566 | F68: =일위대가!H424 -> 16454 | G68: =일위대가!J424 -> 70 | H68: =E68+F68+G68 -> 26090 | I68: 호표 65
A69: 539633B407F822AD668B3E2F4376D4 | B69: 잡철물제작설치(철재) -강판 가공시 | C69: 보통 | D69: kg | E69: =일위대가!F429 -> 192 | F69: =일위대가!H429 -> 3489 | G69: =일위대가!J429 -> 15 | H69: =E69+F69+G69 -> 3696 | I69: 호표 66
A70: 539633B407F822AD66B0722EEBB557 | B70: 잡철물제작(철재) -강판 가공시 | C70: 보통 | D70: kg | E70: =일위대가!F442 -> 146 | F70: =일위대가!H442 -> 2379 | G70: =일위대가!J442 -> 13 | H70: =E70+F70+G70 -> 2538 | I70: 호표 67
A71: 539633B407F822AD66B0722FF2A608 | B71: 잡철물설치(철재) -강판 가공시 | C71: 보통 | D71: kg | E71: =일위대가!F455 -> 46 | F71: =일위대가!H455 -> 1110 | G71: =일위대가!J455 -> 2 | H71: =E71+F71+G71 -> 1158 | I71: 호표 68
A72: 539673D507A3A96664144D2659A64F | B72: 녹막이페인트(붓칠) - 재료비 | C72: 철재면, 1회, 1종 | D72: M2 | E72: =일위대가!F461 -> 793 | F72: =일위대가!H461 -> 0 | G72: =일위대가!J461 -> 0 | H72: =E72+F72+G72 -> 793 | I72: 호표 69
A73: 539673D507A3A96664145F2D626BA2 | B73: 녹막이페인트(붓칠) - 노무비 | C73: 철재면, 1회 칠 | D73: M2 | E73: =일위대가!F466 -> 0 | F73: =일위대가!H466 -> 2433 | G73: =일위대가!J466 -> 0 | H73: =E73+F73+G73 -> 2433 | I73: 호표 70
A74: 539673D6074864376D8A3129BE9474 | B74: 우레탄페인트(붓칠) - 재료비 | C74: 철재면, 3회 칠, 1급 | D74: M2 | E74: =일위대가!F472 -> 2733 | F74: =일위대가!H472 -> 0 | G74: =일위대가!J472 -> 0 | H74: =E74+F74+G74 -> 2733 | I74: 호표 71
A75: 539673D6074864376D8A3129BD8C7D | B75: 유성페인트(붓칠) - 노무비 | C75: 철재면, 3회 칠 | D75: M2 | E75: =일위대가!F481 -> 0 | F75: =일위대가!H481 -> 9735 | G75: =일위대가!J481 -> 0 | H75: =E75+F75+G75 -> 9735 | I75: 호표 72
A76: 539673C707C5AB8E6FFC722F1653FA | B76: 기존 건축물의 바탕만들기(재도장시) | C76: 페인트면 긁어내기 | D76: M2 | E76: =일위대가!F485 -> 0 | F76: =일위대가!H485 -> 12307 | G76: =일위대가!J485 -> 0 | H76: =E76+F76+G76 -> 12307 | I76: 호표 73
A77: 539673C707C5AB8E6FFC722D6B4C37 | B77: 기존 건축물의 바탕만들기(재도장시) | C77: 철재면, 녹제거 | D77: M2 | E77: =일위대가!F489 -> 0 | F77: =일위대가!H489 -> 24614 | G77: =일위대가!J489 -> 0 | H77: =E77+F77+G77 -> 24614 | I77: 호표 74
A78: 539663EF0709B7AC68E9B02D831DBE | B78: 샌드위치(단열)패널 - 지붕 설치비 | C78: 시공비, 두께 50~100mm기준 | D78: M2 | E78: =일위대가!F496 -> 386 | F78: =일위대가!H496 -> 12175 | G78: =일위대가!J496 -> 2459 | H78: =E78+F78+G78 -> 15020 | I78: 호표 75
A79: 5489E3BD07CACAEF62ED782E05127C14AA4BA2BE | B79: 크레인(타이어) | C79: 20ton | D79: HR | E79: =일위대가!F503 -> 7881 | F79: =일위대가!H503 -> 30961 | G79: =일위대가!J503 -> 45852 | H79: =E79+F79+G79 -> 84694 | I79: 호표 76 | K79: A | N79: T
A80: 539783A6071354AC652FBA2AA0737A | B80: 콘크리트 구조물 철거(소형장비 사용) | C80: 전기식, 철근 | D80: M3 | E80: =일위대가!F510 -> 1531 | F80: =일위대가!H510 -> 153109 | G80: =일위대가!J510 -> 1258 | H80: =E80+F80+G80 -> 155898 | I80: 호표 77
A81: 5489E3BD07CACDA1625BF729B4D2F08D4F90E216 | B81: 소형브레이커(전기식) | C81: 1.5kw | D81: HR | E81: =일위대가!F514 -> 0 | F81: =일위대가!H514 -> 0 | G81: =일위대가!J514 -> 286 | H81: =E81+F81+G81 -> 286 | I81: 호표 78 | N81: T
A82: 539633BA0703FDC768C29D2DD7066B | B82: 용접식 난간 | C82: 규격자재 제작설치 | D82: kg | E82: =일위대가!F522 -> 39 | F82: =일위대가!H522 -> 1969 | G82: =일위대가!J522 -> 39 | H82: =E82+F82+G82 -> 2047 | I82: 호표 79
A83: 539783A60714725B601B2D23ED08B0 | B83: 철골재 철거 | C83: LPG사용 | D83: TON | E83: =일위대가!F528 -> 1860 | F83: =일위대가!H528 -> 468955 | G83: =일위대가!J528 -> 0 | H83: =E83+F83+G83 -> 470815 | I83: 호표 80
A84: 539783A60714725B600AC828802C53 | B84: 철골재 철거 | C84: 뒷정리 | D84: TON | E84: =일위대가!F532 -> 0 | F84: =일위대가!H532 -> 20525 | G84: =일위대가!J532 -> 0 | H84: =E84+F84+G84 -> 20525 | I84: 호표 81
A85: 539783A60714725B600AC828802F28 | B85: 철골재 철거 | C85: 해체 | D85: TON | E85: =일위대가!F537 -> 0 | F85: =일위대가!H537 -> 448430 | G85: =일위대가!J537 -> 0 | H85: =E85+F85+G85 -> 448430 | I85: 호표 82

Sheet 일위대가
A1: [ 통영시 케이블카 상부역사 전망대 설치공사 ]
A2: 품 명 | B2: 규 격 | C2: 단위 | D2: 수량 | E2: 재 료 비 | G2: 노 무 비 | I2: 경 비 | K2: 합 계 | M2: 비 고 | N2: 일위대가 | O2: 품목코드 | P2: 일위 | Q2: 단산 | R2: 자재 | S2: 손료적용 | T2: 손료저장 | U2: 적용율 | V2: JUK1 | W2: JUK2 | X2: JUK3 | Y2: JUK4 | Z2: JUK5 | AA2: JUK6 | AB2: JUK7 | AC2: JUK8 | AD2: JUK9 | AE2: JUK10 | AF2: JUK11 | AG2: JUK12 | AH2: JUK13 | AI2: JUK14 | AJ2: JUK15 | AK2: JUK16 | AL2: JUK17 | AM2: JUK18 | AN2: JUK19 | AO2: JUK20 | AP2: 할증적용 | AQ2: 할증저장 | AR2: 할증율 | AS2: HAL1 | AT2: HAL2 | AU2: HAL3 | AV2: 자재구분 | AW2: 일위대가+자재 | AX2: 장비일위 | AY2: 설정
E3: 단 가 | F3: 금 액 | G3: 단 가 | H3: 금 액 | I3: 단 가 | J3: 금 액 | K3: 단 가 | L3: 금 액
A4: 강관비계매기/쌍줄 10m이하 3개월(발판 유) ㎡ ( 호표 1 ) | N4: 5396833A07ACC75A6193ED21999D29
A5: 강관비계 | B5: 강관비계, 비계파이프, 48.6*2.3mm | C5: M | D5: 0.2394 | E5: =단가대비표!O47 -> 2700 | F5: =TRUNC(E5*D5,1) -> 646.3 | G5: =단가대비표!P47 -> 0 | H5: =TRUNC(G5*D5,1) -> 0 | I5: =단가대비표!V47 -> 0 | J5: =TRUNC(I5*D5,1) -> 0 | K5: =TRUNC(E5+G5+I5,1) -> 2700 | L5: =TRUNC(F5+H5+J5,1) -> 646.3 | N5: 5396833A07ACC75A6193ED21999D29 | O5: 54B52362077AF4AD67053F21B8EAE6F71BF454 | P5: F | Q5: F | R5: T | AW5: 5396833A07ACC75A6193ED21999D2954B52362077AF4AD67053F21B8EAE6F71BF454
A6: 강관비계 부속철물 | B6: 이음철물, 연결핀 | C6: 개 | D6: 0.06 | E6: =단가대비표!O48 -> 830 | F6: =TRUNC(E6*D6,1) -> 49.8 | G6: =단가대비표!P48 -> 0 | H6: =TRUNC(G6*D6,1) -> 0 | I6: =단가대비표!V48 -> 0 | J6: =TRUNC(I6*D6,1) -> 0 | K6: =TRUNC(E6+G6+I6,1) -> 830 | L6: =TRUNC(F6+H6+J6,1) -> 49.8 | N6: 5396833A07ACC75A6193ED21999D29 | O6: 54B52362077AF4AD67053F21B8EAE6F71AEC5C | P6: F | Q6: F | R6: T | AW6: 5396833A07ACC75A6193ED21999D2954B52362077AF4AD67053F21B8EAE6F71AEC5C
A7: 강관비계 부속철물 | B7: 조임철물, 직교 및 가새 | C7: 개 | D7: 0.2496 | E7: =단가대비표!O49 -> 1270 | F7: =TRUNC(E7*D7,1) -> 316.9 | G7: =단가대비표!P49 -> 0 | H7: =TRUNC(G7*D7,1) -> 0 | I7: =단가대비표!V49 -> 0 | J7: =TRUNC(I7*D7,1) -> 0 | K7: =TRUNC(E7+G7+I7,1) -> 1270 | L7: =TRUNC(F7+H7+J7,1) -> 316.9 | N7: 5396833A07ACC75A6193ED21999D29 | O7: 54B52362077AF4AD67053F21B8EAE6F71AEC5F | P7: F | Q7: F | R7: T | AW7: 5396833A07ACC75A6193ED21999D2954B52362077AF4AD67053F21B8EAE6F71AEC5F
A8: 강관비계 부속철물 | B8: 받침철물 | C8: 개 | D8: 0.0036 | E8: =단가대비표!O50 -> 2470 | F8: =TRUNC(E8*D8,1) -> 8.8 | G8: =단가대비표!P50 -> 0 | H8: =TRUNC(G8*D8,1) -> 0 | I8: =단가대비표!V50 -> 0 | J8: =TRUNC(I8*D8,1) -> 0 | K8: =TRUNC(E8+G8+I8,1) -> 2470 | L8: =TRUNC(F8+H8+J8,1) -> 8.8 | N8: 5396833A07ACC75A6193ED21999D29 | O8: 54B52362077AF4AD67053F21B8EAE6F71AEC59 | P8: F | Q8: F | R8: T | AW8: 5396833A07ACC75A6193ED21999D2954B52362077AF4AD67053F21B8EAE6F71AEC59
A9: 강관비계 부속철물 | B9: 앙카용철물 | C9: 개 | D9: 0.04 | E9: =단가대비표!O51 -> 900 | F9: =TRUNC(E9*D9,1) -> 36 | G9: =단가대비표!P51 -> 0 | H9: =TRUNC(G9*D9,1) -> 0 | I9: =단가대비표!V51 -> 0 | J9: =TRUNC(I9*D9,1) -> 0 | K9: =TRUNC(E9+G9+I9,1) -> 900 | L9: =TRUNC(F9+H9+J9,1) -> 36 | N9: 5396833A07ACC75A6193ED21999D29 | O9: 54B52362077AF4AD67053F21B8EAE6F71AEC58 | P9: F | Q9: F | R9: T | AW9: 5396833A07ACC75A6193ED21999D2954B52362077AF4AD67053F21B8EAE6F71AEC58
A10: 안전발판 | B10: PSP, 3040*420*3mm | C10: 매 | D10: 0.007 | E10: =단가대비표!O17 -> 26350 | F10: =TRUNC(E10*D10,1) -> 184.4 | G10: =단가대비표!P17 -> 0 | H10: =TRUNC(G10*D10,1) -> 0 | I10: =단가대비표!V17 -> 0 | J10: =TRUNC(I10*D10,1) -> 0 | K10: =TRUNC(E10+G10+I10,1) -> 26350 | L10: =TRUNC(F10+H10+J10,1) -> 184.4 | N10: 5396833A07ACC75A6193ED21999D29 | O10: 54A483BC07F5244E633C7D2FCEE9A16A3691C3 | P10: F | Q10: F | R10: T | AW10: 5396833A07ACC75A6193ED21999D2954A483BC07F5244E633C7D2FCEE9A16A3691C3
A11: 강관비계(쌍줄) 설치 및 해체 | B11: 10m이하 | C11: M2 | D11: 1.3 | E11: =일위대가목록!E43 -> 0 | F11: =TRUNC(E11*D11,1) -> 0 | G11: =일위대가목록!F43 -> 11060 | H11: =TRUNC(G11*D11,1) -> 14378 | I11: =일위대가목록!G43 -> 221 | J11: =TRUNC(I11*D11,1) -> 287.3 | K11: =TRUNC(E11+G11+I11,1) -> 11281 | L11: =TRUNC(F11+H11+J11,1) -> 14665.3 | M11: 호표 40 | N11: 5396833A07ACC75A6193ED21999D29 | O11: 5396833A07ACC75A6193FF28A25EA0 | P11: T | Q11: F | R11: F | AW11: 5396833A07ACC75A6193ED21999D295396833A07ACC75A6193FF28A25EA0
A12: [ 합 계 ] | F12: =TRUNC(SUMIF(N5:N11, N4, F5:F11),0) -> 1242 | H12: =TRUNC(SUMIF(N5:N11, N4, H5:H11),0) -> 14378 | J12: =TRUNC(SUMIF(N5:N11, N4, J5:J11),0) -> 287 | L12: =F12+H12+J12 -> 15907 | N12: TOTAL | O12: TOTAL
A14: 강관비계매기/쌍줄 10m초과~20m이하 3개월(발판 유) ㎡ ( 호표 2 ) | N14: 5396833A07ACC75A6193ED219AA372
A15: 강관비계 | B15: 강관비계, 비계파이프, 48.6*2.3mm | C15: M | D15: 0.2394 | E15: =단가대비표!O47 -> 2700 | F15: =TRUNC(E15*D15,1) -> 646.3 | G15: =단가대비표!P47 -> 0 | H15: =TRUNC(G15*D15,1) -> 0 | I15: =단가대비표!V47 -> 0 | J15: =TRUNC(I15*D15,1) -> 0 | K15: =TRUNC(E15+G15+I15,1) -> 2700 | L15: =TRUNC(F15+H15+J15,1) -> 646.3 | N15: 5396833A07ACC75A6193ED219AA372 | O15: 54B52362077AF4AD67053F21B8EAE6F71BF454 | P15: F | Q15: F | R15: T | AW15: 5396833A07ACC75A6193ED219AA37254B52362077AF4AD67053F21B8EAE6F71BF454
A16: 강관비계 부속철물 | B16: 이음철물, 연결핀 | C16: 개 | D16: 0.06 | E16: =단가대비표!O48 -> 830 | F16: =TRUNC(E16*D16,1) -> 49.8 | G16: =단가대비표!P48 -> 0 | H16: =TRUNC(G16*D16,1) -> 0 | I16: =단가대비표!V48 -> 0 | J16: =TRUNC(I16*D16,1) -> 0 | K16: =TRUNC(E16+G16+I16,1) -> 830 | L16: =TRUNC(F16+H16+J16,1) -> 49.8 | N16: 5396833A07ACC75A6193ED219AA372 | O16: 54B52362077AF4AD67053F21B8EAE6F71AEC5C | P16: F | Q16: F | R16: T | AW16: 5396833A07ACC75A6193ED219AA37254B52362077AF4AD67053F21B8EAE6F71AEC5C
A17: 강관비계 부속철물 | B17: 조임철물, 직교 및 가새 | C17: 개 | D17: 0.2496 | E17: =단가대비표!O49 -> 1270 | F17: =TRUNC(E17*D17,1) -> 316.9 | G17: =단가대비표!P49 -> 0 | H17: =TRUNC(G17*D17,1) -> 0 | I17: =단가대비표!V49 -> 0 | J17: =TRUNC(I17*D17,1) -> 0 | K17: =TRUNC(E17+G17+I17,1) -> 1270 | L17: =TRUNC(F17+H17+J17,1) -> 316.9 | N17: 5396833A07ACC75A6193ED219AA372 | O17: 54B52362077AF4AD67053F21B8EAE6F71AEC5F | P17: F | Q17: F | R17: T | AW17: 5396833A07ACC75A6193ED219AA37254B52362077AF4AD67053F21B8EAE6F71AEC5F
A18: 강관비계 부속철물 | B18: 받침철물 | C18: 개 | D18: 0.0036 | E18: =단가대비표!O50 -> 2470 | F18: =TRUNC(E18*D18,1) -> 8.8 | G18: =단가대비표!P50 -> 0 | H18: =TRUNC(G18*D18,1) -> 0 | I18: =단가대비표!V50 -> 0 | J18: =TRUNC(I18*D18,1) -> 0 | K18: =TRUNC(E18+G18+I18,1) -> 2470 | L18: =TRUNC(F18+H18+J18,1) -> 8.8 | N18: 5396833A07ACC75A6193ED219AA372 | O18: 54B52362077AF4AD67053F21B8EAE6F71AEC59 | P18: F | Q18: F | R18: T | AW18: 5396833A07ACC75A6193ED219AA37254B52362077AF4AD67053F21B8EAE6F71AEC59
A19: 강관비계 부속철물 | B19: 앙카용철물 | C19: 개 | D19: 0.04 | E19: =단가대비표!O51 -> 900 | F19: =TRUNC(E19*D19,1) -> 36 | G19: =단가대비표!P51 -> 0 | H19: =TRUNC(G19*D19,1) -> 0 | I19: =단가대비표!V51 -> 0 | J19: =TRUNC(I19*D19,1) -> 0 | K19: =TRUNC(E19+G19+I19,1) -> 900 | L19: =TRUNC(F19+H19+J19,1) -> 36 | N19: 5396833A07ACC75A6193ED219AA372 | O19: 54B52362077AF4AD67053F21B8EAE6F71AEC58 | P19: F | Q19: F | R19: T | AW19: 5396833A07ACC75A6193ED219AA37254B52362077AF4AD67053F21B8EAE6F71AEC58
A20: 안전발판 | B20: PSP, 3040*420*3mm | C20: 매 | D20: 0.007 | E20: =단가대비표!O17 -> 26350 | F20: =TRUNC(E20*D20,1) -> 184.4 | G20: =단가대비표!P17 -> 0 | H20: =TRUNC(G20*D20,1) -> 0 | I20: =단가대비표!V17 -> 0 | J20: =TRUNC(I20*D20,1) -> 0 | K20: =TRUNC(E20+G20+I20,1) -> 26350 | L20: =TRUNC(F20+H20+J20,1) -> 184.4 | N20: 5396833A07ACC75A6193ED219AA372 | O20: 54A483BC07F5244E633C7D2FCEE9A16A3691C3 | P20: F | Q20: F | R20: T | AW20: 5396833A07ACC75A6193ED219AA37254A483BC07F5244E633C7D2FCEE9A16A3691C3
A21: 강관비계(쌍줄) 설치 및 해체 | B21: 10m초과~20m이하 | C21: M2 | D21: 1.3 | E21: =일위대가목록!E44 -> 0 | F21: =TRUNC(E21*D21,1) -> 0 | G21: =일위대가목록!F44 -> 12861 | H21: =TRUNC(G21*D21,1) -> 16719.3 | I21: =일위대가목록!G44 -> 257 | J21: =TRUNC(I21*D21,1) -> 334.1 | K21: =TRUNC(E21+G21+I21,1) -> 13118 | L21: =TRUNC(F21+H21+J21,1) -> 17053.4 | M21: 호표 41 | N21: 5396833A07ACC75A6193ED219AA372 | O21: 5396833A07ACC75A6193FF28A25D99 | P21: T | Q21: F | R21: F | AW21: 5396833A07ACC75A6193ED219AA3725396833A07ACC75A6193FF28A25D99
A22: [ 합 계 ] | F22: =TRUNC(SUMIF(N15:N21, N14, F15:F21),0) -> 1242 | H22: =TRUNC(SUMIF(N15:N21, N14, H15:H21),0) -> 16719 | J22: =TRUNC(SUMIF(N15:N21, N14, J15:J21),0) -> 334 | L22: =F22+H22+J22 -> 18295 | N22: TOTAL | O22: TOTAL
A24: 강관비계매기/쌍줄 20m초과~30m이하 3개월(발판 유) ㎡ ( 호표 3 ) | N24: 5396833A07ACC75A6193ED219B4AFC
A25: 강관비계 | B25: 강관비계, 비계파이프, 48.6*2.3mm | C25: M | D25: 0.2394 | E25: =단가대비표!O47 -> 2700 | F25: =TRUNC(E25*D25,1) -> 646.3 | G25: =단가대비표!P47 -> 0 | H25: =TRUNC(G25*D25,1) -> 0 | I25: =단가대비표!V47 -> 0 | J25: =TRUNC(I25*D25,1) -> 0 | K25: =TRUNC(E25+G25+I25,1) -> 2700 | L25: =TRUNC(F25+H25+J25,1) -> 646.3 | N25: 5396833A07ACC75A6193ED219B4AFC | O25: 54B52362077AF4AD67053F21B8EAE6F71BF454 | P25: F | Q25: F | R25: T | AW25: 5396833A07ACC75A6193ED219B4AFC54B52362077AF4AD67053F21B8EAE6F71BF454
A26: 강관비계 부속철물 | B26: 이음철물, 연결핀 | C26: 개 | D26: 0.06 | E26: =단가대비표!O48 -> 830 | F26: =TRUNC(E26*D26,1) -> 49.8 | G26: =단가대비표!P48 -> 0 | H26: =TRUNC(G26*D26,1) -> 0 | I26: =단가대비표!V48 -> 0 | J26: =TRUNC(I26*D26,1) -> 0 | K26: =TRUNC(E26+G26+I26,1) -> 830 | L26: =TRUNC(F26+H26+J26,1) -> 49.8 | N26: 5396833A07ACC75A6193ED219B4AFC | O26: 54B52362077AF4AD67053F21B8EAE6F71AEC5C | P26: F | Q26: F | R26: T | AW26: 5396833A07ACC75A6193ED219B4AFC54B52362077AF4AD67053F21B8EAE6F71AEC5C
A27: 강관비계 부속철물 | B27: 조임철물, 직교 및 가새 | C27: 개 | D27: 0.2496 | E27: =단가대비표!O49 -> 1270 | F27: =TRUNC(E27*D27,1) -> 316.9 | G27: =단가대비표!P49 -> 0 | H27: =TRUNC(G27*D27,1) -> 0 | I27: =단가대비표!V49 -> 0 | J27: =TRUNC(I27*D27,1) -> 0 | K27: =TRUNC(E27+G27+I27,1) -> 1270 | L27: =TRUNC(F27+H27+J27,1) -> 316.9 | N27: 5396833A07ACC75A6193ED219B4AFC | O27: 54B52362077AF4AD67053F21B8EAE6F71AEC5F | P27: F | Q27: F | R27: T | AW27: 5396833A07ACC75A6193ED219B4AFC54B52362077AF4AD67053F21B8EAE6F71AEC5F
A28: 강관비계 부속철물 | B28: 받침철물 | C28: 개 | D28: 0.0036 | E28: =단가대비표!O50 -> 2470 | F28: =TRUNC(E28*D28,1) -> 8.8 | G28: =단가대비표!P50 -> 0 | H28: =TRUNC(G28*D28,1) -> 0 | I28: =단가대비표!V50 -> 0 | J28: =TRUNC(I28*D28,1) -> 0 | K28: =TRUNC(E28+G28+I28,1) -> 2470 | L28: =TRUNC(F28+H28+J28,1) -> 8.8 | N28: 5396833A07ACC75A6193ED219B4AFC | O28: 54B52362077AF4AD67053F21B8EAE6F71AEC59 | P28: F | Q28: F | R28: T | AW28: 5396833A07ACC75A6193ED219B4AFC54B52362077AF4AD67053F21B8EAE6F71AEC59
A29: 강관비계 부속철물 | B29: 앙카용철물 | C29: 개 | D29: 0.04 | E29: =단가대비표!O51 -> 900 | F29: =TRUNC(E29*D29,1) -> 36 | G29: =단가대비표!P51 -> 0 | H29: =TRUNC(G29*D29,1) -> 0 | I29: =단가대비표!V51 -> 0 | J29: =TRUNC(I29*D29,1) -> 0 | K29: =TRUNC(E29+G29+I29,1) -> 900 | L29: =TRUNC(F29+H29+J29,1) -> 36 | N29: 5396833A07ACC75A6193ED219B4AFC | O29: 54B52362077AF4AD67053F21B8EAE6F71AEC58 | P29: F | Q29: F | R29: T | AW29: 5396833A07ACC75A6193ED219B4AFC54B52362077AF4AD67053F21B8EAE6F71AEC58
A30: 안전발판 | B30: PSP, 3040*420*3mm | C30: 매 | D30: 0.007 | E30: =단가대비표!O17 -> 26350 | F30: =TRUNC(E30*D30,1) -> 184.4 | G30: =단가대비표!P17 -> 0 | H30: =TRUNC(G30*D30,1) -> 0 | I30: =단가대비표!V17 -> 0 | J30: =TRUNC(I30*D30,1) -> 0 | K30: =TRUNC(E30+G30+I30,1) -> 26350 | L30: =TRUNC(F30+H30+J30,1) -> 184.4 | N30: 5396833A07ACC75A6193ED219B4AFC | O30: 54A483BC07F5244E633C7D2FCEE9A16A3691C3 | P30: F | Q30: F | R30: T | AW30: 5396833A07ACC75A6193ED219B4AFC54A483BC07F5244E633C7D2FCEE9A16A3691C3
A31: 강관비계(쌍줄) 설치 및 해체 | B31: 20m초과~30m이하 - | C31: M2 | D31: 1.3 | E31: =일위대가목록!E45 -> 0 | F31: =TRUNC(E31*D31,1) -> 0 | G31: =일위대가목록!F45 -> 14663 | H31: =TRUNC(G31*D31,1) -> 19061.9 | I31: =일위대가목록!G45 -> 293 | J31: =TRUNC(I31*D31,1) -> 380.9 | K31: =TRUNC(E31+G31+I31,1) -> 14956 | L31: =TRUNC(F31+H31+J31,1) -> 19442.8 | M31: 호표 42 | N31: 5396833A07ACC75A6193ED219B4AFC | O31: 5396833A07ACC75A6193FF28A25CF3 | P31: T | Q31: F | R31: F | AW31: 5396833A07ACC75A6193ED219B4AFC5396833A07ACC75A6193FF28A25CF3
A32: [ 합 계 ] | F32: =TRUNC(SUMIF(N25:N31, N24, F25:F31),0) -> 1242 | H32: =TRUNC(SUMIF(N25:N31, N24, H25:H31),0) -> 19061 | J32: =TRUNC(SUMIF(N25:N31, N24, J25:J31),0) -> 380 | L32: =F32+H32+J32 -> 20683 | N32: TOTAL | O32: TOTAL
A34: 내부수평비계(틀비계) H=8.0M(발판 유) M2 ( 호표 4 ) | N34: 5396833A07ACC75A6181D5210232B7
A35: 강관틀 비계매기 | B35: 10m 이하 | C35: M2 | D35: 4 | E35: =일위대가목록!E46 -> 1319 | F35: =TRUNC(E35*D35,1) -> 5276 | G35: =일위대가목록!F46 -> 4629 | H35: =TRUNC(G35*D35,1) -> 18516 | I35: =일위대가목록!G46 -> 0 | J35: =TRUNC(I35*D35,1) -> 0 | K35: =TRUNC(E35+G35+I35,1) -> 5948 | L35: =TRUNC(F35+H35+J35,1) -> 23792 | M35: 호표 43 | N35: 5396833A07ACC75A6181D5210232B7 | O35: 5396833A07ACC75A61EA4A2DFB0217 | P35: T | Q35: F | R35: F | V35: 1 | AW35: 5396833A07ACC75A6181D5210232B75396833A07ACC75A61EA4A2DFB0217
A36: 경사면소운반30% | B36: 인력품의 30% | C36: 식 | D36: 1 | E36: 0 | F36: =TRUNC(E36*D36,1) -> 0 | G36: =TRUNC(SUMIF(V35:V37, RIGHTB(O36, 1), H35:H37)*U36, 2) -> 5554.8 | H36: =TRUNC(G36*D36,1) -> 5554.8 | I36: 0 | J36: =TRUNC(I36*D36,1) -> 0 | K36: =TRUNC(E36+G36+I36,1) -> 5554.8 | L36: =TRUNC(F36+H36+J36,1) -> 5554.8 | N36: 5396833A07ACC75A6181D5210232B7 | O36: 528863C8071097236F56EF2AAA13001 | P36: F | Q36: F | R36: F | S36: 1 | T36: 1 | U36: 0.3 | AW36: 5396833A07ACC75A6181D5210232B7528863C8071097236F56EF2AAA13001
A37: 안전발판 | B37: PSP, 3040*420*3mm | C37: 매 | D37: 0.0469 | E37: =단가대비표!O17 -> 26350 | F37: =TRUNC(E37*D37,1) -> 1235.8 | G37: =단가대비표!P17 -> 0 | H37: =TRUNC(G37*D37,1) -> 0 | I37: =단가대비표!V17 -> 0 | J37: =TRUNC(I37*D37,1) -> 0 | K37: =TRUNC(E37+G37+I37,1) -> 26350 | L37: =TRUNC(F37+H37+J37,1) -> 1235.8 | N37: 5396833A07ACC75A6181D5210232B7 | O37: 54A483BC07F5244E633C7D2FCEE9A16A3691C3 | P37: F | Q37: F | R37: T | AW37: 5396833A07ACC75A6181D5210232B754A483BC07F5244E633C7D2FCEE9A16A3691C3
A38: [ 합 계 ] | F38: =TRUNC(SUMIF(N35:N37, N34, F35:F37),0) -> 6511 | H38: =TRUNC(SUMIF(N35:N37, N34, H35:H37),0) -> 24070 | J38: =TRUNC(SUMIF(N35:N37, N34, J35:J37),0) -> 0 | L38: =F38+H38+J38 -> 30581 | N38: TOTAL | O38: TOTAL
A40: 내부수평비계(틀비계) H=10.0M(발판 유) M2 ( 호표 5 ) | N40: 5396833A07ACC75A6181D5210232B4
A41: 강관틀 비계매기 | B41: 10m 이하 | C41: M2 | D41: 5 | E41: =일위대가목록!E46 -> 1319 | F41: =TRUNC(E41*D41,1) -> 6595 | G41: =일위대가목록!F46 -> 4629 | H41: =TRUNC(G41*D41,1) -> 23145 | I41: =일위대가목록!G46 -> 0 | J41: =TRUNC(I41*D41,1) -> 0 | K41: =TRUNC(E41+G41+I41,1) -> 5948 | L41: =TRUNC(F41+H41+J41,1) -> 29740 | M41: 호표 43 | N41: 5396833A07ACC75A6181D5210232B4 | O41: 5396833A07ACC75A61EA4A2DFB0217 | P41: T | Q41: F | R41: F | V41: 1 | AW41: 5396833A07ACC75A6181D5210232B45396833A07ACC75A61EA4A2DFB0217
A42: 경사면소운반30% | B42: 인력품의 30% | C42: 식 | D42: 1 | E42: 0 | F42: =TRUNC(E42*D42,1) -> 0 | G42: =TRUNC(SUMIF(V41:V43, RIGHTB(O42, 1), H41:H43)*U42, 2) -> 6943.5 | H42: =TRUNC(G42*D42,1) -> 6943.5 | I42: 0 | J42: =TRUNC(I42*D42,1) -> 0 | K42: =TRUNC(E42+G42+I42,1) -> 6943.5 | L42: =TRUNC(F42+H42+J42,1) -> 6943.5 | N42: 5396833A07ACC75A6181D5210232B4 | O42: 528863C8071097236F56EF2AAA13001 | P42: F | Q42: F | R42: F | S42: 1 | T42: 1 | U42: 0.3 | AW42: 5396833A07ACC75A6181D5210232B4528863C8071097236F56EF2AAA13001
A43: 안전발판 | B43: PSP, 3040*420*3mm | C43: 매 | D43: 0.0469 | E43: =단가대비표!O17 -> 26350 | F43: =TRUNC(E43*D43,1) -> 1235.8 | G43: =단가대비표!P17 -> 0 | H43: =TRUNC(G43*D43,1) -> 0 | I43: =단가대비표!V17 -> 0 | J43: =TRUNC(I43*D43,1) -> 0 | K43: =TRUNC(E43+G43+I43,1) -> 26350 | L43: =TRUNC(F43+H43+J43,1) -> 1235.8 | N43: 5396833A07ACC75A6181D5210232B4 | O43: 54A483BC07F5244E633C7D2FCEE9A16A3691C3 | P43: F | Q43: F | R43: T | AW43: 5396833A07ACC75A6181D5210232B454A483BC07F5244E633C7D2FCEE9A16A3691C3
A44: [ 합 계 ] | F44: =TRUNC(SUMIF(N41:N43, N40, F41:F43),0) -> 7830 | H44: =TRUNC(SUMIF(N41:N43, N40, H41:H43),0) -> 30088 | J44: =TRUNC(SUMIF(N41:N43, N40, J41:J43),0) -> 0 | L44: =F44+H44+J44 -> 37918 | N44: TOTAL | O44: TOTAL
A46: 내부수평비계(틀비계) H=20.0M(발판 유) M2 ( 호표 6 ) | N46: 5396833A07ACC75A6181D5210232B5
A47: 강관틀 비계매기 | B47: 10m 이하 | C47: M2 | D47: 5 | E47: =일위대가목록!E46 -> 1319 | F47: =TRUNC(E47*D47,1) -> 6595 | G47: =일위대가목록!F46 -> 4629 | H47: =TRUNC(G47*D47,1) -> 23145 | I47: =일위대가목록!G46 -> 0 | J47: =TRUNC(I47*D47,1) -> 0 | K47: =TRUNC(E47+G47+I47,1) -> 5948 | L47: =TRUNC(F47+H47+J47,1) -> 29740 | M47: 호표 43 | N47: 5396833A07ACC75A6181D5210232B5 | O47: 5396833A07ACC75A61EA4A2DFB0217 | P47: T | Q47: F | R47: F | V47: 1 | AW47: 5396833A07ACC75A6181D5210232B55396833A07ACC75A61EA4A2DFB0217
A48: 강관틀 비계매기 | B48: 10m 초과 ~ 20m 이하 | C48: M2 | D48: 5 | E48: =일위대가목록!E47 -> 1319 | F48: =TRUNC(E48*D48,1) -> 6595 | G48: =일위대가목록!F47 -> 6430 | H48: =TRUNC(G48*D48,1) -> 32150 | I48: =일위대가목록!G47 -> 0 | J48: =TRUNC(I48*D48,1) -> 0 | K48: =TRUNC(E48+G48+I48,1) -> 7749 | L48: =TRUNC(F48+H48+J48,1) -> 38745 | M48: 호표 44 | N48: 5396833A07ACC75A6181D5210232B5 | O48: 5396833A07ACC75A61EA4A2DF84D49 | P48: T | Q48: F | R48: F | V48: 1 | AW48: 5396833A07ACC75A6181D5210232B55396833A07ACC75A61EA4A2DF84D49
A49: 경사면소운반30% | B49: 인력품의 30% | C49: 식 | D49: 1 | E49: 0 | F49: =TRUNC(E49*D49,1) -> 0 | G49: =TRUNC(SUMIF(V47:V50, RIGHTB(O49, 1), H47:H50)*U49, 2) -> 16588.5 | H49: =TRUNC(G49*D49,1) -> 16588.5 | I49: 0 | J49: =TRUNC(I49*D49,1) -> 0 | K49: =TRUNC(E49+G49+I49,1) -> 16588.5 | L49: =TRUNC(F49+H49+J49,1) -> 16588.5 | N49: 5396833A07ACC75A6181D5210232B5 | O49: 528863C8071097236F56EF2AAA13001 | P49: F | Q49: F | R49: F | S49: 1 | T49: 1 | U49: 0.3 | AW49: 5396833A07ACC75A6181D5210232B5528863C8071097236F56EF2AAA13001
A50: 안전발판 | B50: PSP, 3040*420*3mm | C50: 매 | D50: 0.0469 | E50: =단가대비표!O17 -> 26350 | F50: =TRUNC(E50*D50,1) -> 1235.8 | G50: =단가대비표!P17 -> 0 | H50: =TRUNC(G50*D50,1) -> 0 | I50: =단가대비표!V17 -> 0 | J50: =TRUNC(I50*D50,1) -> 0 | K50: =TRUNC(E50+G50+I50,1) -> 26350 | L50: =TRUNC(F50+H50+J50,1) -> 1235.8 | N50: 5396833A07ACC75A6181D5210232B5 | O50: 54A483BC07F5244E633C7D2FCEE9A16A3691C3 | P50: F | Q50: F | R50: T | AW50: 5396833A07ACC75A6181D5210232B554A483BC07F5244E633C7D2FCEE9A16A3691C3
A51: [ 합 계 ] | F51: =TRUNC(SUMIF(N47:N50, N46, F47:F50),0) -> 14425 | H51: =TRUNC(SUMIF(N47:N50, N46, H47:H50),0) -> 71883 | J51: =TRUNC(SUMIF(N47:N50, N46, J47:J50),0) -> 0 | L51: =F51+H51+J51 -> 86308 | N51: TOTAL | O51: TOTAL
A53: 건축물현장정리 철골조 M2 ( 호표 7 ) | N53: 5396833F071010366C0BE72B317646
A54: 보통인부 | B54: 일반공사 직종 | C54: 인 | D54: 0.07 | E54: =단가대비표!O79 -> 0 | F54: =TRUNC(E54*D54,1) -> 0 | G54: =단가대비표!P79 -> 102628 | H54: =TRUNC(G54*D54,1) -> 7183.9 | I54: =단가대비표!V79 -> 0 | J54: =TRUNC(I54*D54,1) -> 0 | K54: =TRUNC(E54+G54+I54,1) -> 102628 | L54: =TRUNC(F54+H54+J54,1) -> 7183.9 | N54: 5396833F071010366C0BE72B317646 | O54: 5349733B0716430E6C5B1F2CD335903E2D9E6A | P54: F | Q54: F | R54: T | AW54: 5396833F071010366C0BE72B3176465349733B0716430E6C5B1F2CD335903E2D9E6A
A55: [ 합 계 ] | F55: =TRUNC(SUMIF(N54:N54, N53, F54:F54),0) -> 0 | H55: =TRUNC(SUMIF(N54:N54, N53, H54:H54),0) -> 7183 | J55: =TRUNC(SUMIF(N54:N54, N53, J54:J54),0) -> 0 | L55: =F55+H55+J55 -> 7183 | N55: TOTAL | O55: TOTAL
A57: 현장 철근 가공 및 조립 보통(할증) TON ( 호표 8 ) | N57: 5396D3BE0756E1BC6E351922FAD85E
A58: 현장 철근 가공 및 조립 | B58: 보통(미할증) | C58: TON | D58: 0.9708 | E58: =일위대가목록!E48 -> 13447 | F58: =TRUNC(E58*D58,1) -> 13054.3 | G58: =일위대가목록!F48 -> 646854 | H58: =TRUNC(G58*D58,1) -> 627965.8 | I58: =일위대가목록!G48 -> 0 | J58: =TRUNC(I58*D58,1) -> 0 | K58: =TRUNC(E58+G58+I58,1) -> 660301 | L58: =TRUNC(F58+H58+J58,1) -> 641020.1 | M58: 호표 45 | N58: 5396D3BE0756E1BC6E351922FAD85E | O58: 5396D3BE0756E1BC6E35082B88E13A | P58: T | Q58: F | R58: F | AW58: 5396D3BE0756E1BC6E351922FAD85E5396D3BE0756E1BC6E35082B88E13A
A59: [ 합 계 ] | F59: =TRUNC(SUMIF(N58:N58, N57, F58:F58),0) -> 13054 | H59: =TRUNC(SUMIF(N58:N58, N57, H58:H58),0) -> 627965 | J59: =TRUNC(SUMIF(N58:N58, N57, J58:J58),0) -> 0 | L59: =F59+H59+J59 -> 641019 | N59: TOTAL | O59: TOTAL
A61: 기존구조체연결 보강 D10 HY-200 개소 ( 호표 9 ) | N61: 5396D3BE0752062C6A29E0241CF8C2
A62: TE 16 | B62: 함마드릴 | C62: 대 | D62: 0.0002 | E62: =단가대비표!O41 -> 0 | F62: =TRUNC(E62*D62,1) -> 0 | G62: =단가대비표!P41 -> 0 | H62: =TRUNC(G62*D62,1) -> 0 | I62: =단가대비표!V41 -> 753000 | J62: =TRUNC(I62*D62,1) -> 150.6 | K62: =TRUNC(E62+G62+I62,1) -> 753000 | L62: =TRUNC(F62+H62+J62,1) -> 150.6 | N62: 5396D3BE0752062C6A29E0241CF8C2 | O62: 54B52362077572A96FB93B2915AAF1568D7D32 | P62: F | Q62: F | R62: T | AW62: 5396D3BE0752062C6A29E0241CF8C254B52362077572A96FB93B2915AAF1568D7D32
A63: TE-C3X 14/27 | B63: 드릴비트 | C63: 개 | D63: 0.0027 | E63: =단가대비표!O40 -> 30500 | F63: =TRUNC(E63*D63,1) -> 82.3 | G63: =단가대비표!P40 -> 0 | H63: =TRUNC(G63*D63,1) -> 0 | I63: =단가대비표!V40 -> 0 | J63: =TRUNC(I63*D63,1) -> 0 | K63: =TRUNC(E63+G63+I63,1) -> 30500 | L63: =TRUNC(F63+H63+J63,1) -> 82.3 | N63: 5396D3BE0752062C6A29E0241CF8C2 | O63: 54B52362077572A96FB93B2915AAF1568D7D3C | P63: F | Q63: F | R63: T | AW63: 5396D3BE0752062C6A29E0241CF8C254B52362077572A96FB93B2915AAF1568D7D3C
A64: HY 200 | B64: 케미컬약액 | C64: ML | D64: 10.5 | E64: =단가대비표!O39 -> 95 | F64: =TRUNC(E64*D64,1) -> 997.5 | G64: =단가대비표!P39 -> 0 | H64: =TRUNC(G64*D64,1) -> 0 | I64: =단가대비표!V39 -> 0 | J64: =TRUNC(I64*D64,1) -> 0 | K64: =TRUNC(E64+G64+I64,1) -> 95 | L64: =TRUNC(F64+H64+J64,1) -> 997.5 | N64: 5396D3BE0752062C6A29E0241CF8C2 | O64: 54B52362077572A96FB93B2915AAF1568D7D3B | P64: F | Q64: F | R64: T | AW64: 5396D3BE0752062C6A29E0241CF8C254B52362077572A96FB93B2915AAF1568D7D3B
A65: MD 2000 | B65: 주입건 | C65: 개 | D65: 0.0001 | E65: =단가대비표!O42 -> 0 | F65: =TRUNC(E65*D65,1) -> 0 | G65: =단가대비표!P42 -> 0 | H65: =TRUNC(G65*D65,1) -> 0 | I65: =단가대비표!V42 -> 93000 | J65: =TRUNC(I65*D65,1) -> 9.3 | K65: =TRUNC(E65+G65+I65,1) -> 93000 | L65: =TRUNC(F65+H65+J65,1) -> 9.3 | N65: 5396D3BE0752062C6A29E0241CF8C2 | O65: 54B52362077572A96FB93B2915AAF1568D7C11 | P65: F | Q65: F | R65: T | AW65: 5396D3BE0752062C6A29E0241CF8C254B52362077572A96FB93B2915AAF1568D7C11
A66: 착암공 | B66: 일반공사 직종 | C66: 인 | D66: 0.0263 | E66: =단가대비표!O88 -> 0 | F66: =TRUNC(E66*D66,1) -> 0 | G66: =단가대비표!P88 -> 122918 | H66: =TRUNC(G66*D66,1) -> 3232.7 | I66: =단가대비표!V88 -> 0 | J66: =TRUNC(I66*D66,1) -> 0 | K66: =TRUNC(E66+G66+I66,1) -> 122918 | L66: =TRUNC(F66+H66+J66,1) -> 3232.7 | N66: 5396D3BE0752062C6A29E0241CF8C2 | O66: 5349733B0716430E6C5B1F2CD335903E2D9F0B | P66: F | Q66: F | R66: T | AW66: 5396D3BE0752062C6A29E0241CF8C25349733B0716430E6C5B1F2CD335903E2D9F0B
A67: 특별인부 | B67: 일반공사 직종 | C67: 인 | D67: 0.03 | E67: =단가대비표!O80 -> 0 | F67: =TRUNC(E67*D67,1) -> 0 | G67: =단가대비표!P80 -> 123074 | H67: =TRUNC(G67*D67,1) -> 3692.2 | I67: =단가대비표!V80 -> 0 | J67: =TRUNC(I67*D67,1) -> 0 | K67: =TRUNC(E67+G67+I67,1) -> 123074 | L67: =TRUNC(F67+H67+J67,1) -> 3692.2 | N67: 5396D3BE0752062C6A29E0241CF8C2 | O67: 5349733B0716430E6C5B1F2CD335903E2D9E6B | P67: F | Q67: F | R67: T | AW67: 5396D3BE0752062C6A29E0241CF8C25349733B0716430E6C5B1F2CD335903E2D9E6B
A68: 보통인부 | B68: 일반공사 직종 | C68: 인 | D68: 0.0188 | E68: =단가대비표!O79 -> 0 | F68: =TRUNC(E68*D68,1) -> 0 | G68: =단가대비표!P79 -> 102628 | H68: =TRUNC(G68*D68,1) -> 1929.4 | I68: =단가대비표!V79 -> 0 | J68: =TRUNC(I68*D68,1) -> 0 | K68: =TRUNC(E68+G68+I68,1) -> 102628 | L68: =TRUNC(F68+H68+J68,1) -> 1929.4 | N68: 5396D3BE0752062C6A29E0241CF8C2 | O68: 5349733B0716430E6C5B1F2CD335903E2D9E6A | P68: F | Q68: F | R68: T | AW68: 5396D3BE0752062C6A29E0241CF8C25349733B0716430E6C5B1F2CD335903E2D9E6A
A69: [ 합 계 ] | F69: =TRUNC(SUMIF(N62:N68, N61, F62:F68),0) -> 1079 | H69: =TRUNC(SUMIF(N62:N68, N61, H62:H68),0) -> 8854 | J69: =TRUNC(SUMIF(N62:N68, N61, J62:J68),0) -> 159 | L69: =F69+H69+J69 -> 10092 | N69: TOTAL | O69: TOTAL
A71: 레디믹스트콘크리트 인력운반 타설 철근구조물 M3 ( 호표 10 ) | N71: 5396D3BA07FBB09D67C9332625DFA3
A72: 콘크리트공 | B72: 일반공사 직종 | C72: 인 | D72: 0.14 | E72: =단가대비표!O87 -> 0 | F72: =TRUNC(E72*D72,1) -> 0 | G72: =단가대비표!P87 -> 161530 | H72: =TRUNC(G72*D72,1) -> 22614.2 | I72: =단가대비표!V87 -> 0 | J72: =TRUNC(I72*D72,1) -> 0 | K72: =TRUNC(E72+G72+I72,1) -> 161530 | L72: =TRUNC(F72+H72+J72,1) -> 22614.2 | N72: 5396D3BA07FBB09D67C9332625DFA3 | O72: 5349733B0716430E6C5B1F2CD335903E2D9F0D | P72: F | Q72: F | R72: T | V72: 1 | AW72: 5396D3BA07FBB09D67C9332625DFA35349733B0716430E6C5B1F2CD335903E2D9F0D
A73: 보통인부 | B73: 일반공사 직종 | C73: 인 | D73: 0.16 | E73: =단가대비표!O79 -> 0 | F73: =TRUNC(E73*D73,1) -> 0 | G73: =단가대비표!P79 -> 102628 | H73: =TRUNC(G73*D73,1) -> 16420.4 | I73: =단가대비표!V79 -> 0 | J73: =TRUNC(I73*D73,1) -> 0 | K73: =TRUNC(E73+G73+I73,1) -> 102628 | L73: =TRUNC(F73+H73+J73,1) -> 16420.4 | N73: 5396D3BA07FBB09D67C9332625DFA3 | O73: 5349733B0716430E6C5B1F2CD335903E2D9E6A | P73: F | Q73: F | R73: T | V73: 1 | AW73: 5396D3BA07FBB09D67C9332625DFA35349733B0716430E6C5B1F2CD335903E2D9E6A
A74: 공구손료 | B74: 인력품의 2% | C74: 식 | D74: 1 | E74: 0 | F74: =TRUNC(E74*D74,1) -> 0 | G74: 0 | H74: =TRUNC(G74*D74,1) -> 0 | I74: =TRUNC(SUMIF(V72:V74, RIGHTB(O74, 1), H72:H74)*U74, 2) -> 780.69 | J74: =TRUNC(I74*D74,1) -> 780.6 | K74: =TRUNC(E74+G74+I74,1) -> 780.6 | L74: =TRUNC(F74+H74+J74,1) -> 780.6 | N74: 5396D3BA07FBB09D67C9332625DFA3 | O74: 528863C8071097236F56EF2AAA13001 | P74: F | Q74: F | R74: F | S74: 1 | T74: 2 | U74: 0.02 | AW74: 5396D3BA07FBB09D67C9332625DFA3528863C8071097236F56EF2AAA13001
A75: [ 합 계 ] | F75: =TRUNC(SUMIF(N72:N74, N71, F72:F74),0) -> 0 | H75: =TRUNC(SUMIF(N72:N74, N71, H72:H74),0) -> 39034 | J75: =TRUNC(SUMIF(N72:N74, N71, J72:J74),0) -> 780 | L75: =F75+H75+J75 -> 39814 | N75: TOTAL | O75: TOTAL
A77: 데크플레이트설치 페로데크 B TYPE 상부근D13 하부근D13 M2 ( 호표 11 ) | N77: 5396C350074FDA6268B1782855822A
A78: 데크플레이트설치 | B78: 10층이하(자재별도) | C78: M2 | D78: 1 | E78: =일위대가목록!E51 -> 310 | F78: =TRUNC(E78*D78,1) -> 310 | G78: =일위대가목록!F51 -> 10349 | H78: =TRUNC(G78*D78,1) -> 10349 | I78: =일위대가목록!G51 -> 0 | J78: =TRUNC(I78*D78,1) -> 0 | K78: =TRUNC(E78+G78+I78,1) -> 10659 | L78: =TRUNC(F78+H78+J78,1) -> 10659 | M78: 호표 48 | N78: 5396C350074FDA6268B1782855822A | O78: 5396C350074FDA6268B1782855822B | P78: T | Q78: F | R78: F | AW78: 5396C350074FDA6268B1782855822A5396C350074FDA6268B1782855822B
A79: FERRO DECK | B79: B TYPE 상부근D13 하부근D13 | C79: M2 | D79: 1.05 | E79: =단가대비표!O58 -> 45500 | F79: =TRUNC(E79*D79,1) -> 47775 | G79: =단가대비표!P58 -> 0 | H79: =TRUNC(G79*D79,1) -> 0 | I79: =단가대비표!V58 -> 0 | J79: =TRUNC(I79*D79,1) -> 0 | K79: =TRUNC(E79+G79+I79,1) -> 45500 | L79: =TRUNC(F79+H79+J79,1) -> 47775 | N79: 5396C350074FDA6268B1782855822A | O79: 54B52362077AFCF7631C0B25096BE59D74023C | P79: F | Q79: F | R79: T | AW79: 5396C350074FDA6268B1782855822A54B52362077AFCF7631C0B25096BE59D74023C
A80: [ 합 계 ] | F80: =TRUNC(SUMIF(N78:N79, N77, F78:F79),0) -> 48085 | H80: =TRUNC(SUMIF(N78:N79, N77, H78:H79),0) -> 10349 | J80: =TRUNC(SUMIF(N78:N79, N77, J78:J79),0) -> 0 | L80: =F80+H80+J80 -> 58434 | N80: TOTAL | O80: TOTAL
A82: 진폴 가설,해체정비 대 ( 호표 12 ) | N82: 5396833807E07E286C090422BDD2F4
A83: 비계공 | B83: 일반공사 직종 | C83: 인 | D83: 5 | E83: =단가대비표!O81 -> 0 | F83: =TRUNC(E83*D83,1) -> 0 | G83: =단가대비표!P81 -> 180153 | H83: =TRUNC(G83*D83,1) -> 900765 | I83: =단가대비표!V81 -> 0 | J83: =TRUNC(I83*D83,1) -> 0 | K83: =TRUNC(E83+G83+I83,1) -> 180153 | L83: =TRUNC(F83+H83+J83,1) -> 900765 | N83: 5396833807E07E286C090422BDD2F4 | O83: 5349733B0716430E6C5B1F2CD335903E2D9E6E | P83: F | Q83: F | R83: T | AW83: 5396833807E07E286C090422BDD2F45349733B0716430E6C5B1F2CD335903E2D9E6E
A84: 비계공 | B84: 일반공사 직종 | C84: 인 | D84: 2 | E84: =단가대비표!O81 -> 0 | F84: =TRUNC(E84*D84,1) -> 0 | G84: =단가대비표!P81 -> 180153 | H84: =TRUNC(G84*D84,1) -> 360306 | I84: =단가대비표!V81 -> 0 | J84: =TRUNC(I84*D84,1) -> 0 | K84: =TRUNC(E84+G84+I84,1) -> 180153 | L84: =TRUNC(F84+H84+J84,1) -> 360306 | N84: 5396833807E07E286C090422BDD2F4 | O84: 5349733B0716430E6C5B1F2CD335903E2D9E6E | P84: F | Q84: F | R84: T | AW84: 5396833807E07E286C090422BDD2F45349733B0716430E6C5B1F2CD335903E2D9E6E
A85: [ 합 계 ] | F85: =TRUNC(SUMIF(N83:N84, N82, F83:F84),0) -> 0 | H85: =TRUNC(SUMIF(N83:N84, N82, H83:H84),0) -> 1261071 | J85: =TRUNC(SUMIF(N83:N84, N82, J83:J84),0) -> 0 | L85: =F85+H85+J85 -> 1261071 | N85: TOTAL | O85: TOTAL
A87: 진폴 수평이동 회 ( 호표 13 ) | N87: 5396833807E07E286C090422BDD2F7
A88: 비계공 | B88: 일반공사 직종 | C88: 인 | D88: 2.5 | E88: =단가대비표!O81 -> 0 | F88: =TRUNC(E88*D88,1) -> 0 | G88: =단가대비표!P81 -> 180153 | H88: =TRUNC(G88*D88,1) -> 450382.5 | I88: =단가대비표!V81 -> 0 | J88: =TRUNC(I88*D88,1) -> 0 | K88: =TRUNC(E88+G88+I88,1) -> 180153 | L88: =TRUNC(F88+H88+J88,1) -> 450382.5 | N88: 5396833807E07E286C090422BDD2F7 | O88: 5349733B0716430E6C5B1F2CD335903E2D9E6E | P88: F | Q88: F | R88: T | AW88: 5396833807E07E286C090422BDD2F75349733B0716430E6C5B1F2CD335903E2D9E6E
A89: [ 합 계 ] | F89: =TRUNC(SUMIF(N88:N88, N87, F88:F88),0) -> 0 | H89: =TRUNC(SUMIF(N88:N88, N87, H88:H88),0) -> 450382 | J89: =TRUNC(SUMIF(N88:N88, N87, J88:J88),0) -> 0 | L89: =F89+H89+J89 -> 450382 | N89: TOTAL | O89: TOTAL
A91: 스터드볼트설치/자동용접 M19*125 개소 ( 호표 14 ) | N91: 5396C354072985D6617AB22A52E35A
A92: 용접스터드 | B92: 용접스터드, 머리형, M19*125mm, 자동 | C92: 개 | D92: 1.05 | E92: =단가대비표!O64 -> 530 | F92: =TRUNC(E92*D92,1) -> 556.5 | G92: =단가대비표!P64 -> 0 | H92: =TRUNC(G92*D92,1) -> 0 | I92: =단가대비표!V64 -> 0 | J92: =TRUNC(I92*D92,1) -> 0 | K92: =TRUNC(E92+G92+I92,1) -> 530 | L92: =TRUNC(F92+H92+J92,1) -> 556.5 | N92: 5396C354072985D6617AB22A52E35A | O92: 54B5330B07ACF2286AD23121E21461C88951F6 | P92: F | Q92: F | R92: T | V92: 1 | AW92: 5396C354072985D6617AB22A52E35A54B5330B07ACF2286AD23121E21461C88951F6
A93: 잡재료 | B93: 주재료비의 5% | C93: 식 | D93: 1 | E93: =TRUNC(SUMIF(V92:V94, RIGHTB(O93, 1), F92:F94)*U93, 2) -> 27.82 | F93: =TRUNC(E93*D93,1) -> 27.8 | G93: 0 | H93: =TRUNC(G93*D93,1) -> 0 | I93: 0 | J93: =TRUNC(I93*D93,1) -> 0 | K93: =TRUNC(E93+G93+I93,1) -> 27.8 | L93: =TRUNC(F93+H93+J93,1) -> 27.8 | N93: 5396C354072985D6617AB22A52E35A | O93: 528863C8071097236F56EF2AAA13001 | P93: F | Q93: F | R93: F | S93: 0 | T93: 0 | U93: 0.05 | AW93: 5396C354072985D6617AB22A52E35A528863C8071097236F56EF2AAA13001
A94: 스터드볼트설치/자동용접 | B94: 주재료 별도 | C94: 개소 | D94: 1 | E94: =일위대가목록!E52 -> 159 | F94: =TRUNC(E94*D94,1) -> 159 | G94: =일위대가목록!F52 -> 398 | H94: =TRUNC(G94*D94,1) -> 398 | I94: =일위대가목록!G52 -> 0 | J94: =TRUNC(I94*D94,1) -> 0 | K94: =TRUNC(E94+G94+I94,1) -> 557 | L94: =TRUNC(F94+H94+J94,1) -> 557 | M94: 호표 49 | N94: 5396C354072985D6617AB22A52E35A | O94: 5396C354072985D763EB5F2446BCAD | P94: T | Q94: F | R94: F | AW94: 5396C354072985D6617AB22A52E35A5396C354072985D763EB5F2446BCAD
A95: [ 합 계 ] | F95: =TRUNC(SUMIF(N92:N94, N91, F92:F94),0) -> 743 | H95: =TRUNC(SUMIF(N92:N94, N91, H92:H94),0) -> 398 | J95: =TRUNC(SUMIF(N92:N94, N91, J92:J94),0) -> 0 | L95: =F95+H95+J95 -> 1141 | N95: TOTAL | O95: TOTAL
A97: 철골 가공 조립(적은 구조) Rolled shape, 60ton미만 Ton ( 호표 15 ) | N97: 5396C35507319D936D703C2E242255
A98: 철골공수 산정방법<소요 부자재량> | B98: H형강부재(Rolled shape) | C98: TON | D98: 1 | E98: =일위대가목록!E53 -> 25200 | F98: =TRUNC(E98*D98,1) -> 25200 | G98: =일위대가목록!F53 -> 0 | H98: =TRUNC(G98*D98,1) -> 0 | I98: =일위대가목록!G53 -> 0 | J98: =TRUNC(I98*D98,1) -> 0 | K98: =TRUNC(E98+G98+I98,1) -> 25200 | L98: =TRUNC(F98+H98+J98,1) -> 25200 | M98: 호표 50 | N98: 5396C35507319D936D703C2E242255 | O98: 5396C35507319D936D703C2FCB6A00 | P98: T | Q98: F | R98: F | AW98: 5396C35507319D936D703C2E2422555396C35507319D936D703C2FCB6A00
A99: 철골공 | B99: 일반공사 직종 | C99: 인 | D99: 1.5407 | E99: =단가대비표!O85 -> 0 | F99: =TRUNC(E99*D99,1) -> 0 | G99: =단가대비표!P85 -> 156660 | H99: =TRUNC(G99*D99,1) -> 241366 | I99: =단가대비표!V85 -> 0 | J99: =TRUNC(I99*D99,1) -> 0 | K99: =TRUNC(E99+G99+I99,1) -> 156660 | L99: =TRUNC(F99+H99+J99,1) -> 241366 | N99: 5396C35507319D936D703C2E242255 | O99: 5349733B0716430E6C5B1F2CD335903E2D9F0F | P99: F | Q99: F | R99: T | V99: 1 | AW99: 5396C35507319D936D703C2E2422555349733B0716430E6C5B1F2CD335903E2D9F0F
A100: 제경비 | B100: 인력품의 60% | C100: 식 | D100: 1 | E100: 0 | F100: =TRUNC(E100*D100,1) -> 0 | G100: 0 | H100: =TRUNC(G100*D100,1) -> 0 | I100: =TRUNC(SUMIF(V98:V100, RIGHTB(O100, 1), H98:H100)*U100, 2) -> 144819.6 | J100: =TRUNC(I100*D100,1) -> 144819.6 | K100: =TRUNC(E100+G100+I100,1) -> 144819.6 | L100: =TRUNC(F100+H100+J100,1) -> 144819.6 | N100: 5396C35507319D936D703C2E242255 | O100: 528863C8071097236F56EF2AAA13001 | P100: F | Q100: F | R100: F | S100: 1 | T100: 2 | U100: 0.6 | AW100: 5396C35507319D936D703C2E242255528863C8071097236F56EF2AAA13001
A101: [ 합 계 ] | F101: =TRUNC(SUMIF(N98:N100, N97, F98:F100),0) -> 25200 | H101: =TRUNC(SUMIF(N98:N100, N97, H98:H100),0) -> 241366 | J101: =TRUNC(SUMIF(N98:N100, N97, J98:J100),0) -> 144819 | L101: =F101+H101+J101 -> 411385 | N101: TOTAL | O101: TOTAL
A103: 부대철골가공조립(현장) 중도리.띠장,캐노피 톤 ( 호표 16 ) | N103: 5396C352077B286962083F23E40D31
A104: 철골공 | B104: 일반공사 직종 | C104: 인 | D104: 4 | E104: =단가대비표!O85 -> 0 | F104: =TRUNC(E104*D104,1) -> 0 | G104: =단가대비표!P85 -> 156660 | H104: =TRUNC(G104*D104,1) -> 626640 | I104: =단가대비표!V85 -> 0 | J104: =TRUNC(I104*D104,1) -> 0 | K104: =TRUNC(E104+G104+I104,1) -> 156660 | L104: =TRUNC(F104+H104+J104,1) -> 626640 | N104: 5396C352077B286962083F23E40D31 | O104: 5349733B0716430E6C5B1F2CD335903E2D9F0F | P104: F | Q104: F | R104: T | AW104: 5396C352077B286962083F23E40D315349733B0716430E6C5B1F2CD335903E2D9F0F
A105: [ 합 계 ] | F105: =TRUNC(SUMIF(N104:N104, N103, F104:F104),0) -> 0 | H105: =TRUNC(SUMIF(N104:N104, N103, H104:H104),0) -> 626640 | J105: =TRUNC(SUMIF(N104:N104, N103, J104:J104),0) -> 0 | L105: =F105+H105+J105 -> 626640 | N105: TOTAL | O105: TOTAL
A107: 철골세우기 0~49kg/m2,0∼10ton Ton ( 호표 17 ) | N107: 5396C3530700CC8A615FF42C0D47DD
A108: 육각볼트 | B108: 육각볼트, M20*100 | C108: 개 | D108: 0.8 | E108: =단가대비표!O60 -> 523 | F108: =TRUNC(E108*D108,1) -> 418.4 | G108: =단가대비표!P60 -> 0 | H108: =TRUNC(G108*D108,1) -> 0 | I108: =단가대비표!V60 -> 0 | J108: =TRUNC(I108*D108,1) -> 0 | K108: =TRUNC(E108+G108+I108,1) -> 523 | L108: =TRUNC(F108+H108+J108,1) -> 418.4 | N108: 5396C3530700CC8A615FF42C0D47DD | O108: 54B5330B07ACF078601F91231A214BAEFF6855 | P108: F | Q108: F | R108: T | AW108: 5396C3530700CC8A615FF42C0D47DD54B5330B07ACF078601F91231A214BAEFF6855
A109: 철골세우기 - 6층 미만 | B109: 기준 - 볼트 별도 - | C109: TON | D109: 1.742 | E109: =일위대가목록!E54 -> 0 | F109: =TRUNC(E109*D109,1) -> 0 | G109: =일위대가목록!F54 -> 91956 | H109: =TRUNC(G109*D109,1) -> 160187.3 | I109: =일위대가목록!G54 -> 0 | J109: =TRUNC(I109*D109,1) -> 0 | K109: =TRUNC(E109+G109+I109,1) -> 91956 | L109: =TRUNC(F109+H109+J109,1) -> 160187.3 | M109: 호표 51 | N109: 5396C3530700CC8A615FF42C0D47DD | O109: 5396C3530700CC8A615FF42FC1CCAC | P109: T | Q109: F | R109: F | AW109: 5396C3530700CC8A615FF42C0D47DD5396C3530700CC8A615FF42FC1CCAC
A110: [ 합 계 ] | F110: =TRUNC(SUMIF(N108:N109, N107, F108:F109),0) -> 418 | H110: =TRUNC(SUMIF(N108:N109, N107, H108:H109),0) -> 160187 | J110: =TRUNC(SUMIF(N108:N109, N107, J108:J109),0) -> 0 | L110: =F110+H110+J110 -> 160605 | N110: TOTAL | O110: TOTAL
A112: 수밀코킹(실리콘) 10㎜*10㎜ M ( 호표 18 ) | N112: 5396136A07A04CE56A129725754AC0
A113: 실링재 | B113: 실링재, 실리콘, 비초산, 건축외장용, 비오염 | C113: L | D113: 0.12 | E113: =단가대비표!O68 -> 15490 | F113: =TRUNC(E113*D113,1) -> 1858.8 | G113: =단가대비표!P68 -> 0 | H113: =TRUNC(G113*D113,1) -> 0 | I113: =단가대비표!V68 -> 0 | J113: =TRUNC(I113*D113,1) -> 0 | K113: =TRUNC(E113+G113+I113,1) -> 15490 | L113: =TRUNC(F113+H113+J113,1) -> 1858.8 | N113: 5396136A07A04CE56A129725754AC0 | O113: 54B5330807D70AAA6DCF9022D60F9F1FB1FDAC | P113: F | Q113: F | R113: T | AW113: 5396136A07A04CE56A129725754AC054B5330807D70AAA6DCF9022D60F9F1FB1FDAC
A114: 수밀코킹(시공비) | B114: 재료비 별도 | C114: M | D114: 1 | E114: =일위대가목록!E55 -> 0 | F114: =TRUNC(E114*D114,1) -> 0 | G114: =일위대가목록!F55 -> 4038 | H114: =TRUNC(G114*D114,1) -> 4038 | I114: =일위대가목록!G55 -> 0 | J114: =TRUNC(I114*D114,1) -> 0 | K114: =TRUNC(E114+G114+I114,1) -> 4038 | L114: =TRUNC(F114+H114+J114,1) -> 4038 | M114: 호표 52 | N114: 5396136A07A04CE56A129725754AC0 | O114: 5396136A07A27DB766EB8121FECAD6 | P114: T | Q114: F | R114: F | AW114: 5396136A07A04CE56A129725754AC05396136A07A27DB766EB8121FECAD6
A115: [ 합 계 ] | F115: =TRUNC(SUMIF(N113:N114, N112, F113:F114),0) -> 1858 | H115: =TRUNC(SUMIF(N113:N114, N112, H113:H114),0) -> 4038 | J115: =TRUNC(SUMIF(N113:N114, N112, J113:J114),0) -> 0 | L115: =F115+H115+J115 -> 5896 | N115: TOTAL | O115: TOTAL
A117: 강화접합유리 난간 h=1300 기성재포스트 접합유리12mm Φ50.8*2.0mm M ( 호표 19 ) | N117: 539633BA0703FDC56DE4D9251CD75A
A118: 난간용포스트 | B118: BR-B004 H=1200 | C118: 조 | D118: 1 | E118: =단가대비표!O46 -> 156000 | F118: =TRUNC(E118*D118,1) -> 156000 | G118: =단가대비표!P46 -> 0 | H118: =TRUNC(G118*D118,1) -> 0 | I118: =단가대비표!V46 -> 0 | J118: =TRUNC(I118*D118,1) -> 0 | K118: =TRUNC(E118+G118+I118,1) -> 156000 | L118: =TRUNC(F118+H118+J118,1) -> 156000 | N118: 539633BA0703FDC56DE4D9251CD75A | O118: 54B5236207746C4461EE712EB6B005DD288D9C | P118: F | Q118: F | R118: T | AW118: 539633BA0703FDC56DE4D9251CD75A54B5236207746C4461EE712EB6B005DD288D9C
...

Sheet 단가대비표
A1: 단 가 대 비 표
A2: [ 통영시 케이블카 상부역사 전망대 설치공사 ]
A3: 코 드 | B3: 품 명 | C3: 규격 | D3: 단위 | E3: 재 료 비 | P3: 노 무 비 | Q3: 경 비 | W3: 번 호 | X3: 비 고 | Y3: 품목구분 | Z3: 노임구분 | AA3: 소수점처리 | AB3: 자재구분
E4: 가격정보 | F4: PAGE | G4: 거래가격 | H4: PAGE | I4: 유통물가 | J4: PAGE | K4: 물가자료 | L4: PAGE | M4: 조사가격2 | N4: PAGE | O4: 적용단가 | Q4: 가격정보 | R4: 거래가격 | S4: 유통물가 | T4: 물가자료 | U4: 조사가격2 | V4: 적용단가
A5: 5489E3BD07CACAEF62ED782E05127C14AA4BA2 | B5: 크레인(타이어) | C5: 20ton | D5: 대 | E5: 0 | G5: 0 | I5: 0 | K5: 0 | M5: 0 | O5: 0 | P5: 0 | Q5: 0 | R5: 0 | S5: 0 | T5: 0 | U5: 205434 | V5: =SMALL(Q5:U5,COUNTIF(Q5:U5,0)+1) -> 205434 | W5: 자재 1 | X5: 천원
A6: 5489E3BD07CACDA1625BF729B4D2F08D4F90E2 | B6: 소형브레이커(전기식) | C6: 1.5kw | D6: 대 | E6: 0 | G6: 0 | I6: 0 | K6: 0 | M6: 0 | O6: 0 | P6: 0 | Q6: 0 | R6: 0 | S6: 0 | T6: 0 | U6: 1145 | V6: =SMALL(Q6:U6,COUNTIF(Q6:U6,0)+1) -> 1145 | W6: 자재 2 | X6: 천원
A7: 5489E3BD07CACF566330A223F68A428681747B | B7: 용접기(교류) | C7: 500Amp | D7: 대 | E7: 0 | G7: 0 | I7: 0 | K7: 0 | M7: 0 | O7: 0 | P7: 0 | Q7: 0 | R7: 0 | S7: 0 | T7: 0 | U7: 544 | V7: =SMALL(Q7:U7,COUNTIF(Q7:U7,0)+1) -> 544 | W7: 자재 3 | X7: 천원
A8: 549A438907976C316D6CA0261F24761DFE9471 | B8: 철강설 | C8: 철강설, 고철, 작업설부산물 | D8: TON | E8: 240000 | G8: 260000 | H8: 1456 | I8: 195000 | J8: 1246 | K8: 0 | M8: 0 | O8: =SMALL(E8:M8,COUNTIF(E8:M8,0)+1) -> 195000 | P8: 0 | Q8: 0 | R8: 0 | S8: 0 | T8: 0 | U8: 0 | V8: 0 | W8: 자재 4 | X8: 수집상차도
A9: 549A735D0779C0BE629F6124FFC8B7D51BCDBF | B9: 산소가스 | C9: 산소가스, 기체(㎥) | D9: M3 | E9: 0 | G9: 2166.66 | H9: 1435 | I9: 2333.33 | J9: 1238 | K9: 0 | M9: 0 | O9: =SMALL(E9:M9,COUNTIF(E9:M9,0)+1) -> 2166.66 | P9: 0 | Q9: 0 | R9: 0 | S9: 0 | T9: 0 | U9: 0 | V9: 0 | W9: 자재 5 | X9: 대기압상태기준
A10: 549A735D0779C0BE629F6124FFC8B7D51BCDB1 | B10: 산소가스 | C10: 기체 | D10: L | E10: 2 | G10: 2.16 | H10: 1435 | I10: 2.33 | J10: 1238 | K10: 0 | M10: 0 | O10: =SMALL(E10:M10,COUNTIF(E10:M10,0)+1) -> 2 | P10: 0 | Q10: 0 | R10: 0 | S10: 0 | T10: 0 | U10: 0 | V10: 0 | W10: 자재 6 | X10: 대기압상태기준
A11: 549A735D077B8B776EE3B220B009350DFC4BE4 | B11: 수팽창지수고무 | C11: 수팽창지수고무, KCH2010, 시공조인트용BOX연결 | D11: M | E11: 0 | G11: 1900 | H11: 347 | I11: 0 | K11: 0 | M11: 0 | O11: =SMALL(E11:M11,COUNTIF(E11:M11,0)+1) -> 1900 | P11: 0 | Q11: 0 | R11: 0 | S11: 0 | T11: 0 | U11: 0 | V11: 0 | W11: 자재 7
A12: 549A032C07E167156CE0DC2D97B62C113EAFD7 | B12: 경유 | C12: 경유, 저유황 | D12: L | E12: 0 | G12: 1210.9 | H12: 1435 | I12: 1237.27 | J12: 1237 | K12: 0 | M12: 1050 | O12: =SMALL(E12:M12,COUNTIF(E12:M12,0)+1) -> 1050 | P12: 0 | Q12: 0 | R12: 0 | S12: 0 | T12: 0 | U12: 0 | V12: 0 | W12: 자재 8
A13: 549A032C07E05E746F48D3212029F59373E83A | B13: 아세틸렌가스 | C13: 아세틸렌가스, kg | D13: kg | E13: 10450 | G13: 13200 | H13: 1435 | I13: 11000 | J13: 1238 | K13: 0 | M13: 9020 | O13: =SMALL(E13:M13,COUNTIF(E13:M13,0)+1) -> 9020 | P13: 0 | Q13: 0 | R13: 0 | S13: 0 | T13: 0 | U13: 0 | V13: 0 | W13: 자재 9
A14: 549A032C07E05E746F5927251C37059EAA3DFB | B14: 액화석유가스 | C14: 액화석유가스, 건설용 LPG | D14: kg | E14: 930 | G14: 0 | I14: 1326 | J14: 1237 | K14: 0 | M14: 0 | O14: =SMALL(E14:M14,COUNTIF(E14:M14,0)+1) -> 930 | P14: 0 | Q14: 0 | R14: 0 | S14: 0 | T14: 0 | U14: 0 | V14: 0 | W14: 자재 10
A15: 54A4F3EF07394F9A6B510729003CAC7B4FE50C | B15: 용접봉(연강용) | C15: 3.2(KSE4301) | D15: kg | E15: 0 | G15: 2380 | H15: 1310 | I15: 2380 | J15: 1180 | K15: 0 | M15: 1930 | O15: =SMALL(E15:M15,COUNTIF(E15:M15,0)+1) -> 1930 | P15: 0 | Q15: 0 | R15: 0 | S15: 0 | T15: 0 | U15: 0 | V15: 0 | W15: 자재 11
A16: 54A4F3EF07394F9A6B510729003CAC7B4D3F21 | B16: 용접봉(스테인리스) | C16: 3.2(KSD308-16) | D16: kg | E16: 0 | G16: 8880 | H16: 1310 | I16: 8880 | J16: 1180 | K16: 0 | M16: 7000 | O16: =SMALL(E16:M16,COUNTIF(E16:M16,0)+1) -> 7000 | P16: 0 | Q16: 0 | R16: 0 | S16: 0 | T16: 0 | U16: 0 | V16: 0 | W16: 자재 12
A17: 54A483BC07F5244E633C7D2FCEE9A16A3691C3 | B17: 안전발판 | C17: PSP, 3040*420*3mm | D17: 매 | E17: 0 | G17: 0 | H17: 134 | I17: 0 | K17: 0 | M17: 26350 | O17: =SMALL(E17:M17,COUNTIF(E17:M17,0)+1) -> 26350 | P17: 0 | Q17: 0 | R17: 0 | S17: 0 | T17: 0 | U17: 0 | V17: 0 | W17: 자재 13
A18: 54B52362077347626276312EE1D4A62B72B5C7 | B18: ㄱ형강 | C18: ㄱ형강, 등변, 50*50*4mm | D18: kg | E18: 750 | G18: 800 | H18: 37 | I18: 735 | J18: 22 | K18: 0 | M18: 0 | O18: =SMALL(E18:M18,COUNTIF(E18:M18,0)+1) -> 735 | P18: 0 | Q18: 0 | R18: 0 | S18: 0 | T18: 0 | U18: 0 | V18: 0 | W18: 자재 14
A19: 54B523620773476160160A27AFF2205867F18C | B19: 스테인리스강봉 | C19: 스테인리스강봉, STS304, Φ19mm | D19: kg | E19: 0 | G19: 3630 | H19: 62 | I19: 0 | K19: 0 | M19: 0 | O19: =SMALL(E19:M19,COUNTIF(E19:M19,0)+1) -> 3630 | P19: 0 | Q19: 0 | R19: 0 | S19: 0 | T19: 0 | U19: 0 | V19: 0 | W19: 자재 15
A20: 54B523620773476160057827DDCA912421D06F | B20: 철근콘크리트용봉강 | C20: 철근콘크리트용봉강, 이형봉강(SD350/400), HD-13, 지정장소도 | D20: TON | E20: 0 | G20: 630000 | H20: 33 | I20: 660000 | J20: 17 | K20: 0 | M20: 0 | O20: =SMALL(E20:M20,COUNTIF(E20:M20,0)+1) -> 630000 | P20: 0 | Q20: 0 | R20: 0 | S20: 0 | T20: 0 | U20: 0 | V20: 0 | W20: 자재 16
A21: 54B523620773476067A9612DB0DEF230F4ACA3 | B21: 보조강재 | C21: 대강 | D21: kg | E21: 0 | G21: 880 | H21: 40 | I21: 0 | K21: 0 | M21: 0 | O21: =SMALL(E21:M21,COUNTIF(E21:M21,0)+1) -> 880 | P21: 0 | Q21: 0 | R21: 0 | S21: 0 | T21: 0 | U21: 0 | V21: 0 | W21: 자재 17
A22: 54B523620773476067A9612DB0DEF23725682B | B22: H빔 | C22: H빔, SS400, 350*175*7.0*11.0mm | D22: TON | E22: 740000 | G22: 780000 | H22: 40 | I22: 779000 | J22: 19 | K22: 0 | M22: 0 | O22: =SMALL(E22:M22,COUNTIF(E22:M22,0)+1) -> 740000 | P22: 0 | Q22: 0 | R22: 0 | S22: 0 | T22: 0 | U22: 0 | V22: 0 | W22: 자재 18
A23: 54B523620773476067A9612DB0DEF237256ADF | B23: H빔 | C23: H빔, SS400, 488*300*11.0*18.0mm | D23: TON | E23: 740000 | G23: 780000 | H23: 40 | I23: 779000 | J23: 19 | K23: 0 | M23: 0 | O23: =SMALL(E23:M23,COUNTIF(E23:M23,0)+1) -> 740000 | P23: 0 | Q23: 0 | R23: 0 | S23: 0 | T23: 0 | U23: 0 | V23: 0 | W23: 자재 19
A24: 54B523620773476067A9612E574AFA3DB2FFCC | B24: CT형강 | C24: 300*200*11*17 | D24: TON | E24: 0 | G24: 0 | I24: 1460000 | J24: 22 | K24: 0 | M24: 0 | O24: =SMALL(E24:M24,COUNTIF(E24:M24,0)+1) -> 1460000 | P24: 0 | Q24: 0 | R24: 0 | S24: 0 | T24: 0 | U24: 0 | V24: 0 | W24: 자재 20
A25: 54B523620773449161DC9C2E7F979134C5AFD8 | B25: 일반구조용압연강판 | C25: 일반구조용압연강판, 10mm | D25: TON | E25: 611300 | G25: 796600 | H25: 45 | I25: 808600 | J25: 26 | K25: 0 | M25: 0 | O25: =SMALL(E25:M25,COUNTIF(E25:M25,0)+1) -> 611300 | P25: 0 | Q25: 0 | R25: 0 | S25: 0 | T25: 0 | U25: 0 | V25: 0 | W25: 자재 21
A26: 54B523620773449161DC9C2E7F979134CE843B | B26: 도장용융아연도강판 | C26: 도장용융아연도강판, 폴리에스터(양면), 0.60mm | D26: kg | E26: 0 | G26: 1745 | H26: 54 | I26: 1590 | J26: 29 | K26: 0 | M26: 0 | O26: =SMALL(E26:M26,COUNTIF(E26:M26,0)+1) -> 1590 | P26: 0 | Q26: 0 | R26: 0 | S26: 0 | T26: 0 | U26: 0 | V26: 0 | W26: 자재 22
A27: 54B523620773449161DC822736C0A49887FCC8 | B27: 스테인리스강판 | C27: 스테인리스강판, STS316, 1.5mm | D27: kg | E27: 0 | G27: 4366 | H27: 59 | I27: 4150 | J27: 36 | K27: 0 | M27: 0 | O27: =SMALL(E27:M27,COUNTIF(E27:M27,0)+1) -> 4150 | P27: 0 | Q27: 0 | R27: 0 | S27: 0 | T27: 0 | U27: 0 | V27: 0 | W27: 자재 23
A28: 54B523620773449161DC822736C0A49887FF98 | B28: 스테인리스강판 | C28: 스테인리스강판, STS316, 3.0mm | D28: kg | E28: 0 | G28: 0 | I28: 4500 | J28: 36 | K28: 0 | M28: 0 | O28: =SMALL(E28:M28,COUNTIF(E28:M28,0)+1) -> 4500 | P28: 0 | Q28: 0 | R28: 0 | S28: 0 | T28: 0 | U28: 0 | V28: 0 | W28: 자재 24
A29: 54B523620773449161DC822737E12B8D01D210 | B29: 스테인리스강판 | C29: 스테인리스강판, STS304, 6.0mm | D29: kg | E29: 0 | G29: 2810 | H29: 60 | I29: 2800 | J29: 36 | K29: 0 | M29: 0 | O29: =SMALL(E29:M29,COUNTIF(E29:M29,0)+1) -> 2800 | P29: 0 | Q29: 0 | R29: 0 | S29: 0 | T29: 0 | U29: 0 | V29: 0 | W29: 자재 25
A30: 54B523620773449161DC822737E12B8D01D212 | B30: 스테인리스강판 | C30: 스테인리스강판, STS304, 8.0mm | D30: kg | E30: 0 | G30: 2810 | H30: 60 | I30: 2800 | J30: 36 | K30: 0 | M30: 0 | O30: =SMALL(E30:M30,COUNTIF(E30:M30,0)+1) -> 2800 | P30: 0 | Q30: 0 | R30: 0 | S30: 0 | T30: 0 | U30: 0 | V30: 0 | W30: 자재 26
A31: 54B523620773449161DC822737E12B8D01D213 | B31: 스테인리스강판 | C31: 스테인리스강판, STS304, 9.0mm | D31: kg | E31: 0 | G31: 3650 | H31: 60 | I31: 3600 | J31: 36 | K31: 0 | M31: 0 | O31: =SMALL(E31:M31,COUNTIF(E31:M31,0)+1) -> 3600 | P31: 0 | Q31: 0 | R31: 0 | S31: 0 | T31: 0 | U31: 0 | V31: 0 | W31: 자재 27
A32: 54B523620773449161DC822737E12B8D01D21D | B32: 스테인리스강판 | C32: 스테인리스강판, STS304, 12mm | D32: kg | E32: 0 | G32: 3650 | H32: 60 | I32: 3600 | J32: 36 | K32: 0 | M32: 0 | O32: =SMALL(E32:M32,COUNTIF(E32:M32,0)+1) -> 3600 | P32: 0 | Q32: 0 | R32: 0 | S32: 0 | T32: 0 | U32: 0 | V32: 0 | W32: 자재 28
A33: 54B523620772BEED6F79612FFA9A805030D034 | B33: 레미콘 | C33: 레미콘, 경남(거제, 통영권), 25-24-12 | D33: M3 | E33: 74340 | G33: 0 | I33: 0 | K33: 0 | M33: 67580 | O33: =SMALL(E33:M33,COUNTIF(E33:M33,0)+1) -> 67580 | P33: 0 | Q33: 0 | R33: 0 | S33: 0 | T33: 0 | U33: 0 | V33: 0 | W33: 자재 29
A34: 54B5236207761BC0640D5726FAB55D8CC482DE | B34: 루프드레인 | C34: 루프드레인, ISRD1610, 100mm | D34: 개 | E34: 50620 | G34: 26000 | H34: 536 | I34: 66000 | J34: 468 | K34: 0 | M34: 23000 | O34: =SMALL(E34:M34,COUNTIF(E34:M34,0)+1) -> 23000 | P34: 0 | Q34: 0 | R34: 0 | S34: 0 | T34: 0 | U34: 0 | V34: 0 | W34: 자재 30
A35: 54B5236207761BCE63FAEA272580134C6C47BF | B35: 샌드위치패널(상부리얼징크) | C35: 샌드위치패널,그라스울, 지붕재, 75mm | D35: M2 | E35: 0 | G35: 0 | I35: 0 | K35: 53200 | L35: 555 | M35: 35000 | O35: =SMALL(E35:M35,COUNTIF(E35:M35,0)+1) -> 35000 | P35: 0 | Q35: 0 | R35: 0 | S35: 0 | T35: 0 | U35: 0 | V35: 0 | W35: 자재 31
A36: 54B5236207761BCE63FAEA245013B6C32CD16C | B36: 알루미늄 복합패널 | C36: 평판 T=4 불소수지 | D36: M2 | E36: 0 | G36: 120000 | H36: 634 | I36: 0 | K36: 0 | M36: 110000 | O36: =SMALL(E36:M36,COUNTIF(E36:M36,0)+1) -> 110000 | P36: 0 | Q36: 0 | R36: 0 | S36: 0 | T36: 0 | U36: 0 | V36: 0 | W36: 자재 32 | X36: 시공도
A37: 54B5236207761BCE63FAEA245013B6C32CD273 | B37: 알루미늄 복합패널 | C37: 곡판 T=4 불소수지 | D37: M2 | E37: 0 | G37: 130000 | H37: 634 | I37: 0 | K37: 0 | M37: 120000 | O37: =SMALL(E37:M37,COUNTIF(E37:M37,0)+1) -> 120000 | P37: 0 | Q37: 0 | R37: 0 | S37: 0 | T37: 0 | U37: 0 | V37: 0 | W37: 자재 33 | X37: 시공도
A38: 54B5236207761BCE63647D2BBC9BEEFAAF1024 | B38: 도막형바닥재/관급 | C38: 정석케미칼, MSE-A02, t1.5mm, MMA, 스텐실 | D38: M2 | E38: 38100 | G38: 0 | I38: 0 | K38: 0 | M38: 0 | O38: =SMALL(E38:M38,COUNTIF(E38:M38,0)+1) -> 38100 | P38: 0 | Q38: 0 | R38: 0 | S38: 0 | T38: 0 | U38: 0 | V38: 0 | W38: 자재 34 | X38: 식별번호22993552 | AB38: 2
A39: 54B52362077572A96FB93B2915AAF1568D7D3B | B39: HY 200 | C39: 케미컬약액 | D39: ML | E39: 0 | G39: 0 | I39: 0 | K39: 0 | M39: 95 | O39: =SMALL(E39:M39,COUNTIF(E39:M39,0)+1) -> 95 | P39: 0 | Q39: 0 | R39: 0 | S39: 0 | T39: 0 | U39: 0 | V39: 0 | W39: 자재 35
A40: 54B52362077572A96FB93B2915AAF1568D7D3C | B40: TE-C3X 14/27 | C40: 드릴비트 | D40: 개 | E40: 0 | G40: 0 | I40: 0 | K40: 0 | M40: 30500 | O40: =SMALL(E40:M40,COUNTIF(E40:M40,0)+1) -> 30500 | P40: 0 | Q40: 0 | R40: 0 | S40: 0 | T40: 0 | U40: 0 | V40: 0 | W40: 자재 36
A41: 54B52362077572A96FB93B2915AAF1568D7D32 | B41: TE 16 | C41: 함마드릴 | D41: 대 | E41: 0 | G41: 0 | I41: 0 | K41: 0 | M41: 0 | O41: 0 | P41: 0 | Q41: 0 | R41: 0 | S41: 0 | T41: 0 | U41: 753000 | V41: =SMALL(Q41:U41,COUNTIF(Q41:U41,0)+1) -> 753000 | W41: 자재 37
A42: 54B52362077572A96FB93B2915AAF1568D7C11 | B42: MD 2000 | C42: 주입건 | D42: 개 | E42: 0 | G42: 0 | I42: 0 | K42: 0 | M42: 0 | O42: 0 | P42: 0 | Q42: 0 | R42: 0 | S42: 0 | T42: 0 | U42: 93000 | V42: =SMALL(Q42:U42,COUNTIF(Q42:U42,0)+1) -> 93000 | W42: 자재 38
A43: 54B5236207746C4461EE712EB75E3FDF5E9E5C | B43: 투명강화접합유리 | C43: 6CL T/P+1.52PVB+6CL T/P | D43: M2 | E43: 0 | G43: 0 | I43: 0 | K43: 0 | M43: 120450 | N43: 견적 | O43: =SMALL(E43:M43,COUNTIF(E43:M43,0)+1) -> 120450 | P43: 0 | Q43: 0 | R43: 0 | S43: 0 | T43: 0 | U43: 0 | V43: 0 | W43: 자재 39
A44: 54B5236207746C4461EE712EB6B005DD288BEB | B44: 투명강화접합유리 | C44: 10CL T/P+1.52PVB+8CL T/P+1.52PVB+10CL T/P | D44: M2 | E44: 0 | G44: 0 | I44: 0 | K44: 0 | L44: 624 | M44: 336050 | N44: 견적 | O44: =SMALL(E44:M44,COUNTIF(E44:M44,0)+1) -> 336050 | P44: 0 | Q44: 0 | R44: 0 | S44: 0 | T44: 0 | U44: 0 | V44: 0 | W44: 자재 40
A45: 54B5236207746C4461EE712EB6B005DD288AC8 | B45: 방진고무판 | C45: 9.6t 내마모고무판 | D45: M2 | E45: 0 | G45: 0 | I45: 0 | K45: 55549 | L45: 하10 | M45: 0 | O45: =SMALL(E45:M45,COUNTIF(E45:M45,0)+1) -> 55549 | P45: 0 | Q45: 0 | R45: 0 | S45: 0 | T45: 0 | U45: 0 | V45: 0 | W45: 자재 41
A46: 54B5236207746C4461EE712EB6B005DD288D9C | B46: 난간용포스트 | C46: BR-B004 H=1200 | D46: 조 | E46: 0 | G46: 0 | I46: 0 | K46: 0 | M46: 156000 | O46: =SMALL(E46:M46,COUNTIF(E46:M46,0)+1) -> 156000 | P46: 0 | Q46: 0 | R46: 0 | S46: 0 | T46: 0 | U46: 0 | V46: 0 | W46: 자재 42
A47: 54B52362077AF4AD67053F21B8EAE6F71BF454 | B47: 강관비계 | C47: 강관비계, 비계파이프, 48.6*2.3mm | D47: M | E47: 2700 | G47: 9500 | H47: 133 | I47: 2833.33 | J47: 82 | K47: 0 | M47: 0 | O47: =SMALL(E47:M47,COUNTIF(E47:M47,0)+1) -> 2700 | P47: 0 | Q47: 0 | R47: 0 | S47: 0 | T47: 0 | U47: 0 | V47: 0 | W47: 자재 43
A48: 54B52362077AF4AD67053F21B8EAE6F71AEC5C | B48: 강관비계 부속철물 | C48: 이음철물, 연결핀 | D48: 개 | E48: 0 | G48: 960 | H48: 133 | I48: 900 | J48: 82 | K48: 0 | M48: 830 | O48: =SMALL(E48:M48,COUNTIF(E48:M48,0)+1) -> 830 | P48: 0 | Q48: 0 | R48: 0 | S48: 0 | T48: 0 | U48: 0 | V48: 0 | W48: 자재 44
A49: 54B52362077AF4AD67053F21B8EAE6F71AEC5F | B49: 강관비계 부속철물 | C49: 조임철물, 직교 및 가새 | D49: 개 | E49: 0 | G49: 1700 | H49: 133 | I49: 0 | K49: 0 | M49: 1270 | O49: =SMALL(E49:M49,COUNTIF(E49:M49,0)+1) -> 1270 | P49: 0 | Q49: 0 | R49: 0 | S49: 0 | T49: 0 | U49: 0 | V49: 0 | W49: 자재 45
A50: 54B52362077AF4AD67053F21B8EAE6F71AEC59 | B50: 강관비계 부속철물 | C50: 받침철물 | D50: 개 | E50: 0 | G50: 3070 | H50: 133 | I50: 2900 | J50: 82 | K50: 0 | M50: 2470 | O50: =SMALL(E50:M50,COUNTIF(E50:M50,0)+1) -> 2470 | P50: 0 | Q50: 0 | R50: 0 | S50: 0 | T50: 0 | U50: 0 | V50: 0 | W50: 자재 46
A51: 54B52362077AF4AD67053F21B8EAE6F71AEC58 | B51: 강관비계 부속철물 | C51: 앙카용철물 | D51: 개 | E51: 0 | G51: 0 | I51: 0 | K51: 0 | M51: 900 | O51: =SMALL(E51:M51,COUNTIF(E51:M51,0)+1) -> 900 | P51: 0 | Q51: 0 | R51: 0 | S51: 0 | T51: 0 | U51: 0 | V51: 0 | W51: 자재 47
A52: 54B52362077AF4AE617D9C231DE1EC5E390602 | B52: 비계안정장치 | C52: 비계안정장치, 앙카용철물 | D52: 개 | E52: 0 | G52: 0 | I52: 0 | K52: 0 | M52: 900 | O52: =SMALL(E52:M52,COUNTIF(E52:M52,0)+1) -> 900 | P52: 0 | Q52: 0 | R52: 0 | S52: 0 | T52: 0 | U52: 0 | V52: 0 | W52: 자재 48
A53: 54B52362077AF4AE617D9C231DE1EC5E39072E | B53: 비계안정장치 | C53: 비계안정장치, 비계기본틀, 기둥, 1.2*1.7m | D53: 개 | E53: 20830 | G53: 25100 | H53: 133 | I53: 0 | K53: 0 | M53: 0 | O53: =SMALL(E53:M53,COUNTIF(E53:M53,0)+1) -> 20830 | P53: 0 | Q53: 0 | R53: 0 | S53: 0 | T53: 0 | U53: 0 | V53: 0 | W53: 자재 49
A54: 54B52362077AF4AE617D9C231DE1EC5E390721 | B54: 비계안정장치 | C54: 비계안정장치, 비계장선틀, 기둥, 1.0*1.9m | D54: 개 | E54: 19200 | G54: 24500 | H54: 133 | I54: 0 | K54: 0 | M54: 0 | O54: =SMALL(E54:M54,COUNTIF(E54:M54,0)+1) -> 19200 | P54: 0 | Q54: 0 | R54: 0 | S54: 0 | T54: 0 | U54: 0 | V54: 0 | W54: 자재 50
A55: 54B52362077AF4AE617D9C231DE1EC5E390720 | B55: 비계안정장치 | C55: 비계안정장치, 가새, 1.2*1.9m | D55: 개 | E55: 6640 | G55: 8300 | H55: 133 | I55: 0 | K55: 0 | M55: 0 | O55: =SMALL(E55:M55,COUNTIF(E55:M55,0)+1) -> 6640 | P55: 0 | Q55: 0 | R55: 0 | S55: 0 | T55: 0 | U55: 0 | V55: 0 | W55: 자재 51
A56: 54B52362077AF4AE617D9C231DE1EC5E3908CF | B56: 비계안정장치 | C56: 비계안정장치, 조절받침철물 | D56: 개 | E56: 0 | G56: 9000 | H56: 133 | I56: 0 | K56: 0 | M56: 0 | O56: =SMALL(E56:M56,COUNTIF(E56:M56,0)+1) -> 9000 | P56: 0 | Q56: 0 | R56: 0 | S56: 0 | T56: 0 | U56: 0 | V56: 0 | W56: 자재 52
A57: 54B52362077AF4AE617D9C231DE1EC5E3908CE | B57: 비계안정장치 | C57: 비계안정장치, 이음철물, 삽입걸이 | D57: 개 | E57: 0 | G57: 1700 | H57: 133 | I57: 0 | K57: 0 | M57: 0 | O57: =SMALL(E57:M57,COUNTIF(E57:M57,0)+1) -> 1700 | P57: 0 | Q57: 0 | R57: 0 | S57: 0 | T57: 0 | U57: 0 | V57: 0 | W57: 자재 53
A58: 54B52362077AFCF7631C0B25096BE59D74023C | B58: FERRO DECK | C58: B TYPE 상부근D13 하부근D13 | D58: M2 | E58: 0 | G58: 0 | I58: 0 | K58: 45500 | L58: 61 | M58: 0 | O58: =SMALL(E58:M58,COUNTIF(E58:M58,0)+1) -> 45500 | P58: 0 | Q58: 0 | R58: 0 | S58: 0 | T58: 0 | U58: 0 | V58: 0 | W58: 자재 54
A59: 54B5330B07AF4CFA6EA1F721929ADB3821C08C | B59: 철선 | C59: 철선, 어닐링, Φ0.9mm | D59: kg | E59: 1404 | G59: 0 | I59: 1420 | J59: 42 | K59: 0 | M59: 1278 | O59: =SMALL(E59:M59,COUNTIF(E59:M59,0)+1) -> 1278 | P59: 0 | Q59: 0 | R59: 0 | S59: 0 | T59: 0 | U59: 0 | V59: 0 | W59: 자재 55
A60: 54B5330B07ACF078601F91231A214BAEFF6855 | B60: 육각볼트 | C60: 육각볼트, M20*100 | D60: 개 | E60: 523 | G60: 572 | H60: 79 | I60: 590 | J60: 49 | K60: 0 | M60: 0 | O60: =SMALL(E60:M60,COUNTIF(E60:M60,0)+1) -> 523 | P60: 0 | Q60: 0 | R60: 0 | S60: 0 | T60: 0 | U60: 0 | V60: 0 | W60: 자재 56
A61: 54B5330B07ACF076656D61208DB246B6AB71A2 | B61: AL리벳 | C61: Ø4.2mm | D61: 개 | E61: 0 | G61: 22.8 | H61: 86 | I61: 120 | J61: 57 | K61: 0 | M61: 0 | O61: =SMALL(E61:M61,COUNTIF(E61:M61,0)+1) -> 22.8 | P61: 0 | Q61: 0 | R61: 0 | S61: 0 | T61: 0 | U61: 0 | V61: 0 | W61: 자재 57
A62: 54B5330B07ACF33367A4B527FE873958138571 | B62: 세트앵커 | C62: 세트앵커, M10*L75mm | D62: 개 | E62: 0 | G62: 135 | H62: 85 | I62: 0 | K62: 0 | M62: 0 | O62: =SMALL(E62:M62,COUNTIF(E62:M62,0)+1) -> 135 | P62: 0 | Q62: 0 | R62: 0 | S62: 0 | T62: 0 | U62: 0 | V62: 0 | W62: 자재 58
A63: 54B5330B07ACF33A6A03E928B92AA0A5F51127 | B63: 일반철물 | C63: 일반철물, 선홈통지지철물, STS | D63: 개 | E63: 0 | G63: 0 | I63: 0 | K63: 0 | M63: 4500 | O63: =SMALL(E63:M63,COUNTIF(E63:M63,0)+1) -> 4500 | P63: 0 | Q63: 0 | R63: 0 | S63: 0 | T63: 0 | U63: 0 | V63: 0 | W63: 자재 59
A64: 54B5330B07ACF2286AD23121E21461C88951F6 | B64: 용접스터드 | C64: 용접스터드, 머리형, M19*125mm, 자동 | D64: 개 | E64: 530 | G64: 544 | H64: 82 | I64: 706 | J64: 52 | K64: 0 | M64: 0 | O64: =SMALL(E64:M64,COUNTIF(E64:M64,0)+1) -> 530 | P64: 0 | Q64: 0 | R64: 0 | S64: 0 | T64: 0 | U64: 0 | V64: 0 | W64: 자재 60
A65: 54B5330807D70AA86260FC24586E10C4EC48E0 | B65: 방청페인트 | C65: 방청페인트, KSM6030-1종1류, 광명단페인트 | D65: L | E65: 9492 | G65: 17655.55 | H65: 572 | I65: 22783.33 | J65: 476 | K65: 0 | M65: 0 | O65: =SMALL(E65:M65,COUNTIF(E65:M65,0)+1) -> 9492 | P65: 0 | Q65: 0 | R65: 0 | S65: 0 | T65: 0 | U65: 0 | V65: 0 | W65: 자재 61
A66: 54B5330807D70AA86260B62968A57BDBF01732 | B66: 스피롤탄(우레탄) | C66: 백색 SB-AP-26 | D66: L | E66: 0 | G66: 0 | I66: 10550 | J66: 483 | K66: 0 | M66: 0 | O66: =SMALL(E66:M66,COUNTIF(E66:M66,0)+1) -> 10550 | P66: 0 | Q66: 0 | R66: 0 | S66: 0 | T66: 0 | U66: 0 | V66: 0 | W66: 자재 62
A67: 54B5330807D70AAA6DCF9022D60F9F1FB1FADC | B67: 실링재 | C67: 실링재, 실리콘, 비초산, 유리용, 창호주위 | D67: L | E67: 9310 | G67: 0 | I67: 0 | K67: 0 | M67: 0 | O67: =SMALL(E67:M67,COUNTIF(E67:M67,0)+1) -> 9310 | P67: 0 | Q67: 0 | R67: 0 | S67: 0 | T67: 0 | U67: 0 | V67: 0 | W67: 자재 63
A68: 54B5330807D70AAA6DCF9022D60F9F1FB1FDAC | B68: 실링재 | C68: 실링재, 실리콘, 비초산, 건축외장용, 비오염 | D68: L | E68: 15490 | G68: 0 | I68: 0 | K68: 0 | M68: 0 | O68: =SMALL(E68:M68,COUNTIF(E68:M68,0)+1) -> 15490 | P68: 0 | Q68: 0 | R68: 0 | S68: 0 | T68: 0 | U68: 0 | V68: 0 | W68: 자재 64
A69: 54B5330807D70AA565B891278EFBD8F6BE3D0A | B69: 시너 | C69: 시너, KSM6060, 1종 | D69: L | E69: 0 | G69: 3483.33 | H69: 572 | I69: 2766.66 | J69: 476 | K69: 0 | M69: 0 | O69: =SMALL(E69:M69,COUNTIF(E69:M69,0)+1) -> 2766.66 | P69: 0 | Q69: 0 | R69: 0 | S69: 0 | T69: 0 | U69: 0 | V69: 0 | W69: 자재 65
A70: 54C7930C0750CFFC6DCA8926C611F3FAFB090E | B70: 아연도각관 | C70: 50*50*t2.3mm, 3.338kg/m | D70: M | E70: 2586 | G70: 0 | I70: 0 | K70: 0 | M70: 0 | O70: =SMALL(E70:M70,COUNTIF(E70:M70,0)+1) -> 2586 | P70: 0 | Q70: 0 | R70: 0 | S70: 0 | T70: 0 | U70: 0 | V70: 0 | W70: 자재 66
A71: 54C7930C0750CFFC6DCA8926C611F3FAFB0CDB | B71: 아연도각관 | C71: 100*50*t2.0mm, 4.504kg/m | D71: M | E71: 3688 | G71: 0 | I71: 0 | K71: 0 | M71: 0 | O71: =SMALL(E71:M71,COUNTIF(E71:M71,0)+1) -> 3688 | P71: 0 | Q71: 0 | R71: 0 | S71: 0 | T71: 0 | U71: 0 | V71: 0 | W71: 자재 67
A72: 54C7930C0750CFFC6DCA8926C611F3FAFB0DE3 | B72: 아연도각관 | C72: 150*50*t3.2mm, 9.520kg/m | D72: M | E72: 7670 | G72: 0 | I72: 0 | K72: 0 | M72: 0 | O72: =SMALL(E72:M72,COUNTIF(E72:M72,0)+1) -> 7670 | P72: 0 | Q72: 0 | R72: 0 | S72: 0 | T72: 0 | U72: 0 | V72: 0 | W72: 자재 68
A73: 54C7930C0750CFFC6DCA6E248ED3E4C6692610 | B73: 기계구조용스테인리스강관 | C73: 기계구조용스테인리스강관, Φ19.1*2.0mm | D73: M | E73: 3610 | G73: 4050 | H73: 64 | I73: 4010 | J73: 38 | K73: 0 | M73: 0 | O73: =SMALL(E73:M73,COUNTIF(E73:M73,0)+1) -> 3610 | P73: 0 | Q73: 0 | R73: 0 | S73: 0 | T73: 0 | U73: 0 | V73: 0 | W73: 자재 69
A74: 54C7930C0750CFFC6DCA6E248ED3E4C6666F94 | B74: 기계구조용스테인리스강관 | C74: 기계구조용스테인리스강관, Φ50.8*2.0mm | D74: M | E74: 8950 | G74: 9910 | H74: 65 | I74: 9910 | J74: 38 | K74: 0 | M74: 0 | O74: =SMALL(E74:M74,COUNTIF(E74:M74,0)+1) -> 8950 | P74: 0 | Q74: 0 | R74: 0 | S74: 0 | T74: 0 | U74: 0 | V74: 0 | W74: 자재 70
A75: 54C7930C0750CFFC6DCA6E248ED3E4C6666975 | B75: 기계구조용스테인리스강관 | C75: 기계구조용스테인리스강관, Φ101.6*1.2mm | D75: M | E75: 11130 | G75: 12500 | H75: 65 | I75: 12490 | J75: 38 | K75: 0 | M75: 0 | O75: =SMALL(E75:M75,COUNTIF(E75:M75,0)+1) -> 11130 | P75: 0 | Q75: 0 | R75: 0 | S75: 0 | T75: 0 | U75: 0 | V75: 0 | W75: 자재 71
A76: 5396833F0710138B6E76702E6A435A | B76: 혼합건설폐기물 | C76: 불연성 건설폐기물에 가연성 5% 이하 혼합 | D76: TON | E76: 0 | G76: 0 | I76: 0 | K76: 0 | M76: 0 | O76: 0 | P76: 0 | Q76: 0 | R76: 0 | S76: 0 | T76: 0 | U76: 94250 | V76: =SMALL(Q76:U76,COUNTIF(Q76:U76,0)+1) -> 94250 | W76: 자재 72
A77: 5396833F0710138A6DE4852B7917AC | B77: 건설폐기물 상차 및 운반비 - 중량 기준 | C77: 중간처리 대상, 15ton 덤프트럭, 30km | D77: TON | E77: 0 | G77: 0 | I77: 0 | K77: 0 | M77: 0 | O77: 0 | P77: 0 | Q77: 0 | R77: 0 | S77: 0 | T77: 0 | U77: 15226 | V77: =SMALL(Q77:U77,COUNTIF(Q77:U77,0)+1) -> 15226 | W77: 자재 73
A78: 53DF4385079861FB68FD252A6C699AA80A7C82 | B78: 공통자재 | C78: 일반경비, 전력 | D78: kwh | E78: 0 | G78: 0 | I78: 0 | K78: 0 | M78: 0 | O78: 0 | P78: 0 | Q78: 87 | R78: 0 | S78: 0 | T78: 0 | U78: 0 | V78: =SMALL(Q78:U78,COUNTIF(Q78:U78,0)+1) -> 87 | W78: 자재 74
A79: 5349733B0716430E6C5B1F2CD335903E2D9E6A | B79: 보통인부 | C79: 일반공사 직종 | D79: 인 | E79: 0 | G79: 0 | I79: 0 | K79: 0 | M79: 0 | O79: 0 | P79: 102628 | Q79: 0 | R79: 0 | S79: 0 | T79: 0 | U79: 0 | V79: 0 | W79: 노임 1 | Y79: B
A80: 5349733B0716430E6C5B1F2CD335903E2D9E6B | B80: 특별인부 | C80: 일반공사 직종 | D80: 인 | E80: 0 | G80: 0 | I80: 0 | K80: 0 | M80: 0 | O80: 0 | P80: 123074 | Q80: 0 | R80: 0 | S80: 0 | T80: 0 | U80: 0 | V80: 0 | W80: 노임 2 | Y80: B
A81: 5349733B0716430E6C5B1F2CD335903E2D9E6E | B81: 비계공 | C81: 일반공사 직종 | D81: 인 | E81: 0 | G81: 0 | I81: 0 | K81: 0 | M81: 0 | O81: 0 | P81: 180153 | Q81: 0 | R81: 0 | S81: 0 | T81: 0 | U81: 0 | V81: 0 | W81: 노임 3 | Y81: B
A82: 5349733B0716430E6C5B1F2CD335903E2D9E60 | B82: 철근공 | C82: 일반공사 직종 | D82: 인 | E82: 0 | G82: 0 | I82: 0 | K82: 0 | M82: 0 | O82: 0 | P82: 170033 | Q82: 0 | R82: 0 | S82: 0 | T82: 0 | U82: 0 | V82: 0 | W82: 노임 4 | Y82: B
A83: 5349733B0716430E6C5B1F2CD335903E2D9E61 | B83: 철공 | C83: 일반공사 직종 | D83: 인 | E83: 0 | G83: 0 | I83: 0 | K83: 0 | M83: 0 | O83: 0 | P83: 156492 | Q83: 0 | R83: 0 | S83: 0 | T83: 0 | U83: 0 | V83: 0 | W83: 노임 5 | Y83: B
A84: 5349733B0716430E6C5B1F2CD335903E2D9F0E | B84: 철판공 | C84: 일반공사 직종 | D84: 인 | E84: 0 | G84: 0 | I84: 0 | K84: 0 | M84: 0 | O84: 0 | P84: 143643 | Q84: 0 | R84: 0 | S84: 0 | T84: 0 | U84: 0 | V84: 0 | W84: 노임 6 | Y84: B
A85: 5349733B0716430E6C5B1F2CD335903E2D9F0F | B85: 철골공 | C85: 일반공사 직종 | D85: 인 | E85: 0 | G85: 0 | I85: 0 | K85: 0 | M85: 0 | O85: 0 | P85: 156660 | Q85: 0 | R85: 0 | S85: 0 | T85: 0 | U85: 0 | V85: 0 | W85: 노임 7 | Y85: B
A86: 5349733B0716430E6C5B1F2CD335903E2D9F0C | B86: 용접공 | C86: 일반공사 직종 | D86: 인 | E86: 0 | G86: 0 | I86: 0 | K86: 0 | M86: 0 | O86: 0 | P86: 157183 | Q86: 0 | R86: 0 | S86: 0 | T86: 0 | U86: 0 | V86: 0 | W86: 노임 8 | Y86: B
A87: 5349733B0716430E6C5B1F2CD335903E2D9F0D | B87: 콘크리트공 | C87: 일반공사 직종 | D87: 인 | E87: 0 | G87: 0 | I87: 0 | K87: 0 | M87: 0 | O87: 0 | P87: 161530 | Q87: 0 | R87: 0 | S87: 0 | T87: 0 | U87: 0 | V87: 0 | W87: 노임 9 | Y87: B
A88: 5349733B0716430E6C5B1F2CD335903E2D9F0B | B88: 착암공 | C88: 일반공사 직종 | D88: 인 | E88: 0 | G88: 0 | I88: 0 | K88: 0 | M88: 0 | O88: 0 | P88: 122918 | Q88: 0 | R88: 0 | S88: 0 | T88: 0 | U88: 0 | V88: 0 | W88: 노임 10 | Y88: B
A89: 5349733B0716430E6C5B1F2CD335903E2D9CBF | B89: 유리공 | C89: 일반공사 직종 | D89: 인 | E89: 0 | G89: 0 | I89: 0 | K89: 0 | M89: 0 | O89: 0 | P89: 143608 | Q89: 0 | R89: 0 | S89: 0 | T89: 0 | U89: 0 | V89: 0 | W89: 노임 11 | Y89: B
A90: 5349733B0716430E6C5B1F2CD335903E2D9CB3 | B90: 도장공 | C90: 일반공사 직종 | D90: 인 | E90: 0 | G90: 0 | I90: 0 | K90: 0 | M90: 0 | O90: 0 | P90: 141733 | Q90: 0 | R90: 0 | S90: 0 | T90: 0 | U90: 0 | V90: 0 | W90: 노임 12 | Y90: B
... A94: 5349733B0716430E6C5B552702670D3D7A4A5E | B94: 코킹공 | C94: 기타 직종 | D94: 인 | E94: 0 | G94: 0 | I94: 0 | K94: 0 | M94: 0 | O94: 0 | P94: 134606 | Q94: 0 | R94: 0 | S94: 0 | T94: 0 | U94: 0 | V94: 0 | W94: 노임 16 | Y94: B
A95: 5222F391076ADD5567C9FC2EA9DB8E4E3BB06F | B95: 항공이동비(BELL-214B1) | D95: 식 | E95: 0 | G95: 0 | I95: 0 | K95: 0 | M95: 0 | O95: 0 | P95: 0 | Q95: 0 | R95: 0 | S95: 0 | T95: 0 | U95: 4000000 | V95: =SMALL(Q95:U95,COUNTIF(Q95:U95,0)+1) -> 4000000 | W95: 자재 75
A96: 5222F391076ADD5567C9FC2EA9DB8E4E3BB06C | B96: 항공운반비 | C96: 기존판넬운반(482.2M2*16KG) | D96: 톤 | E96: 0 | G96: 0 | I96: 0 | K96: 0 | M96: 0 | O96: 0 | P96: 0 | Q96: 0 | R96: 0 | S96: 0 | T96: 0 | U96: 280000 | V96: =SMALL(Q96:U96,COUNTIF(Q96:U96,0)+1) -> 280000 | W96: 자재 76
A97: 5222F391076ADD5567C9FC2EA9DB8E4E3BB06D | B97: 항공운반비 | C97: 페로데크운반(311.8M2*18KG) | D97: 톤 | E97: 0 | G97: 0 | I97: 0 | K97: 0 | M97: 0 | O97: 0 | P97: 0 | Q97: 0 | R97: 0 | S97: 0 | T97: 0 | U97: 280000 | V97: =SMALL(Q97:U97,COUNTIF(Q97:U97,0)+1) -> 280000 | W97: 자재 77
A98: 5222F391076ADD5567C9FC2EA9DB8E4E3BB06A | B98: 항공운반비 | C98: 레미콘(45.7M3*2.3) | D98: 톤 | E98: 0 | G98: 0 | I98: 0 | K98: 0 | M98: 0 | O98: 0 | P98: 0 | Q98: 0 | R98: 0 | S98: 0 | T98: 0 | U98: 280000 | V98: =SMALL(Q98:U98,COUNTIF(Q98:U98,0)+1) -> 280000 | W98: 자재 78
A99: 5222F391076ADD5567C9FC2EA9DB8E4E3BB06B | B99: 항공운반비 | C99: 철근(2.48T) | D99: 톤 | E99: 0 | G99: 0 | I99: 0 | K99: 0 | M99: 0 | O99: 0 | P99: 0 | Q99: 0 | R99: 0 | S99: 0 | T99: 0 | U99: 280000 | V99: =SMALL(Q99:U99,COUNTIF(Q99:U99,0)+1) -> 280000 | W99: 자재 79
A100: 5222F391076ADD5567C9FC2EA9DB8E4E3BB068 | B100: 항공이동비(KA-32A) | D100: 식 | E100: 0 | G100: 0 | I100: 0 | K100: 0 | M100: 0 | O100: 0 | P100: 0 | Q100: 0 | R100: 0 | S100: 0 | T100: 0 | U100: 10000000 | V100: =SMALL(Q100:U100,COUNTIF(Q100:U100,0)+1) -> 10000000 | W100: 자재 80

Sheet 원가계산서
B1: 공 사 원 가 계 산 서
B2: 공사명 : 통영시 케이블카 상부역사 전망대 설치공사 | F2: 금액 : 오억이천일백오십육만오백원(￦521,560,500)
B3: 비 목 | E3: 금 액 | F3: 구 성 비 | G3: 비 고
A4: A1 | B4: 순 공 사 원 가 | C4: 재 료 비 | D4: 직 접 재 료 비 | E4: =TRUNC(공종별집계표!F5, 0) -> 114117131
A5: A2 | D5: 간 접 재 료 비 | E5: 0
A6: A3 | D6: 작업설, 부산물(△) | E6: 0
A7: AS | D7: [ 소 계 ] | E7: =TRUNC(E4+E5-E6, 0) -> 114117131
A8: B1 | C8: 노 무 비 | D8: 직 접 노 무 비 | E8: =TRUNC(공종별집계표!H5, 0) -> 178966846
A9: B2 | D9: 간 접 노 무 비 | E9: =TRUNC(E8*0.097, 0) -> 17359784 | F9: 직접노무비 * 9.7%
A10: BS | D10: [ 소 계 ] | E10: =TRUNC(E8+E9, 0) -> 196326630
A11: C2 | C11: 경 비 | D11: 기 계 경 비 | E11: =TRUNC(공종별집계표!J5, 0) -> 2616998
A12: C4 | D12: 산 재 보 험 료 | E12: =TRUNC(E10*0.039, 0) -> 7656738 | F12: 노무비 * 3.9%
A13: C5 | D13: 고 용 보 험 료 | E13: =TRUNC(E10*0.0087, 0) -> 1708041 | F13: 노무비 * 0.87%
A14: C6 | D14: 국민 건강 보험료 | E14: =TRUNC(E8*0.017, 0) -> 3042436 | F14: 직접노무비 * 1.7%
A15: C7 | D15: 국민 연금 보험료 | E15: =TRUNC(E8*0.0249, 0) -> 4456274 | F15: 직접노무비 * 2.49%
A16: CB | D16: 노인장기요양보험료 | E16: =TRUNC(E14*0.0655, 0) -> 199279 | F16: 건강보험료 * 6.55%
A17: C8 | D17: 퇴직 공제 부금비 | E17: =TRUNC(E8*0.023, 0) -> 4116237 | F17: 직접노무비 * 2.3%
A18: CA | D18: 산업안전보건관리비 | E18: =TRUNC((E7+E8)*0.0293, 0) -> 8587360 | F18: (재료비+직노+도급자관급/1.1) * 2.93%
A19: CG | D19: 기 타 경 비 | E19: =TRUNC((E7+E10)*0.048, 0) -> 14901300 | F19: (재료비+노무비) * 4.8%
A20: CH | D20: 환 경 보 전 비 | E20: =TRUNC((E7+E8+E11)*0.005, 0) -> 1478504 | F20: (재료비+직노+기계경비) * 0.5%
A21: CK | D21: 하도급지급보증수수료 | E21: =TRUNC((E7+E8+E11)*0.00081, 0) -> 239517 | F21: (재료비+직노+기계경비) * 0.081%
A22: CL | D22: 건설기계대여금지급보증서발급수수료 | E22: =TRUNC((E7+E8+E11)*0.0007, 0) -> 206990 | F22: (재료비+직노+기계경비) * 0.07%
A23: CS | D23: [ 소 계 ] | E23: =TRUNC(E11+E12+E13+E14+E15+E17+E18+E16+E19+E20+E21+E22, 0) -> 49209674
A24: S1 | B24: 계 | E24: =TRUNC(E7+E10+E23, 0) -> 359653435
A25: D1 | B25: 일 반 관 리 비 | E25: =TRUNC(E24*0.06, 0) -> 21579206 | F25: 계 * 6%
A26: D2 | B26: 이 윤 | E26: =TRUNC((E10+E23+E25)*0.12-4428, 0) -> 32049433 | F26: (노무비+경비+일반관리비) * 12%
A27: D7 | B27: 건설폐기물처리비 | E27: =TRUNC(공종별집계표!T14, 0) -> 1477926
A28: D9 | B28: 공 급 가 액 | E28: =TRUNC(INT((E24+E25+E26+E27)/10000)*10000, 0) -> 414760000
A29: DB | B29: 부 가 가 치 세 | E29: =TRUNC(E28*0.1, 0) -> 41476000 | F29: 공급가액 * 10%
A30: DH | B30: 도 급 액 | E30: =TRUNC(E28+E29, 0) -> 456236000
A31: DK | B31: 관급자설치관급대 | E31: =TRUNC(공종별집계표!T13, 0) -> 12687300
A32: DM | B32: 자재운반비(헬기) | E32: =TRUNC(공종별집계표!T15, 0) -> 52637200
A33: S2 | B33: 총 공 사 비 | E33: =TRUNC(E30+E31+E32, 0) -> 521560500

Sheet  공사설정 
A1: 이 Sheet는 수정하지 마십시요
A2: 공사구분 | B2: A
A3: 확정내역 | B3: 원내역
A4: 자재단가적용 | B4: 5
A5: 경비단가적용 | B5: 5
A6: 품목코드형식 | B6: XXXX-XXXX-XXXXXXXXX
A7: 내역금액소수점처리 | B7: C | C7: T
A8: 일위대가내역소수점처리 | B8: C | C8: 2
A9: 단가명 | B9: 가격정보 | C9: 거래가격 | D9: 유통물가 | E9: 물가자료 | F9: 조사가격2 | G9: TTTTT
A10: 환율 | B10: 1208 | C10: 0 | D10: 0
A11: 시간당작업량 | B11: R | C11: 4
A12: 1회 사이클시간 | B12: R | C12: 4
A13: 시간당 작업사이클 | B13: R | C13: 3
A14: 일반변수 | B14: C | C14: 5
A15: 시간당 노임산출 계수 | B15: A | C15: 1/8*16/12*25/20 | D15: 1/8*16/12*25/20 | E15: 1/8*16/12*25/20 | F15: 1
A16: 재료비 할증 계수 | B16: 1.11 | C16: 1.12
A17: 노무비 할증 계수 | B17: 1 | C17: 1.5 | D17: 1.16 | E17: 1.6 | F17: 1.6 | G17: 1.6 | H17: 1.94 | I17: 1.94 | J17: 1.94 | K17: 1 | L17: 1 | M17: 1
A18: 경비 할증 계수 | B18: 1.25 | C18: 1.071
A19: 내역,일위대가 품명,규격,단위 따로적용
A20: 내역단가 소수점처리 | B20: C | C20: 1
A21: 코드 | B21: 공종구분명 | C21: 원가비목코드
A22: 1 | B22: 작 업 부 산 물 | C22: A3
A23: 2 | B23: 운 반 비 | C23: C1
A24: 3 | B24: 도급자설치관급대 | C24: DJ
A25: 4 | B25: 관급자설치관급대 | C25: DK
A26: 5 | B26: 사 급 자 재 대 | C26: D3
A27: 6
A28: 7 | B28: 농도측정및감리비
A29: 8 | B29: 건설폐기물처리비 | C29: D7
A30: 9 | B30: 자재운반비(헬기) | C30: DM

Sheet Sheet1
