Workbook

Sheet 공종별집계표
A1: 공 종 별 집 계 표
A2: [ 케이블카정비고 증축공사 ]
A3: 품 명 | B3: 규 격 | C3: 단위 | D3: 수량 | E3: 재 료 비 | G3: 노 무 비 | I3: 경 비 | K3: 합 계 | M3: 비 고 | N3: 공종코드 | O3: 변수 | P3: 상위공종 | Q3: 공종구분 | R3: 공종레벨 | S3: 공종소계 | T3: 원가계산서 연결금액
E4: 단 가 | F4: 금 액 | G4: 단 가 | H4: 금 액 | I4: 단 가 | J4: 금 액 | K4: 단 가 | L4: 금 액
A5: 01 케이블카정비고 증축공사 | D5: 1 | E5: =F6 -> 0 | F5: =E5*D5 -> 0 | G5: =H6 -> 0 | H5: =G5*D5 -> 0 | I5: =J6 -> 0 | J5: =I5*D5 -> 0 | K5: =E5+G5+I5 -> 0 | L5: =F5+H5+J5 -> 0 | N5: 01 | R5: 1
A6: 0101 정비고 | D6: 1 | E6: =F7+F8+F9+F10+F11+F12+F13+F14+F15+F16+F17 -> 0 | F6: =E6*D6 -> 0 | G6: =H7+H8+H9+H10+H11+H12+H13+H14+H15+H16+H17 -> 0 | H6: =G6*D6 -> 0 | I6: =J7+J8+J9+J10+J11+J12+J13+J14+J15+J16+J17 -> 0 | J6: =I6*D6 -> 0 | K6: =E6+G6+I6 -> 0 | L6: =F6+H6+J6 -> 0 | N6: 0101 | P6: 01 | R6: 2
A7: 010101 가 설 공 사 | D7: 1 | E7: =공종별내역서!F27 -> 0 | F7: =E7*D7 -> 0 | G7: =공종별내역서!H27 -> 0 | H7: =G7*D7 -> 0 | I7: =공종별내역서!J27 -> 0 | J7: =I7*D7 -> 0 | K7: =E7+G7+I7 -> 0 | L7: =F7+H7+J7 -> 0 | N7: 010101 | P7: 0101 | R7: 3
A8: 010102 토 및 지정공사 | D8: 1 | E8: =공종별내역서!F51 -> 0 | F8: =E8*D8 -> 0 | G8: =공종별내역서!H51 -> 0 | H8: =G8*D8 -> 0 | I8: =공종별내역서!J51 -> 0 | J8: =I8*D8 -> 0 | K8: =E8+G8+I8 -> 0 | L8: =F8+H8+J8 -> 0 | N8: 010102 | P8: 0101 | R8: 3
A9: 010103 철근콘크리트공사 | D9: 1 | E9: =공종별내역서!F75 -> 0 | F9: =E9*D9 -> 0 | G9: =공종별내역서!H75 -> 0 | H9: =G9*D9 -> 0 | I9: =공종별내역서!J75 -> 0 | J9: =I9*D9 -> 0 | K9: =E9+G9+I9 -> 0 | L9: =F9+H9+J9 -> 0 | N9: 010103 | P9: 0101 | R9: 3
A10: 010104 철 골 공 사 | D10: 1 | E10: =공종별내역서!F123 -> 0 | F10: =E10*D10 -> 0 | G10: =공종별내역서!H123 -> 0 | H10: =G10*D10 -> 0 | I10: =공종별내역서!J123 -> 0 | J10: =I10*D10 -> 0 | K10: =E10+G10+I10 -> 0 | L10: =F10+H10+J10 -> 0 | N10: 010104 | P10: 0101 | R10: 3
A11: 010105 방 수 공 사 | D11: 1 | E11: =공종별내역서!F147 -> 0 | F11: =E11*D11 -> 0 | G11: =공종별내역서!H147 -> 0 | H11: =G11*D11 -> 0 | I11: =공종별내역서!J147 -> 0 | J11: =I11*D11 -> 0 | K11: =E11+G11+I11 -> 0 | L11: =F11+H11+J11 -> 0 | N11: 010105 | P11: 0101 | R11: 3
A12: 010106 지붕 및 홈통공사 | D12: 1 | E12: =공종별내역서!F171 -> 0 | F12: =E12*D12 -> 0 | G12: =공종별내역서!H171 -> 0 | H12: =G12*D12 -> 0 | I12: =공종별내역서!J171 -> 0 | J12: =I12*D12 -> 0 | K12: =E12+G12+I12 -> 0 | L12: =F12+H12+J12 -> 0 | N12: 010106 | P12: 0101 | R12: 3
A13: 010107 금 속 공 사 | D13: 1 | E13: =공종별내역서!F195 -> 0 | F13: =E13*D13 -> 0 | G13: =공종별내역서!H195 -> 0 | H13: =G13*D13 -> 0 | I13: =공종별내역서!J195 -> 0 | J13: =I13*D13 -> 0 | K13: =E13+G13+I13 -> 0 | L13: =F13+H13+J13 -> 0 | N13: 010107 | P13: 0101 | R13: 3
A14: 010108 미 장 공 사 | D14: 1 | E14: =공종별내역서!F219 -> 0 | F14: =E14*D14 -> 0 | G14: =공종별내역서!H219 -> 0 | H14: =G14*D14 -> 0 | I14: =공종별내역서!J219 -> 0 | J14: =I14*D14 -> 0 | K14: =E14+G14+I14 -> 0 | L14: =F14+H14+J14 -> 0 | N14: 010108 | P14: 0101 | R14: 3
A15: 010109 창호 및 유리공사 | D15: 1 | E15: =공종별내역서!F243 -> 0 | F15: =E15*D15 -> 0 | G15: =공종별내역서!H243 -> 0 | H15: =G15*D15 -> 0 | I15: =공종별내역서!J243 -> 0 | J15: =I15*D15 -> 0 | K15: =E15+G15+I15 -> 0 | L15: =F15+H15+J15 -> 0 | N15: 010109 | P15: 0101 | R15: 3
A16: 010110 칠 공 사 | D16: 1 | E16: =공종별내역서!F267 -> 0 | F16: =E16*D16 -> 0 | G16: =공종별내역서!H267 -> 0 | H16: =G16*D16 -> 0 | I16: =공종별내역서!J267 -> 0 | J16: =I16*D16 -> 0 | K16: =E16+G16+I16 -> 0 | L16: =F16+H16+J16 -> 0 | N16: 010110 | P16: 0101 | R16: 3
A17: 010111 철 거 공 사 | D17: 1 | E17: =공종별내역서!F291 -> 0 | F17: =E17*D17 -> 0 | G17: =공종별내역서!H291 -> 0 | H17: =G17*D17 -> 0 | I17: =공종별내역서!J291 -> 0 | J17: =I17*D17 -> 0 | K17: =E17+G17+I17 -> 0 | L17: =F17+H17+J17 -> 0 | N17: 010111 | P17: 0101 | R17: 3
A18: 010112 건설폐기물처리비 | D18: 1 | E18: =공종별내역서!F315 -> 0 | F18: =E18*D18 -> 0 | G18: =공종별내역서!H315 -> 0 | H18: =G18*D18 -> 0 | I18: =공종별내역서!J315 -> 0 | J18: =I18*D18 -> 0 | K18: =E18+G18+I18 -> 0 | L18: =F18+H18+J18 -> 0 | N18: 010112 | Q18: 9 | R18: 3 | T18: =L18*1 -> 0
F19: =E19*D19 -> 0 | G19: =공종별내역서!H339 -> 0 | H19: =G19*D19 -> 0 | I19: =공종별내역서!J339 -> 0 | J19: =I19*D19 -> 0 | K19: =E19+G19+I19 -> 0 | L19: =F19+H19+J19 -> 0 | N19: 010113 | Q19: 3 | R19: 3 | T19: =L19*1 -> 0
A27: [ 합 계 ] | F27: =F5 -> 0 | H27: =H5 -> 0 | J27: =J5 -> 0 | L27: =L5 -> 0

Sheet 공종별내역서
A1: [ 케이블카정비고 증축공사 ]
A2: 품 명 | B2: 규 격 | C2: 단위 | D2: 수량 | E2: 재 료 비 | G2: 노 무 비 | I2: 경 비 | K2: 합 계 | M2: 비 고 | N2: 품목코드 | O2: 변수 | P2: 설정 | Q2: 공종코드 | R2: 일위 | S2: 단산 | T2: 자재 | U2: 손료적용 | V2: 손료저장 | W2: 적용율 | X2: JUK1 | Y2: JUK2 | Z2: JUK3 | AA2: JUK4 | AB2: JUK5 | AC2: JUK6 | AD2: JUK7 | AE2: JUK8 | AF2: JUK9 | AG2: JUK10 | AH2: JUK11 | AI2: JUK12 | AJ2: JUK13 | AK2: JUK14 | AL2: JUK15 | AM2: JUK16 | AN2: JUK17 | AO2: JUK18 | AP2: JUK19 | AQ2: JUK20 | AR2: 자재구분 | AS2: 공종구분 | AT2: 공종레벨 | AU2: 공종+자재 | AV2: 고유번호
E3: 단 가 | F3: 금 액 | G3: 단 가 | H3: 금 액 | I3: 단 가 | J3: 금 액 | K3: 단 가 | L3: 금 액
A4: 010101 가 설 공 사 | Q4: 010101
A5: 강관비계매기/쌍줄 10m이하. | B5: 3개월(발판 유) | C5: ㎡ | D5: 299.2 | N5: 57B3C14B6F8B5C707F8E7C49379E4A | Q5: 010101 | R5: T | S5: F | T5: F | AU5: 01010157B3C14B6F8B5C707F8E7C49379E4A | AV5: 4
A6: 수평규준틀 | B6: 평 | C6: 개소 | D6: 6 | N6: 57B3C14B6F8B5C71028DDCDE8798D9 | Q6: 010101 | R6: T | S6: F | T6: F | AU6: 01010157B3C14B6F8B5C71028DDCDE8798D9 | AV6: 5
A7: 수평규준틀 | B7: 귀 | C7: 개소 | D7: 2 | N7: 57B3C14B6F8B5C71028DDCE8FE92E9 | Q7: 010101 | R7: T | S7: F | T7: F | AU7: 01010157B3C14B6F8B5C71028DDCE8FE92E9 | AV7: 6
A8: 조립식강관동바리(시스템동바리-자재포함) | B8: 10.0m 이하,3개월 | C8: 10공㎥ | D8: 89 | N8: 57B3C14B6F8B5FC7C88F84ECFC9E86 | Q8: 010101 | R8: T | S8: F | T8: F | AU8: 01010157B3C14B6F8B5FC7C88F84ECFC9E86 | AV8: 94
A9: 건축물현장정리 | B9: 철근콘크리트조 | C9: M2 | D9: 123.8 | N9: 57B3C14B3282B87100833A79CF94D1 | Q9: 010101 | R9: T | S9: F | T9: F | AU9: 01010157B3C14B3282B87100833A79CF94D1 | AV9: 8
A10: 먹메김. | B10: 일반 | C10: M2 | D10: 123.8 | N10: 57B3C14B328197F1488E8797CF9B83 | Q10: 010101 | R10: T | S10: F | T10: F | AU10: 01010157B3C14B328197F1488E8797CF9B83 | AV10: 9
A27: [ 합 계 ] | F27: =SUM(F5:F26) -> 0 | H27: =SUM(H5:H26) -> 0 | J27: =SUM(J5:J26) -> 0 | L27: =SUM(L5:L26) -> 0 | N27: TOTAL
A28: 010102 토 및 지정공사 | Q28: 010102
A29: 터파기(기계) | B29: 보통토사, 백호0.7m3 | C29: M3 | D29: 81.8 | N29: 57B3F14E938699847E8AAF1045971F | Q29: 010102 | R29: T | S29: F | T29: F | AU29: 01010257B3F14E938699847E8AAF1045971F | AV29: 11
A30: 되메우고 다지기(백호+래머) | B30: 토사, T=15cm | C30: M3 | D30: 43.5 | N30: 57B3F14EF481124EEA8479BC759CD4 | Q30: 010102 | R30: T | S30: F | T30: F | AU30: 01010257B3F14EF481124EEA8479BC759CD4 | AV30: 12
A31: 혼합깔기지정 | B31: 백호0.7M3+래머80kg | C31: ㎥ | D31: 20.6 | N31: 57B3E148518161824D87CD16929715 | Q31: 010102 | R31: T | S31: F | T31: F | AU31: 01010257B3E148518161824D87CD16929715 | AV31: 13
A32: 방습필름 - 바닥 | B32: 폴리에틸렌필름, 두께, 0.05mm, 2겹 | C32: M2 | D32: 104.4 | N32: 57B3214B72863878A48687107493E7 | Q32: 010102 | R32: T | S32: F | T32: F | AU32: 01010257B3214B72863878A48687107493E7 | AV32: 14
A33: 잔토처리 10km | B33: 보통, 덤프 15톤+백호0.7 | C33: M3 | D33: 38.4 | N33: 579F4140D08B065B008995B3DA9C59 | Q33: 010102 | R33: F | S33: T | T33: F | AU33: 010102579F4140D08B065B008995B3DA9C59 | AV33: 15
A51: [ 합 계 ] | F51: =SUM(F29:F50) -> 0 | H51: =SUM(H29:H50) -> 0 | J51: =SUM(J29:J50) -> 0 | L51: =SUM(L29:L50) -> 0 | N51: TOTAL
A52: 010103 철근콘크리트공사 | Q52: 010103
A53: 철근콘크리트용봉강/관급 | B53: 이형봉강(SD400), HD-10, 하치장상차도 | C53: TON | D53: 4.1 | M53: 관급자재 | N53: 5098C1444D8BA05648813888EC9C78964FBA23 | R53: F | S53: F | T53: T | AR53: 관급자재 | AU53: 0101035098C1444D8BA05648813888EC9C78964FBA23 | AV53: 18
A54: 철근콘크리트용봉강/관급 | B54: 이형봉강(SD400), HD-13, 하치장상차도 | C54: TON | D54: 7.6 | M54: 관급자재 | N54: 5098C1444D8BA05648813888EC9C78964FBA24 | R54: F | S54: F | T54: T | AR54: 관급자재 | AU54: 0101035098C1444D8BA05648813888EC9C78964FBA24 | AV54: 19
A55: 철근콘크리트용봉강/관급 | B55: 이형봉강(SD400), HD-19, 하치장상차도 | C55: TON | D55: 0.5 | M55: 관급자재 | N55: 5098C1444D8BA05648813888EC9C78964FBA26 | R55: F | S55: F | T55: T | AR55: 관급자재 | AU55: 0101035098C1444D8BA05648813888EC9C78964FBA26 | AV55: 20
A56: 철근콘크리트용봉강/관급 | B56: 이형봉강(SD400), HD-22, 하치장상차도 | C56: TON | D56: 9.6 | M56: 관급자재 | N56: 5098C1444D8BA05648813888EC9C78964FBA27 | R56: F | S56: F | T56: T | AR56: 관급자재 | AU56: 0101035098C1444D8BA05648813888EC9C78964FBA27 | AV56: 21
A57: 레미콘/관급 | B57: 레미콘, 경남지역(거제, 통영권), 25-18-08 | C57: M3 | D57: 38.4 | M57: 관급자재 | N57: 5098C1444D8A9A00528C2112C694A071819E6F | R57: F | S57: F | T57: T | AR57: 관급자재 | AU57: 0101035098C1444D8A9A00528C2112C694A071819E6F | AV57: 22
A58: 레미콘/관급 | B58: 레미콘, 경남지역(거제, 통영권), 25-24-15 | C58: M3 | D58: 131.7 | M58: 관급자재 | N58: 5098C1444D8A9A00528C2112C694A071819F05 | R58: F | S58: F | T58: T | AR58: 관급자재 | AU58: 0101035098C1444D8A9A00528C2112C694A071819F05 | AV58: 23
A59: 합판 거푸집 설치 및 해체 | B59: 1회 사용시, 0~7m까지 | C59: M2 | D59: 231.6 | N59: 57B391403188F7066C81067317981F | Q59: 010103 | R59: T | S59: F | T59: F | AU59: 01010357B391403188F7066C81067317981F | AV59: 24
A60: 합판 거푸집 설치 및 해체 | B60: 4회 사용시, 0~7m까지 | C60: M2 | D60: 181.4 | N60: 57B391403188F7066C81062B0C9428 | Q60: 010103 | R60: T | S60: F | T60: F | AU60: 01010357B391403188F7066C81062B0C9428 | AV60: 25
A61: 유로폼 설치 및 해체 | B61: 벽, 0~7m까지 | C61: M2 | D61: 442.7 | N61: 57B39140318D77925A8CE14730922C | Q61: 010103 | R61: T | S61: F | T61: F | AU61: 01010357B39140318D77925A8CE14730922C | AV61: 26
A62: 현장 철근 가공 및 조립 | B62: 보통(미할증) | C62: TON | D62: 21.2 | N62: 57B39140048416FAF28F51BEFB9985 | Q62: 010103 | R62: T | S62: F | T62: F | AU62: 01010357B39140048416FAF28F51BEFB9985 | AV62: 27
A63: 기존구조체연결 보강 HD10 | B63: HY-150 | C63: 개소 | D63: 176 | N63: 57B391400480BB49B68EF80B779B29 | Q63: 010103 | R63: T | S63: F | T63: F | AU63: 01010357B391400480BB49B68EF80B779B29 | AV63: 108
A64: 기존구조체연결 보강 HD13 | B64: HY-150 | C64: 개소 | D64: 130 | N64: 57B391400480BB49B68EF80B779852 | Q64: 010103 | R64: T | S64: F | T64: F | AU64: 01010357B391400480BB49B68EF80B779852 | AV64: 109
A65: 기존구조체연결 보강 HD22 | B65: HY-150 | C65: 개소 | D65: 80 | N65: 57B391400480BB49B68EF80B779F82 | Q65: 010103 | R65: T | S65: F | T65: F | AU65: 01010357B391400480BB49B68EF80B779F82 | AV65: 110
A66: 무근콘크리트 타설 / 펌프차(43m) | B66: 슬럼프=8∼12, 1일 타설량=50m3 미만, 붐타설 | C66: M3 | D66: 37.7 | N66: 57B39140438EF832198D21D98B90DC | Q66: 010103 | R66: T | S66: F | T66: F | AU66: 01010357B39140438EF832198D21D98B90DC | AV66: 28
A67: 철근콘크리트 타설 / 펌프차(43m) | B67: 슬럼프=15, 1일 타설량=300m3 이상, 붐타설 | C67: M3 | D67: 130.4 | N67: 57B39140438DD125E78769895195B7 | Q67: 010103 | R67: T | S67: F | T67: F | AU67: 01010357B39140438DD125E78769895195B7 | AV67: 29
A68: 소 계 | N68: 5607D145E28B53EB9F8FDC709B9A | R68: F | S68: F | T68: F | AU68: 0101035607D145E28B53EB9F8FDC709B9A | AV68: 95
A69: 철강설 | B69: 철강설, 고철, 작업설부산물 | C69: TON | D69: -0.6 | M69: 수집상차도 | N69: 50BBB1466787A4B63E8BC50C01917B2F9416B1 | Q69: 010103 | R69: F | S69: F | T69: T | AU69: 01010350BBB1466787A4B63E8BC50C01917B2F9416B1 | AV69: 17
A75: [ 합 계 ] | F75: =SUM(F53:F74) -F53-F54-F55-F56-F57-F58-F68 -> 0 | H75: =SUM(H53:H74) -H53-H54-H55-H56-H57-H58-H68 -> 0 | J75: =SUM(J53:J74) -J53-J54-J55-J56-J57-J58-J68 -> 0 | L75: =SUM(L53:L74) -L53-L54-L55-L56-L57-L58-L68 -> 0 | N75: TOTAL
A76: 010104 철 골 공 사 | Q76: 010104
A77: H빔 | B77: H빔, SS400, 200*200*8.0*12.0mm | C77: TON | D77: 1 | N77: 5098C1444D8BA05750816B653E99F36C6070F6 | Q77: 010104 | R77: F | S77: F | T77: T | AU77: 0101045098C1444D8BA05750816B653E99F36C6070F6 | AV77: 31
A78: H빔 | B78: H빔, SS400, 300*150*6.5*9.0mm | C78: TON | D78: 1.9 | N78: 5098C1444D8BA05750816B653E99F36C63CDEE | Q78: 010104 | R78: F | S78: F | T78: T | AU78: 0101045098C1444D8BA05750816B653E99F36C63CDEE | AV78: 32
A79: H빔 | B79: H빔, SS400, 400*200*8.0*13.0mm | C79: TON | D79: 0.7 | N79: 5098C1444D8BA05750816B653E99F36C63CF9A | Q79: 010104 | R79: F | S79: F | T79: T | AU79: 0101045098C1444D8BA05750816B653E99F36C63CF9A | AV79: 119
A80: H빔 | B80: H빔, SS400, 450*200*9.0*14.0mm | C80: TON | D80: 2 | N80: 5098C1444D8BA05750816B653E99F36C63CF9D | Q80: 010104 | R80: F | S80: F | T80: T | AU80: 0101045098C1444D8BA05750816B653E99F36C63CF9D | AV80: 120
A81: 경량형강 | B81: 경량형강, 블랙C형강, 200*75*20, t4.5 | C81: TON | D81: 0.3 | N81: 5098C1444D8BA05750816B54D99CF22D36C9EF | Q81: 010104 | R81: F | S81: F | T81: T | AU81: 0101045098C1444D8BA05750816B54D99CF22D36C9EF | AV81: 33
A82: 무늬강판 | B82: 무늬강판, 3.2mm | C82: kg | D82: 467.8 | N82: 5098C1444D8BA3264D8744A69F92B6B14F7EC6 | Q82: 010104 | R82: F | S82: F | T82: T | AU82: 0101045098C1444D8BA3264D8744A69F92B6B14F7EC6 | AV82: 34
A83: 일반구조용압연강판 | B83: 일반구조용압연강판, 6.0mm | C83: TON | D83: 0.05 | N83: 5098C1444D8BA3264D8744A69F92B6B0BD950E | Q83: 010104 | R83: F | S83: F | T83: T | AU83: 0101045098C1444D8BA3264D8744A69F92B6B0BD950E | AV83: 35
A84: 일반구조용압연강판 | B84: 일반구조용압연강판, 12mm | C84: TON | D84: 0.1 | N84: 5098C1444D8BA3264D8744A69F92B6B0BD950C | Q84: 010104 | R84: F | S84: F | T84: T | AU84: 0101045098C1444D8BA3264D8744A69F92B6B0BD950C | AV84: 36
A85: 일반구조용압연강판 | B85: 일반구조용압연강판, 7.0mm | C85: TON | D85: 0.02 | N85: 5098C1444D8BA3264D8744A68E914EE2BB140E | Q85: 010104 | R85: F | S85: F | T85: T | AU85: 0101045098C1444D8BA3264D8744A68E914EE2BB140E | AV85: 37
A86: 일반구조용압연강판 | B86: 일반구조용압연강판, 9.0mm | C86: TON | D86: 0.2 | N86: 5098C1444D8BA3264D8744A68E914EE2BB152D | Q86: 010104 | R86: F | S86: F | T86: T | AU86: 0101045098C1444D8BA3264D8744A68E914EE2BB152D | AV86: 38
A87: 일반구조용압연강판 | B87: 일반구조용압연강판, 24mm | C87: TON | D87: 0.2 | N87: 5098C1444D8BA3264D8744A68E914EE2BB1524 | Q87: 010104 | R87: F | S87: F | T87: T | AU87: 0101045098C1444D8BA3264D8744A68E914EE2BB1524 | AV87: 39
A88: 메탈라스 | B88: 익스팬디드메탈, 35.9*101.6*6*7, 18.30KG | C88: M2 | D88: 19.5 | N88: 5098C1444D8A9A0D23842773409E72731F0411 | Q88: 010104 | R88: F | S88: F | T88: T | AU88: 0101045098C1444D8A9A0D23842773409E72731F0411 | AV88: 40
... A107: 데크플레이트설치 | B107: 10층이하(자재별도) | C107: M2 | D107: 46 | N107: 57B38141A18034CABE8E05F89F927B | Q107: 010104 | R107: T | S107: F | T107: F | AU107: 01010457B38141A18034CABE8E05F89F927B | AV107: 54
A123: [ 합 계 ] | F123: =SUM(F77:F122) -> 0 | H123: =SUM(H77:H122) -> 0 | J123: =SUM(J77:J122) -> 0 | L123: =SUM(L77:L122) -> 0 | N123: TOTAL
A124: 010105 방 수 공 사 | Q124: 010105
A125: 우레탄방수 - 바탕, 프라이머 포함 | B125: 바닥 3mm, 노출 | C125: M2 | D125: 124 | N125: 57B3514E4D8C6353018E946B8C9ADD | Q125: 010105 | R125: T | S125: F | T125: F | AU125: 01010557B3514E4D8C6353018E946B8C9ADD | AV125: 56
A126: 우레탄방수 - 바탕, 프라이머 포함 | B126: 수직 3mm, 노출 | C126: M2 | D126: 9 | N126: 57B3514E4D8C609F5A8F796A729758 | Q126: 010105 | R126: T | S126: F | T126: F | AU126: 01010557B3514E4D8C609F5A8F796A729758 | AV126: 57
A147: [ 합 계 ] | F147: =SUM(F125:F146) -> 0 | H147: =SUM(H125:H146) -> 0 | J147: =SUM(J125:J146) -> 0 | L147: =SUM(L125:L146) -> 0 | N147: TOTAL
A148: 010106 지붕 및 홈통공사 | Q148: 010106
A149: 선홈통(염화비닐) 설치 | B149: 100mm, VG2 | C149: M | D149: 1 | N149: 57B3614CC38CD20D0180D11BAF9803 | Q149: 010106 | R149: T | S149: F | T149: F | AU149: 01010657B3614CC38CD20D0180D11BAF9803 | AV149: 59
A150: 선홈통(강관) 설치 | B150: 101.6mm, 스테인리스관 | C150: M | D150: 35 | N150: 57B3614CC38CD20D0180C09A07939A | Q150: 010106 | R150: T | S150: F | T150: F | AU150: 01010657B3614CC38CD20D0180C09A07939A | AV150: 60
A151: 스텐판처마홈통설치 | B151: 200*200*1.2t | C151: M | D151: 10.4 | N151: 57B3614CC3891CDA9286F634ED9620 | Q151: 010106 | R151: T | S151: F | T151: F | AU151: 01010657B3614CC3891CDA9286F634ED9620 | AV151: 61
A152: 스텐상자홈통설치 | B152: 200*200*250*1.5t | C152: EA | D152: 4 | N152: 57B3614CC3891CDBBA81F91AB3937F | Q152: 010106 | R152: T | S152: F | T152: F | AU152: 01010657B3614CC3891CDBBA81F91AB3937F | AV152: 62
A153: 루프드레인(L형)설치 | B153: D100mm | C153: 개소 | D153: 4 | N153: 57B3614CDC863A2AD7889885249383 | Q153: 010106 | R153: T | S153: F | T153: F | AU153: 01010657B3614CDC863A2AD7889885249383 | AV153: 63
A171: [ 합 계 ] | F171: =SUM(F149:F170) -> 0 | H171: =SUM(H149:H170) -> 0 | J171: =SUM(J149:J170) -> 0 | L171: =SUM(L149:L170) -> 0 | N171: TOTAL
A172: 010107 금 속 공 사 | Q172: 010107
A173: 스틸핸드레일 | B173: PL 3T, H:1,200 | C173: M | D173: 17.2 | N173: 57B371436A8E8111A98EB0BA0A93CD | Q173: 010107 | R173: T | S173: F | T173: F | AU173: 01010757B371436A8E8111A98EB0BA0A93CD | AV173: 65
A174: 스테인리스핸드레일 | B174: D50.8+25.4*1.5t, H:900 | C174: M | D174: 3.8 | N174: 57B371436A8E811355899B867597DD | Q174: 010107 | R174: T | S174: F | T174: F | AU174: 01010757B371436A8E811355899B867597DD | AV174: 66
A175: 스테인리스핸드레일 | B175: D100+25.4*1.5t, H:900 | C175: M | D175: 44.8 | N175: 57B371436A8E811355899B867597DC | Q175: 010107 | R175: T | S175: F | T175: F | AU175: 01010757B371436A8E811355899B867597DC | AV175: 67
A195: [ 합 계 ] | F195: =SUM(F173:F194) -> 0 | H195: =SUM(H173:H194) -> 0 | J195: =SUM(J173:J194) -> 0 | L195: =SUM(L173:L194) -> 0 | N195: TOTAL
A196: 010108 미 장 공 사 | Q196: 010108
A197: 모르타르 바름 | B197: 내벽, 15mm, 3.6m 이하 | C197: M2 | D197: 5 | N197: 57B3A1468C84BEC4F584A11A5A9193 | Q197: 010108 | R197: T | S197: F | T197: F | AU197: 01010857B3A1468C84BEC4F584A11A5A9193 | AV197: 111
A198: 콘크리트면 정리 | B198: 조면처리 | C198: M2 | D198: 13.3 | N198: 57B3A1468C87728DB18424FCD39688 | Q198: 010108 | R198: T | S198: F | T198: F | AU198: 01010857B3A1468C87728DB18424FCD39688 | AV198: 112
A199: 마감 미장 | C199: M2 | D199: 472.4 | N199: 57B3A1468C8770C0C4879E075692B2 | Q199: 010108 | R199: T | S199: F | T199: F | AU199: 01010857B3A1468C8770C0C4879E075692B2 | AV199: 69
A200: 기계 미장 | C200: M2 | D200: 313 | N200: 57B3A1468C8770C0C4879E075692B3 | Q200: 010108 | R200: T | S200: F | T200: F | AU200: 01010857B3A1468C8770C0C4879E075692B3 | AV200: 70
A201: 콘크리트 보수, 보강 | B201: 신, 구콘크리트 접착제 도포, 라파본드/PB 1회 | C201: M2 | D201: 18 | N201: 57B33149BA8B9923038C169AC49420 | Q201: 010108 | R201: T | S201: F | T201: F | AU201: 01010857B33149BA8B9923038C169AC49420 | AV201: 113
A219: [ 합 계 ] | F219: =SUM(F197:F218) -> 0 | H219: =SUM(H197:H218) -> 0 | J219: =SUM(J197:J218) -> 0 | L219: =SUM(L197:L218) -> 0 | N219: TOTAL
A220: 010109 창호 및 유리공사 | Q220: 010109
A221: AL 방충망(미서기). | B221: 불소수지 | C221: M2 | D221: 10.1 | N221: 5098C1444D8C49823F8FB98453951A4D318711 | Q221: 010109 | R221: F | S221: F | T221: T | AU221: 0101095098C1444D8C49823F8FB98453951A4D318711 | AV221: 72
A222: 복층유리 | B222: 복층유리, 칼라, 16mm | C222: M2 | D222: 29.5 | N222: 5098C1444D8C4980068DE1D22D998884091F91 | Q222: 010109 | R222: F | S222: F | T222: T | AU222: 0101095098C1444D8C4980068DE1D22D998884091F91 | AV222: 73
A223: 수밀코킹(실리콘) | B223: 삼각, 10mm, 창호주위 | C223: M | D223: 156 | N223: 57B3514E108B9A2EEA81F8F1169A8D | Q223: 010109 | R223: T | S223: F | T223: F | AU223: 01010957B3514E108B9A2EEA81F8F1169A8D | AV223: 74
A224: AW01[정비고] | B224: 1.500 x 1.500 = 2.250 | C224: EA | D224: 9 | N224: 57B31144DF88F4F52D8769190398CE | Q224: 010109 | R224: T | S224: F | T224: F | AU224: 01010957B31144DF88F4F52D8769190398CE | AV224: 75
A225: AW02[정비고] | B225: 1.500 x 1.500 = 2.250 | C225: EA | D225: 4 | N225: 57B31144DF88F4F52D8769190398CC | Q225: 010109 | R225: T | S225: F | T225: F | AU225: 01010957B31144DF88F4F52D8769190398CC | AV225: 76
A226: HD01[정비고] | B226: 5.100 x 3.550 = 18.105 | C226: EA | D226: 1 | N226: 57B31144DF88F4F52D8769190398CA | Q226: 010109 | R226: T | S226: F | T226: F | AU226: 01010957B31144DF88F4F52D8769190398CA | AV226: 77
A227: HD02[정비고] | B227: 2.200 x 2.550 = 5.610 | C227: EA | D227: 1 | N227: 57B31144DF88F4F52D8769190398C8 | Q227: 010109 | R227: T | S227: F | T227: F | AU227: 01010957B31144DF88F4F52D8769190398C8 | AV227: 78
A228: 창문틀 주위 충전 | B228: 모르타르 충전 | C228: M | D228: 78 | N228: 57B31144A280FBDB2B8C79B4F194A7 | Q228: 010109 | R228: T | S228: F | T228: F | AU228: 01010957B31144A280FBDB2B8C79B4F194A7 | AV228: 79
A229: 유리끼우기 - 복층유리, 일반창호 | B229: 16mm(5+6A+5) | C229: M2 | D229: 29.3 | N229: 57B31144498B2AD3B6823F778C9A81 | Q229: 010109 | R229: T | S229: F | T229: F | AU229: 01010957B31144498B2AD3B6823F778C9A81 | AV229: 80
A230: 복층유리주위코킹 | B230: 5*5, 실리콘 | C230: M | D230: 234 | N230: 57B311444982C4ECDA815B1DC49AB9 | Q230: 010109 | R230: T | S230: F | T230: F | AU230: 01010957B311444982C4ECDA815B1DC49AB9 | AV230: 81
A243: [ 합 계 ] | F243: =SUM(F221:F242) -> 0 | H243: =SUM(H221:H242) -> 0 | J243: =SUM(J221:J242) -> 0 | L243: =SUM(L221:L242) -> 0 | N243: TOTAL
A244: 010110 칠 공 사 | Q244: 010110
A245: 녹막이페인트(붓칠) | B245: 철재면, 1회, 1종 | C245: M2 | D245: 181.5 | N245: 57B33149BA8B981D39838353979031 | Q245: 010110 | R245: T | S245: F | T245: F | AU245: 01011057B33149BA8B981D39838353979031 | AV245: 83
A246: 유성페인트(붓칠) | B246: 철재면, 2회. 1급 | C246: M2 | D246: 181.5 | N246: 57B331498D8613D9E683E4C6B99A56 | Q246: 010110 | R246: T | S246: F | T246: F | AU246: 01011057B331498D8613D9E683E4C6B99A56 | AV246: 84
A247: 바탕만들기+수성페인트(롤러칠) | B247: 외부, 2회, 1급, 콘크리트·모르타르면 | C247: M2 | D247: 11.2 | N247: 57B331499F8FE9CA6E840863859ABA | Q247: 010110 | R247: T | S247: F | T247: F | AU247: 01011057B331499F8FE9CA6E840863859ABA | AV247: 85
A248: 바탕만들기+수성페인트(롤러칠) | B248: 내부, 3회, 콘크리트·모르타르면, 친환경페인트(진품) | C248: M2 | D248: 477.3 | N248: 57B331499F8FE9CA6B8F64A1E29AC0 | Q248: 010110 | R248: T | S248: F | T248: F | AU248: 01011057B331499F8FE9CA6B8F64A1E29AC0 | AV248: 86
A249: 바탕만들기+에폭시 코팅 | B249: 바닥, 롤러칠 | C249: M2 | D249: 169.6 | N249: 57B331490881419B668EE3861C9C5E | Q249: 010110 | R249: T | S249: F | T249: F | AU249: 01011057B331490881419B668EE3861C9C5E | AV249: 87
A267: [ 합 계 ] | F267: =SUM(F245:F266) -> 0 | H267: =SUM(H245:H266) -> 0 | J267: =SUM(J245:J266) -> 0 | L267: =SUM(L245:L266) -> 0 | N267: TOTAL
A268: 010111 철 거 공 사 | Q268: 010111
A269: 기존접합부컷팅 | B269: 실리콘마감 | C269: m | D269: 107.4 | N269: 57B3714396824718D68DE72F7C9986 | Q269: 010111 | R269: T | S269: F | T269: F | AU269: 01011157B3714396824718D68DE72F7C9986 | AV269: 114
A270: 소형장비 사용 | B270: 무근구조물 | C270: M3 | D270: 4.5 | N270: 57B2C14CA985592157852653599FC7 | Q270: 010111 | R270: T | S270: F | T270: F | AU270: 01011157B2C14CA985592157852653599FC7 | AV270: 89
A271: 소형장비 사용 | B271: 철근구조물 | C271: M3 | D271: 2.5 | N271: 57B2C14CA985592157852653599C73 | Q271: 010111 | R271: T | S271: F | T271: F | AU271: 01011157B2C14CA985592157852653599C73 | AV271: 116
A272: 창호철거(소운반품포함) | B272: 알루미늄 | C272: m2 | D272: 2.25 | N272: 57B2C14CA98559215684A6E39099DB | Q272: 010111 | R272: T | S272: F | T272: F | AU272: 01011157B2C14CA98559215684A6E39099DB | AV272: 117
A273: 핸드레일철거(소운반품포함) | B273: 철재 등 | C273: m | D273: 12.8 | N273: 57B2C14CA98559215684A6E39090FC | Q273: 010111 | R273: T | S273: F | T273: F | AU273: 01011157B2C14CA98559215684A6E39090FC | AV273: 115
...

Sheet Sheet1
