Workbook

Sheet 공종별집계표
A1: 공 종 별 집 계 표
A2: [ 케이블카정비고 증축공사 ]
A3: 품 명 | B3: 규 격 | C3: 단위 | D3: 수량 | E3: 재 료 비 | G3: 노 무 비 | I3: 경 비 | K3: 합 계 | M3: 비 고 | N3: 공종코드 | O3: 변수 | P3: 상위공종 | Q3: 공종구분 | R3: 공종레벨 | S3: 공종소계 | T3: 원가계산서 연결금액
E4: 단 가 | F4: 금 액 | G4: 단 가 | H4: 금 액 | I4: 단 가 | J4: 금 액 | K4: 단 가 | L4: 금 액
A5: 01 케이블카정비고 증축공사 | D5: 1 | E5: =F6 -> 0 | F5: =E5*D5 -> 0 | G5: =H6 -> 0 | H5: =G5*D5 -> 0 | I5: =J6 -> 0 | J5: =I5*D5 -> 0 | K5: =E5+G5+I5 -> 0 | L5: =F5+H5+J5 -> 0 | N5: 01 | R5: 1
A6: 0101 정비고 | D6: 1 | E6: =F7+F8+F9+F10+F11+F12+F13+F14+F15+F16+F17 -> 0 | F6: =E6*D6 -> 0 | G6: =H7+H8+H9+H10+H11+H12+H13+H14+H15+H16+H17 -> 0 | H6: =G6*D6 -> 0 | I6: =J7+J8+J9+J10+J11+J12+J13+J14+J15+J16+J17 -> 0 | J6: =I6*D6 -> 0 | K6: =E6+G6+I6 -> 0 | L6: =F6+H6+J6 -> 0 | N6: 0101 | P6: 01 | R6: 2
A7: 010101 가 설 공 사 | D7: 1 | E7: =공종별내역서!F27 -> 0 | F7: =E7*D7 -> 0 | G7: =공종별내역서!H27 -> 0 | H7: =G7*D7 -> 0 | I7: =공종별내역서!J27 -> 0 | J7: =I7*D7 -> 0 | K7: =E7+G7+I7 -> 0 | L7: =F7+H7+J7 -> 0 | N7: 010101 | P7: 0101 | R7: 3
A8: 010102 토 및 지정공사 | D8: 1 | E8: =공종별내역서!F51 -> 0 | F8: =E8*D8 -> 0 | G8: =공종별내역서!H51 -> 0 | H8: =G8*D8 -> 0 | I8: =공종별내역서!J51 -> 0 | J8: =I8*D8 -> 0 | K8: =E8+G8+I8 -> 0 | L8: =F8+H8+J8 -> 0 | N8: 010102 | P8: 0101 | R8: 3
A9: 010103 철근콘크리트공사 | D9: 1 | E9: =공종별내역서!F75 -> 0 | F9: =E9*D9 -> 0 | G9: =공종별내역서!H75 -> 0 | H9: =G9*D9 -> 0 | I9: =공종별내역서!J75 -> 0 | J9: =I9*D9 -> 0 | K9: =E9+G9+I9 -> 0 | L9: =F9+H9+J9 -> 0 | N9: 010103 | P9: 0101 | R9: 3
A10: 010104 철 골 공 사 | D10: 1 | E10: =공종별내역서!F123 -> 0 | F10: =E10*D10 -> 0 | G10: =공종별내역서!H123 -> 0 | H10: =G10*D10 -> 0 | I10: =공종별내역서!J123 -> 0 | J10: =I10*D10 -> 0 | K10: =E10+G10+I10 -> 0 | L10: =F10+H10+J10 -> 0 | N10: 010104 | P10: 0101 | R10: 3
A11: 010105 방 수 공 사 | D11: 1 | E11: =공종별내역서!F147 -> 0 | F11: =E11*D11 -> 0 | G11: =공종별내역서!H147 -> 0 | H11: =G11*D11 -> 0 | I11: =공종별내역서!J147 -> 0 | J11: =I11*D11 -> 0 | K11: =E11+G11+I11 -> 0 | L11: =F11+H11+J11 -> 0 | N11: 010105 | P11: 0101 | R11: 3
A12: 010106 지붕 및 홈통공사 | D12: 1 | E12: =공종별내역서!F171 -> 0 | F12: =E12*D12 -> 0 | G12: =공종별내역서!H171 -> 0 | H12: =G12*D12 -> 0 | I12: =공종별내역서!J171 -> 0 | J12: =I12*D12 -> 0 | K12: =E12+G12+I12 -> 0 | L12: =F12+H12+J12 -> 0 | N12: 010106 | P12: 0101 | R12: 3
A13: 010107 금 속 공 사 | D13: 1 | E13: =공종별내역서!F195 -> 0 | F13: =E13*D13 -> 0 | G13: =공종별내역서!H195 -> 0 | H13: =G13*D13 -> 0 | I13: =공종별내역서!J195 -> 0 | J13: =I13*D13 -> 0 | K13: =E13+G13+I13 -> 0 | L13: =F13+H13+J13 -> 0 | N13: 010107 | P13: 0101 | R13: 3
A14: 010108 미 장 공 사 | D14: 1 | E14: =공종별내역서!F219 -> 0 | F14: =E14*D14 -> 0 | G14: =공종별내역서!H219 -> 0 | H14: =G14*D14 -> 0 | I14: =공종별내역서!J219 -> 0 | J14: =I14*D14 -> 0 | K14: =E14+G14+I14 -> 0 | L14: =F14+H14+J14 -> 0 | N14: 010108 | P14: 0101 | R14: 3
A15: 010109 창호 및 유리공사 | D15: 1 | E15: =공종별내역서!F243 -> 0 | F15: =E15*D15 -> 0 | G15: =공종별내역서!H243 -> 0 | H15: =G15*D15 -> 0 | I15: =공종별내역서!J243 -> 0 | J15: =I15*D15 -> 0 | K15: =E15+G15+I15 -> 0 | L15: =F15+H15+J15 -> 0 | N15: 010109 | P15: 0101 | R15: 3
A16: 010110 칠 공 사 | D16: 1 | E16: =공종별내역서!F267 -> 0 | F16: =E16*D16 -> 0 | G16: =공종별내역서!H267 -> 0 | H16: =G16*D16 -> 0 | I16: =공종별내역서!J267 -> 0 | J16: =I16*D16 -> 0 | K16: =E16+G16+I16 -> 0 | L16: =F16+H16+J16 -> 0 | N16: 010110 | P16: 0101 | R16: 3
A17: 010111 철 거 공 사 | D17: 1 | E17: =공종별내역서!F291 -> 0 | F17: =E17*D17 -> 0 | G17: =공종별내역서!H291 -> 0 | H17: =G17*D17 -> 0 | I17: =공종별내역서!J291 -> 0 | J17: =I17*D17 -> 0 | K17: =E17+G17+I17 -> 0 | L17: =F17+H17+J17 -> 0 | N17: 010111 | P17: 0101 | R17: 3
A18: 010112 건설폐기물처리비 | D18: 1 | E18: =공종별내역서!F315 -> 0 | F18: =E18*D18 -> 0 | G18: =공종별내역서!H315 -> 0 | H18: =G18*D18 -> 0 | I18: =공종별내역서!J315 -> 0 | J18: =I18*D18 -> 0 | K18: =E18+G18+I18 -> 0 | L18: =F18+H18+J18 -> 0 | N18: 010112 | Q18: 9 | R18: 3 | T18: =L18*1 -> 0
F19: =E19*D19 -> 0 | G19: =공종별내역서!H339 -> 0 | H19: =G19*D19 -> 0 | I19: =공종별내역서!J339 -> 0 | J19: =I19*D19 -> 0 | K19: =E19+G19+I19 -> 0 | L19: =F19+H19+J19 -> 0 | N19: 010113 | Q19: 3 | R19: 3 | T19: =L19*1 -> 0
A27: [ 합 계 ] | F27: =F5 -> 0 | H27: =H5 -> 0 | J27: =J5 -> 0 | L27: =L5 -> 0

Sheet 공종별내역서
A1: [ 케이블카정비고 증축공사 ]
A2: 품 명 | B2: 규 격 | C2: 단위 | D2: 수량 | E2: 재 료 비 | G2: 노 무 비 | I2: 경 비 | K2: 합 계 | M2: 비 고 | N2: 품목코드 | O2: 변수 | P2: 설정 | Q2: 공종코드 | R2: 일위 | S2: 단산 | T2: 자재 | U2: 손료적용 | V2: 손료저장 | W2: 적용율 | X2: JUK1 | Y2: JUK2 | Z2: JUK3 | AA2: JUK4 | AB2: JUK5 | AC2: JUK6 | AD2: JUK7 | AE2: JUK8 | AF2: JUK9 | AG2: JUK10 | AH2: JUK11 | AI2: JUK12 | AJ2: JUK13 | AK2: JUK14 | AL2: JUK15 | AM2: JUK16 | AN2: JUK17 | AO2: JUK18 | AP2: JUK19 | AQ2: JUK20 | AR2: 자재구분 | AS2: 공종구분 | AT2: 공종레벨 | AU2: 공종+자재 | AV2: 고유번호
E3: 단 가 | F3: 금 액 | G3: 단 가 | H3: 금 액 | I3: 단 가 | J3: 금 액 | K3: 단 가 | L3: 금 액
A4: 010101 가 설 공 사 | Q4: 010101
A5: 강관비계매기/쌍줄 10m이하. | B5: 3개월(발판 유) | C5: ㎡ | D5: 299.2 | N5: 57B3C14B6F8B5C707F8E7C49379E4A | Q5: 010101 | R5: T | S5: F | T5: F | AU5: 01010157B3C14B6F8B5C707F8E7C49379E4A | AV5: 4
A6: 수평규준틀 | B6: 평 | C6: 개소 | D6: 6 | N6: 57B3C14B6F8B5C71028DDCDE8798D9 | Q6: 010101 | R6: T | S6: F | T6: F | AU6: 01010157B3C14B6F8B5C71028DDCDE8798D9 | AV6: 5
A7: 수평규준틀 | B7: 귀 | C7: 개소 | D7: 2 | N7: 57B3C14B6F8B5C71028DDCE8FE92E9 | Q7: 010101 | R7: T | S7: F | T7: F | AU7: 01010157B3C14B6F8B5C71028DDCE8FE92E9 | AV7: 6
A8: 조립식강관동바리(시스템동바리-자재포함) | B8: 10.0m 이하,3개월 | C8: 10공㎥ | D8: 89 | N8: 57B3C14B6F8B5FC7C88F84ECFC9E86 | Q8: 010101 | R8: T | S8: F | T8: F | AU8: 01010157B3C14B6F8B5FC7C88F84ECFC9E86 | AV8: 94
A9: 건축물현장정리 | B9: 철근콘크리트조 | C9: M2 | D9: 123.8 | N9: 57B3C14B3282B87100833A79CF94D1 | Q9: 010101 | R9: T | S9: F | T9: F | AU9: 01010157B3C14B3282B87100833A79CF94D1 | AV9: 8
A10: 먹메김. | B10: 일반 | C10: M2 | D10: 123.8 | N10: 57B3C14B328197F1488E8797CF9B83 | Q10: 010101 | R10: T | S10: F | T10: F | AU10: 01010157B3C14B328197F1488E8797CF9B83 | AV10: 9
A27: [ 합 계 ] | F27: =SUM(F5:F26) -> 0 | H27: =SUM(H5:H26) -> 0 | J27: =SUM(J5:J26) -> 0 | L27: =SUM(L5:L26) -> 0 | N27: TOTAL
A28: 010102 토 및 지정공사 | Q28: 010102
A29: 터파기(기계) | B29: 보통토사, 백호0.7m3 | C29: M3 | D29: 81.8 | N29: 57B3F14E938699847E8AAF1045971F | Q29: 010102 | R29: T | S29: F | T29: F | AU29: 01010257B3F14E938699847E8AAF1045971F | AV29: 11
A30: 되메우고 다지기(백호+래머) | B30: 토사, T=15cm | C30: M3 | D30: 43.5 | N30: 57B3F14EF481124EEA8479BC759CD4 | Q30: 010102 | R30: T | S30: F | T30: F | AU30: 01010257B3F14EF481124EEA8479BC759CD4 | AV30: 12
A31: 혼합깔기지정 | B31: 백호0.7M3+래머80kg | C31: ㎥ | D31: 20.6 | N31: 57B3E148518161824D87CD16929715 | Q31: 010102 | R31: T | S31: F | T31: F | AU31: 01010257B3E148518161824D87CD16929715 | AV31: 13
A32: 방습필름 - 바닥 | B32: 폴리에틸렌필름, 두께, 0.05mm, 2겹 | C32: M2 | D32: 104.4 | N32: 57B3214B72863878A48687107493E7 | Q32: 010102 | R32: T | S32: F | T32: F | AU32: 01010257B3214B72863878A48687107493E7 | AV32: 14
A33: 잔토처리 10km | B33: 보통, 덤프 15톤+백호0.7 | C33: M3 | D33: 38.4 | N33: 579F4140D08B065B008995B3DA9C59 | Q33: 010102 | R33: F | S33: T | T33: F | AU33: 010102579F4140D08B065B008995B3DA9C59 | AV33: 15
A51: [ 합 계 ] | F51: =SUM(F29:F50) -> 0 | H51: =SUM(H29:H50) -> 0 | J51: =SUM(J29:J50) -> 0 | L51: =SUM(L29:L50) -> 0 | N51: TOTAL
A52: 010103 철근콘크리트공사 | Q52: 010103
A53: 철근콘크리트용봉강/관급 | B53: 이형봉강(SD400), HD-10, 하치장상차도 | C53: TON | D53: 4.1 | M53: 관급자재 | N53: 5098C1444D8BA05648813888EC9C78964FBA23 | R53: F | S53: F | T53: T | AR53: 관급자재 | AU53: 0101035098C1444D8BA05648813888EC9C78964FBA23 | AV53: 18
A54: 철근콘크리트용봉강/관급 | B54: 이형봉강(SD400), HD-13, 하치장상차도 | C54: TON | D54: 7.6 | M54: 관급자재 | N54: 5098C1444D8BA05648813888EC9C78964FBA24 | R54: F | S54: F | T54: T | AR54: 관급자재 | AU54: 0101035098C1444D8BA05648813888EC9C78964FBA24 | AV54: 19
A55: 철근콘크리트용봉강/관급 | B55: 이형봉강(SD400), HD-19, 하치장상차도 | C55: TON | D55: 0.5 | M55: 관급자재 | N55: 5098C1444D8BA05648813888EC9C78964FBA26 | R55: F | S55: F | T55: T | AR55: 관급자재 | AU55: 0101035098C1444D8BA05648813888EC9C78964FBA26 | AV55: 20
A56: 철근콘크리트용봉강/관급 | B56: 이형봉강(SD400), HD-22, 하치장상차도 | C56: TON | D56: 9.6 | M56: 관급자재 | N56: 5098C1444D8BA05648813888EC9C78964FBA27 | R56: F | S56: F | T56: T | AR56: 관급자재 | AU56: 0101035098C1444D8BA05648813888EC9C78964FBA27 | AV56: 21
A57: 레미콘/관급 | B57: 레미콘, 경남지역(거제, 통영권), 25-18-08 | C57: M3 | D57: 38.4 | M57: 관급자재 | N57: 5098C1444D8A9A00528C2112C694A071819E6F | R57: F | S57: F | T57: T | AR57: 관급자재 | AU57: 0101035098C1444D8A9A00528C2112C694A071819E6F | AV57: 22
A58: 레미콘/관급 | B58: 레미콘, 경남지역(거제, 통영권), 25-24-15 | C58: M3 | D58: 131.7 | M58: 관급자재 | N58: 5098C1444D8A9A00528C2112C694A071819F05 | R58: F | S58: F | T58: T | AR58: 관급자재 | AU58: 0101035098C1444D8A9A00528C2112C694A071819F05 | AV58: 23
A59: 합판 거푸집 설치 및 해체 | B59: 1회 사용시, 0~7m까지 | C59: M2 | D59: 231.6 | N59: 57B391403188F7066C81067317981F | Q59: 010103 | R59: T | S59: F | T59: F | AU59: 01010357B391403188F7066C81067317981F | AV59: 24
A60: 합판 거푸집 설치 및 해체 | B60: 4회 사용시, 0~7m까지 | C60: M2 | D60: 181.4 | N60: 57B391403188F7066C81062B0C9428 | Q60: 010103 | R60: T | S60: F | T60: F | AU60: 01010357B391403188F7066C81062B0C9428 | AV60: 25
A61: 유로폼 설치 및 해체 | B61: 벽, 0~7m까지 | C61: M2 | D61: 442.7 | N61: 57B39140318D77925A8CE14730922C | Q61: 010103 | R61: T | S61: F | T61: F | AU61: 01010357B39140318D77925A8CE14730922C | AV61: 26
A62: 현장 철근 가공 및 조립 | B62: 보통(미할증) | C62: TON | D62: 21.2 | N62: 57B39140048416FAF28F51BEFB9985 | Q62: 010103 | R62: T | S62: F | T62: F | AU62: 01010357B39140048416FAF28F51BEFB9985 | AV62: 27
A63: 기존구조체연결 보강 HD10 | B63: HY-150 | C63: 개소 | D63: 176 | N63: 57B391400480BB49B68EF80B779B29 | Q63: 010103 | R63: T | S63: F | T63: F | AU63: 01010357B391400480BB49B68EF80B779B29 | AV63: 108
A64: 기존구조체연결 보강 HD13 | B64: HY-150 | C64: 개소 | D64: 130 | N64: 57B391400480BB49B68EF80B779852 | Q64: 010103 | R64: T | S64: F | T64: F | AU64: 01010357B391400480BB49B68EF80B779852 | AV64: 109
A65: 기존구조체연결 보강 HD22 | B65: HY-150 | C65: 개소 | D65: 80 | N65: 57B391400480BB49B68EF80B779F82 | Q65: 010103 | R65: T | S65: F | T65: F | AU65: 01010357B391400480BB49B68EF80B779F82 | AV65: 110
A66: 무근콘크리트 타설 / 펌프차(43m) | B66: 슬럼프=8∼12, 1일 타설량=50m3 미만, 붐타설 | C66: M3 | D66: 37.7 | N66: 57B39140438EF832198D21D98B90DC | Q66: 010103 | R66: T | S66: F | T66: F | AU66: 01010357B39140438EF832198D21D98B90DC | AV66: 28
A67: 철근콘크리트 타설 / 펌프차(43m) | B67: 슬럼프=15, 1일 타설량=300m3 이상, 붐타설 | C67: M3 | D67: 130.4 | N67: 57B39140438DD125E78769895195B7 | Q67: 010103 | R67: T | S67: F | T67: F | AU67: 01010357B39140438DD125E78769895195B7 | AV67: 29
A68: 소 계 | N68: 5607D145E28B53EB9F8FDC709B9A | R68: F | S68: F | T68: F | AU68: 0101035607D145E28B53EB9F8FDC709B9A | AV68: 95
A69: 철강설 | B69: 철강설, 고철, 작업설부산물 | C69: TON | D69: -0.6 | M69: 수집상차도 | N69: 50BBB1466787A4B63E8BC50C01917B2F9416B1 | Q69: 010103 | R69: F | S69: F | T69: T | AU69: 01010350BBB1466787A4B63E8BC50C01917B2F9416B1 | AV69: 17
A75: [ 합 계 ] | F75: =SUM(F53:F74) -F53-F54-F55-F56-F57-F58-F68 -> 0 | H75: =SUM(H53:H74) -H53-H54-H55-H56-H57-H58-H68 -> 0 | J75: =SUM(J53:J74) -J53-J54-J55-J56-J57-J58-J68 -> 0 | L75: =SUM(L53:L74) -L53-L54-L55-L56-L57-L58-L68 -> 0 | N75: TOTAL
A76: 010104 철 골 공 사 | Q76: 010104
A77: H빔 | B77: H빔, SS400, 200*200*8.0*12.0mm | C77: TON | D77: 1 | N77: 5098C1444D8BA05750816B653E99F36C6070F6 | Q77: 010104 | R77: F | S77: F | T77: T | AU77: 0101045098C1444D8BA05750816B653E99F36C6070F6 | AV77: 31
A78: H빔 | B78: H빔, SS400, 300*150*6.5*9.0mm | C78: TON | D78: 1.9 | N78: 5098C1444D8BA05750816B653E99F36C63CDEE | Q78: 010104 | R78: F | S78: F | T78: T | AU78: 0101045098C1444D8BA05750816B653E99F36C63CDEE | AV78: 32
...

Sheet Sheet1
